BEGIN:VCALENDAR
VERSION:2.0
PRODID:-//Kayenta Arts - ECPv6.15.20//NONSGML v1.0//EN
CALSCALE:GREGORIAN
METHOD:PUBLISH
X-WR-CALNAME:Kayenta Arts
X-ORIGINAL-URL:https://kayentaarts.org
X-WR-CALDESC:Events for Kayenta Arts
REFRESH-INTERVAL;VALUE=DURATION:PT1H
X-Robots-Tag:noindex
X-PUBLISHED-TTL:PT1H
BEGIN:VTIMEZONE
TZID:UTC
BEGIN:STANDARD
TZOFFSETFROM:+0000
TZOFFSETTO:+0000
TZNAME:UTC
DTSTART:20250101T000000
END:STANDARD
END:VTIMEZONE
BEGIN:VEVENT
DTSTART;TZID=UTC:20260422T160000
DTEND;TZID=UTC:20260422T180000
DTSTAMP:20260422T022331
CREATED:20260415T205205Z
LAST-MODIFIED:20260420T172554Z
UID:10005383-1776873600-1776880800@kayentaarts.org
SUMMARY:Kayenta 100 Storytelling Party
DESCRIPTION:Wednesday\, April 22\, 2026 & Wednesday\, April 29\, 2026\n4PM – 6PM\nIn the Lobby!\nShare your Kayenta story at the Kayenta 100 Story Booth! We’ll be recording short\, on-camera segments during a fun and casual social in the lobby. Prepare a story that can be told in five minutes or less—something inspiring\, heartfelt\, funny\, unusual\, or uniquely yours. If you’re not sure what to share\, we’ll be there to help you find your story. \nThere will be light refreshments and beverages. Hosted by Matt Marten and our staff!
URL:https://kayentaarts.org/event/kayenta-100-storytelling-party/2026-04-22/
LOCATION:Center for the Arts at Kayenta
CATEGORIES:Community
ATTACH;FMTTYPE=image/webp:https://kayentaarts.org/wp-content/uploads/2026/04/KAYENTA-100-DATE-CARD-4.webp
ORGANIZER;CN="Center for the Arts at Kayenta":MAILTO:boxoffice@kayentaarts.com
END:VEVENT
END:VCALENDAR