BEGIN:VCALENDAR
VERSION:2.0
PRODID:-//Kayenta Arts - ECPv6.15.20//NONSGML v1.0//EN
CALSCALE:GREGORIAN
METHOD:PUBLISH
X-ORIGINAL-URL:https://kayentaarts.org
X-WR-CALDESC:Events for Kayenta Arts
REFRESH-INTERVAL;VALUE=DURATION:PT1H
X-Robots-Tag:noindex
X-PUBLISHED-TTL:PT1H
BEGIN:VTIMEZONE
TZID:UTC
BEGIN:STANDARD
TZOFFSETFROM:+0000
TZOFFSETTO:+0000
TZNAME:UTC
DTSTART:20220101T000000
END:STANDARD
END:VTIMEZONE
BEGIN:VEVENT
DTSTART;TZID=UTC:20231022T183000
DTEND;TZID=UTC:20231022T210000
DTSTAMP:20260426T041103
CREATED:20230922T192520Z
LAST-MODIFIED:20230922T192559Z
UID:10005020-1697999400-1698008400@kayentaarts.org
SUMMARY:Sunday Night… All Right! with Dave Compton
DESCRIPTION:COMMUNITY EVENT\nSunday Night… All Right! with Dave Compton\nSunday\, October 22\, 2023\ndoors open at 6:30pm / music starts at 7:00pm\nKayenta Art Village Outdoor Theater\nJoin us for the fun Kayenta tradition of Sunday Night…All Right! at the Kayenta Village Outdoor Theater. Our October 22 date will feature musician Dave Compton! \nYou are welcome to bring a snack and/or beverage. Light snacks and non-alcoholic beverages will be available for sale. Join your friends as we celebrate the entry of the Fall season with songs that you love. \nDoors open at 6:30PM. Dave Compton will be performing from 7:00 to 9:00. \n\nTICKETS ON SALE SOON
URL:https://kayentaarts.org/event/sunday-night-all-right-with-dave-compton/
LOCATION:Center for the Arts at Kayenta
CATEGORIES:Community
ORGANIZER;CN="Center for the Arts at Kayenta":MAILTO:boxoffice@kayentaarts.com
END:VEVENT
END:VCALENDAR