BEGIN:VCALENDAR
VERSION:2.0
PRODID:-//Kayenta Arts - ECPv6.15.20//NONSGML v1.0//EN
CALSCALE:GREGORIAN
METHOD:PUBLISH
X-WR-CALNAME:Kayenta Arts
X-ORIGINAL-URL:https://kayentaarts.org
X-WR-CALDESC:Events for Kayenta Arts
REFRESH-INTERVAL;VALUE=DURATION:PT1H
X-Robots-Tag:noindex
X-PUBLISHED-TTL:PT1H
BEGIN:VTIMEZONE
TZID:UTC
BEGIN:STANDARD
TZOFFSETFROM:+0000
TZOFFSETTO:+0000
TZNAME:UTC
DTSTART:20230101T000000
END:STANDARD
END:VTIMEZONE
BEGIN:VEVENT
DTSTART;TZID=UTC:20240908T170000
DTEND;TZID=UTC:20240908T210000
DTSTAMP:20260425T124159
CREATED:20240715T181440Z
LAST-MODIFIED:20240715T181540Z
UID:10005121-1725814800-1725829200@kayentaarts.org
SUMMARY:Taste of the Town at Kayenta!
DESCRIPTION:Taste of the Town at Kayenta!\nHosted by St. George City Lifestyle Magazine & Kayenta Arts Foundation\nSunday\, September 8 // 5:00p-9:00p\nJoin us for an incredible evening celebrating our region’s diverse restaurant and growing wine & beer scenes beneath the breathtaking red rocks of Kayenta. This one-of-a-kind food and wine festival brings together the best of the best\, allowing patrons to sip\, savor\, and celebrate our community’s vibrant and growing culinary scene. \nAll proceeds benefit Kayenta Arts Foundation & The Arts in Southern Utah. \n\nTickets\n\nInformation for Vendors & Restaurants
URL:https://kayentaarts.org/event/taste-of-the-town-at-kayenta/
LOCATION:Center for the Arts at Kayenta
CATEGORIES:Community,Festival
ATTACH;FMTTYPE=image/png:https://kayentaarts.org/wp-content/uploads/2024/06/Screenshot-2024-06-11-124652.png
ORGANIZER;CN="Center for the Arts at Kayenta":MAILTO:boxoffice@kayentaarts.com
END:VEVENT
BEGIN:VEVENT
DTSTART;TZID=UTC:20240929T190000
DTEND;TZID=UTC:20240929T210000
DTSTAMP:20260425T124159
CREATED:20240831T201920Z
LAST-MODIFIED:20240831T201920Z
UID:10005142-1727636400-1727643600@kayentaarts.org
SUMMARY:Sunday Night… All Right! with Lisa Macfarlane
DESCRIPTION:Sunday Night… All Right! with Lisa Macfarlane\nSunday\, September 29\, 2024\n7:00pm-9:00pm\nKayenta Art Village Outdoor Theater\nJoin us for the fun Kayenta tradition of Sunday Night…All Right! at the Kayenta Village Outdoor Theater. Our September 29th date will feature Lisa Macfarlane! \nLisa Macfarlane was born and raised in St. George\, and has performed professionally since 2015\, touring the country and performing regularly in Las Vegas including the Palms\, Park MGM\, Mandalay Bay\, the Plaza\, and more. Her original music has been featured in the Southern Utah Independent\, Las Vegas Weekly\, the Las Vegas Review Journal\, Desert Companion\, and more. She is currently teaching private lessons and performing in Las Vegas\, NV and St. George UT. \nYou are welcome to bring a snack and/or beverage. Light snacks and non-alcoholic beverages will be available for sale. \nDoors open at 6:30pm \nTickets $15
URL:https://kayentaarts.org/event/sunday-night-all-right-with-lisa-macfarlane/
LOCATION:Center for the Arts at Kayenta
CATEGORIES:Community
ATTACH;FMTTYPE=image/jpeg:https://kayentaarts.org/wp-content/uploads/2024/08/1000000229.jpeg
ORGANIZER;CN="Center for the Arts at Kayenta":MAILTO:boxoffice@kayentaarts.com
END:VEVENT
END:VCALENDAR