BEGIN:VCALENDAR
VERSION:2.0
PRODID:-//Kayenta Arts - ECPv6.15.20//NONSGML v1.0//EN
CALSCALE:GREGORIAN
METHOD:PUBLISH
X-WR-CALNAME:Kayenta Arts
X-ORIGINAL-URL:https://kayentaarts.org
X-WR-CALDESC:Events for Kayenta Arts
REFRESH-INTERVAL;VALUE=DURATION:PT1H
X-Robots-Tag:noindex
X-PUBLISHED-TTL:PT1H
BEGIN:VTIMEZONE
TZID:UTC
BEGIN:STANDARD
TZOFFSETFROM:+0000
TZOFFSETTO:+0000
TZNAME:UTC
DTSTART:20230101T000000
END:STANDARD
END:VTIMEZONE
BEGIN:VEVENT
DTSTART;TZID=UTC:20241020T190000
DTEND;TZID=UTC:20241020T210000
DTSTAMP:20260425T111758
CREATED:20241007T215845Z
LAST-MODIFIED:20241019T204427Z
UID:10005185-1729450800-1729458000@kayentaarts.org
SUMMARY:Sunday Night… All Right! with Soul What?!
DESCRIPTION:Sunday Night… All Right! with Soul What?!\nSunday\, October 20\, 2024\nDoors at 6:30pm\n7:00pm-9:00pm\nKayenta Art Village Outdoor Theater\nJoin us for the fun Kayenta tradition of Sunday Night…All Right! at the Kayenta Village Outdoor Theater. Our October 20th date will feature Soul What?! \nThe lights are on at Kayenta’s Outdoor Theater for a blow out celebration of our perfect fall season. Join the entertainment as we dance and enjoy the bounties of the season. And what better way than to rock to the music of Soul What?! Because on October 20th it’s Sunday Night…All Right \nYou are welcome to bring a snack and/or beverage. Light snacks and non-alcoholic beverages will be available for sale. \nDoors open at 6:30pm \nTickets $15
URL:https://kayentaarts.org/event/sunday-night-all-right-with-soul-what/
LOCATION:Center for the Arts at Kayenta
CATEGORIES:Community
ATTACH;FMTTYPE=image/jpeg:https://kayentaarts.org/wp-content/uploads/2024/10/SOULWHAT.jpg
ORGANIZER;CN="Center for the Arts at Kayenta":MAILTO:boxoffice@kayentaarts.com
END:VEVENT
END:VCALENDAR