BEGIN:VCALENDAR
VERSION:2.0
PRODID:-//Kayenta Arts - ECPv6.15.20//NONSGML v1.0//EN
CALSCALE:GREGORIAN
METHOD:PUBLISH
X-WR-CALNAME:Kayenta Arts
X-ORIGINAL-URL:https://kayentaarts.org
X-WR-CALDESC:Events for Kayenta Arts
REFRESH-INTERVAL;VALUE=DURATION:PT1H
X-Robots-Tag:noindex
X-PUBLISHED-TTL:PT1H
BEGIN:VTIMEZONE
TZID:UTC
BEGIN:STANDARD
TZOFFSETFROM:+0000
TZOFFSETTO:+0000
TZNAME:UTC
DTSTART:20230101T000000
END:STANDARD
END:VTIMEZONE
BEGIN:VEVENT
DTSTART;TZID=UTC:20241202T193000
DTEND;TZID=UTC:20241202T210000
DTSTAMP:20260423T181703
CREATED:20241106T005014Z
LAST-MODIFIED:20241106T005014Z
UID:10005187-1733167800-1733173200@kayentaarts.org
SUMMARY:Christmas CELLObration!
DESCRIPTION:MUSIC / COMMUNITY\nChristmas CELLObration!\nMonday\, December 2\, 7:30pm\nThe Lorraine Boccardo Theater\nThe Cello Society of Southern Utah will bring some beautiful carols and fun holiday music to you performed by cellos in multiple parts!  We are especially excited to have mezzo-soprano Melissa Glenn to be our soloist doing Christmas favorites such as O Holy Night\, Winter Wonderland\, Mele Kalikimaka and a few other selections. \nPart of the Christmas & Community programming at the Center for the Arts at Kayenta. \n\n\n\n\n\nDr. Melissa Walker Glenn holds a doctoral degree in voice performance from Arizona State University\, a master’s degree in voice performance and literature from the Eastman School of Music\, and a bachelor’s degree in vocal performance from Brigham Young University–Hawaii. She runs an innovative and successful studio of classical\, musical theatre\, and CCM voice majors. \nTickets $20
URL:https://kayentaarts.org/event/christmas-cellobration/
LOCATION:Center for the Arts at Kayenta
CATEGORIES:Community
ATTACH;FMTTYPE=image/jpeg:https://kayentaarts.org/wp-content/uploads/2024/11/cello-rendezvous_4.jpg
ORGANIZER;CN="Center for the Arts at Kayenta":MAILTO:boxoffice@kayentaarts.com
END:VEVENT
BEGIN:VEVENT
DTSTART;TZID=UTC:20241206T170000
DTEND;TZID=UTC:20241206T200000
DTSTAMP:20260423T181703
CREATED:20241126T191029Z
LAST-MODIFIED:20241206T181446Z
UID:10005193-1733504400-1733515200@kayentaarts.org
SUMMARY:FIRST FRIDAY
DESCRIPTION:COMMUNITY\nFirst Fridays at Kayenta\nevery First Friday / 5:00pm-8:00pm\nFREE to attend!\nKayenta Art Village\nWe’re thrilled to introduce First Fridays at Kayenta\, happening on the first Friday of every month\, September through June! Enjoy live music\, food trucks\, and a pop-up boutique market in the Kayenta Art Village beginning at 5:00pm\, with film screenings in the theater presented by DOCUTAH\, and good vibes all around. \n Photo courtesy of Donna Conversano / www.conversanophoto.com
URL:https://kayentaarts.org/event/first-friday/2024-12-06/
LOCATION:Center for the Arts at Kayenta
CATEGORIES:Community,First Fridays
ATTACH;FMTTYPE=image/jpeg:https://kayentaarts.org/wp-content/uploads/2024/05/Untitled-design-3-scaled.jpg
ORGANIZER;CN="Center for the Arts at Kayenta":MAILTO:boxoffice@kayentaarts.com
END:VEVENT
BEGIN:VEVENT
DTSTART;TZID=UTC:20241211T193000
DTEND;TZID=UTC:20241211T213000
DTSTAMP:20260423T181703
CREATED:20241123T003122Z
LAST-MODIFIED:20241123T003122Z
UID:10005189-1733945400-1733952600@kayentaarts.org
SUMMARY:Twinkling Tinsel Talent Show Night 1!
DESCRIPTION:Join us for the SECOND ANNUAL Twinkling Tinsel Talent Show at the Center for the Arts at Kayenta! This holiday season\, we are celebrating community and finding joy in local talent of all types. \nAmazing talent from across Washington County will compete to win a $1\,000 Grand Prize and a $500 Audience Choice. Be a part of it! \nWednesday 12/11 Talent:\nStone Colossus \nChase McPhie \nSadie Barrowes \nMicaela Musser \nDan Davie \nTrey Paterson \nLilly Pearson & Zoey Wilhelmsen \nJesse Barraclough \nTICKETS
URL:https://kayentaarts.org/event/twinkling-tinsel-talent-show-night-1/
LOCATION:Center for the Arts at Kayenta
CATEGORIES:Community
ATTACH;FMTTYPE=image/jpeg:https://kayentaarts.org/wp-content/uploads/2024/10/ttts-HOSTS.jpg
ORGANIZER;CN="Center for the Arts at Kayenta":MAILTO:boxoffice@kayentaarts.com
END:VEVENT
BEGIN:VEVENT
DTSTART;TZID=UTC:20241213T193000
DTEND;TZID=UTC:20241213T213000
DTSTAMP:20260423T181703
CREATED:20241123T003400Z
LAST-MODIFIED:20241123T003400Z
UID:10005190-1734118200-1734125400@kayentaarts.org
SUMMARY:Twinkling Tinsel Talent Show Night 2!
DESCRIPTION:Join us for the SECOND ANNUAL Twinkling Tinsel Talent Show at the Center for the Arts at Kayenta! This holiday season\, we are celebrating community and finding joy in local talent of all types. \nAmazing talent from across Washington County will compete to win a $1\,000 Grand Prize and a $500 Audience Choice. Be a part of it! \nFriday 12/13 Talent:\nChristian Erickson \nZaiden Wilhelmsen \nLeonora Lund \nBraylyn Larson & Dresden Keate \nAustin Roy \nBella Gillette \nThe Knells! \nTICKETS
URL:https://kayentaarts.org/event/twinkling-tinsel-talent-show-night-2/
LOCATION:Center for the Arts at Kayenta
CATEGORIES:Community
ATTACH;FMTTYPE=image/jpeg:https://kayentaarts.org/wp-content/uploads/2024/10/ttts-HOSTS.jpg
ORGANIZER;CN="Center for the Arts at Kayenta":MAILTO:boxoffice@kayentaarts.com
END:VEVENT
BEGIN:VEVENT
DTSTART;TZID=UTC:20241214T193000
DTEND;TZID=UTC:20241214T213000
DTSTAMP:20260423T181703
CREATED:20241123T003623Z
LAST-MODIFIED:20241123T003623Z
UID:10005191-1734204600-1734211800@kayentaarts.org
SUMMARY:Twinkling Tinsel Talent Show Night 3!
DESCRIPTION:Join us for the SECOND ANNUAL Twinkling Tinsel Talent Show at the Center for the Arts at Kayenta! This holiday season\, we are celebrating community and finding joy in local talent of all types. \nAmazing talent from across Washington County will compete to win a $1\,000 Grand Prize and a $500 Audience Choice. Be a part of it! \nSaturday 12/14 Talent:\nLiv Harter \nRoxie Sparling & Brielle McWillis \nBee Manesse \nZach Wilhelmsen \nAshlyn Holt \nThe McDonald Siblings \nTICKETS
URL:https://kayentaarts.org/event/twinkling-tinsel-talent-show-night-3/
LOCATION:Center for the Arts at Kayenta
CATEGORIES:Community
ATTACH;FMTTYPE=image/jpeg:https://kayentaarts.org/wp-content/uploads/2024/10/ttts-HOSTS.jpg
ORGANIZER;CN="Center for the Arts at Kayenta":MAILTO:boxoffice@kayentaarts.com
END:VEVENT
BEGIN:VEVENT
DTSTART;TZID=UTC:20241218T193000
DTEND;TZID=UTC:20241218T213000
DTSTAMP:20260423T181703
CREATED:20241123T003826Z
LAST-MODIFIED:20241213T001225Z
UID:10005192-1734550200-1734557400@kayentaarts.org
SUMMARY:Twinkling Tinsel Talent Show GRAND FINALE!
DESCRIPTION:Join us for the SECOND ANNUAL Twinkling Tinsel Talent Show at the Center for the Arts at Kayenta! This holiday season\, we are celebrating community and finding joy in local talent of all types. \nAmazing talent from across Washington County will compete to win a $1\,000 Grand Prize and a $500 Audience Choice. Be a part of it! \n  \nTickets $25
URL:https://kayentaarts.org/event/twinkling-tinsel-talent-show-grand-finale-2/
LOCATION:Center for the Arts at Kayenta
CATEGORIES:Community
ATTACH;FMTTYPE=image/jpeg:https://kayentaarts.org/wp-content/uploads/2024/10/0192_Kayenta_20231220__Z084184_1743-Enhanced-NR-scaled.jpg
ORGANIZER;CN="Center for the Arts at Kayenta":MAILTO:boxoffice@kayentaarts.com
END:VEVENT
END:VCALENDAR