BEGIN:VCALENDAR
VERSION:2.0
PRODID:-//Kayenta Arts - ECPv6.15.20//NONSGML v1.0//EN
CALSCALE:GREGORIAN
METHOD:PUBLISH
X-WR-CALNAME:Kayenta Arts
X-ORIGINAL-URL:https://kayentaarts.org
X-WR-CALDESC:Events for Kayenta Arts
REFRESH-INTERVAL;VALUE=DURATION:PT1H
X-Robots-Tag:noindex
X-PUBLISHED-TTL:PT1H
BEGIN:VTIMEZONE
TZID:UTC
BEGIN:STANDARD
TZOFFSETFROM:+0000
TZOFFSETTO:+0000
TZNAME:UTC
DTSTART:20240101T000000
END:STANDARD
END:VTIMEZONE
BEGIN:VEVENT
DTSTART;TZID=UTC:20250606T170000
DTEND;TZID=UTC:20250606T200000
DTSTAMP:20260423T085736
CREATED:20241126T191029Z
LAST-MODIFIED:20241206T181446Z
UID:10005209-1749229200-1749240000@kayentaarts.org
SUMMARY:FIRST FRIDAY
DESCRIPTION:COMMUNITY\nFirst Fridays at Kayenta\nevery First Friday / 5:00pm-8:00pm\nFREE to attend!\nKayenta Art Village\nWe’re thrilled to introduce First Fridays at Kayenta\, happening on the first Friday of every month\, September through June! Enjoy live music\, food trucks\, and a pop-up boutique market in the Kayenta Art Village beginning at 5:00pm\, with film screenings in the theater presented by DOCUTAH\, and good vibes all around. \n Photo courtesy of Donna Conversano / www.conversanophoto.com
URL:https://kayentaarts.org/event/first-friday/2025-06-06/
LOCATION:Center for the Arts at Kayenta
CATEGORIES:Community,First Fridays
ATTACH;FMTTYPE=image/jpeg:https://kayentaarts.org/wp-content/uploads/2024/05/Untitled-design-3-scaled.jpg
ORGANIZER;CN="Center for the Arts at Kayenta":MAILTO:boxoffice@kayentaarts.com
END:VEVENT
BEGIN:VEVENT
DTSTART;TZID=UTC:20250615T193000
DTEND;TZID=UTC:20250615T213000
DTSTAMP:20260423T085736
CREATED:20250608T195720Z
LAST-MODIFIED:20250608T195720Z
UID:10005269-1750015800-1750023000@kayentaarts.org
SUMMARY:Sunday Night... Alright! with The Relics
DESCRIPTION:Sunday Night… Alright! with The Relics\nSunday\, June 15\, 2025\n7:30pm-9:30pm\nKayenta Art Village Outdoor Theater\nJoin us at the Kayenta Village Outdoor Theatre with The Relics! This favorite local band has been seen performing in breweries\, lounges\, festivals and corporate and private events— where they’ve learned a great deal about supporting their community while remaining old\, fragile and highly desired. Like fine wine\, they get better with age. Join your friends as we celebrate the new season’s warmer weather with music and dancing. \nDoors open at 7:00PM and The Relics perform from 7:30pm-9:30pm. Feel free to bring your own snacks and beverages. Sit back and prepare for a great toe-tapping time! \nTICKETS
URL:https://kayentaarts.org/event/sunday-night-alright-with-the-relics/
LOCATION:Kayenta Outdoor Theater\, 881 Coyote Gulch Court\, Ivins\, UT\, 84738\, United States
CATEGORIES:Community
ATTACH;FMTTYPE=image/png:https://kayentaarts.org/wp-content/uploads/2025/04/Sunday-Night.-Alright-with-The-Relics-2.png
ORGANIZER;CN="Center for the Arts at Kayenta":MAILTO:boxoffice@kayentaarts.com
END:VEVENT
END:VCALENDAR