BEGIN:VCALENDAR
VERSION:2.0
PRODID:-//Kayenta Arts - ECPv6.15.20//NONSGML v1.0//EN
CALSCALE:GREGORIAN
METHOD:PUBLISH
X-ORIGINAL-URL:https://kayentaarts.org
X-WR-CALDESC:Events for Kayenta Arts
REFRESH-INTERVAL;VALUE=DURATION:PT1H
X-Robots-Tag:noindex
X-PUBLISHED-TTL:PT1H
BEGIN:VTIMEZONE
TZID:UTC
BEGIN:STANDARD
TZOFFSETFROM:+0000
TZOFFSETTO:+0000
TZNAME:UTC
DTSTART:20220101T000000
END:STANDARD
END:VTIMEZONE
BEGIN:VEVENT
DTSTART;TZID=UTC:20231006T193000
DTEND;TZID=UTC:20231006T193000
DTSTAMP:20260425T031056
CREATED:20230803T225021Z
LAST-MODIFIED:20230815T004544Z
UID:10004990-1696620600-1696620600@kayentaarts.org
SUMMARY:The Ririe-Woodbury Dance Company
DESCRIPTION:DANCE\nThe Ririe-Woodbury Dance Company\nRirie-Woodbury Dance Company\, now in it’s 60th Anniversary Season\, presents an evening of tantalizing dance. Performed at the Center for the Arts at Kayenta\, this concert will include three stunning pieces. To Have and To Hold (1989) choreographed by Danial Shapiro and Joanie Smith explores themes of love and loss. This iconic piece was restaged on the Company in 2022 for the third time in its history. Long View by Molly Heller is inspired by visual elements of “Full View\,” a multi-media work Heller created in 2020 for the Company in collaboration with the Salt Lake City based Heartland Collective. Long View asks us to believe that the future is looking out for us while merging singular\, complex\, and dreaming realities. Daniel Charon’s On Being (2021) was created post social distancing and celebrates connection\, community\, and an awareness of those around us as the Company dancers explore physical connection and people moving in space together. \nJoin us for a spectacular evening of contemporary dance\, featuring three dynamic works from the company’s repertoire. \nOn Being / Choreography by Daniel Charon \nLong View / Choreography by Molly Heller with Brian Gerke \nTo Have and To Hold / Choreography by Danial Shapiro and Joanie Smith \nTickets $35
URL:https://kayentaarts.org/event/the-ririe-woodbury-dance-company/
LOCATION:Center for the Arts at Kayenta
CATEGORIES:Dance
ORGANIZER;CN="Center for the Arts at Kayenta":MAILTO:boxoffice@kayentaarts.com
END:VEVENT
BEGIN:VEVENT
DTSTART;TZID=UTC:20231007T193000
DTEND;TZID=UTC:20231007T193000
DTSTAMP:20260425T031056
CREATED:20230803T230623Z
LAST-MODIFIED:20230803T230752Z
UID:10004991-1696707000-1696707000@kayentaarts.org
SUMMARY:The Ririe-Woodbury Dance Company
DESCRIPTION:DANCE\nThe Ririe-Woodbury Dance Company\nDiscover the world of contemporary dance with The Ririe-Woodbury Dance Company\, Utah’s foremost institution for this art form. Witness three dynamic works from the Company’s repertoire: “On Being\,” “Long View\,” and “To Have and To Hold.” Join us for a spectacular evening of dance that explores themes of human existence\, self-discovery\, and relationships\, all presented with a passion for artistic expression and a belief that “dance is for everybody.” \nTickets $35
URL:https://kayentaarts.org/event/the-ririe-woodbury-dance-company-2/
LOCATION:Center for the Arts at Kayenta
CATEGORIES:Dance
ORGANIZER;CN="Center for the Arts at Kayenta":MAILTO:boxoffice@kayentaarts.com
END:VEVENT
END:VCALENDAR