BEGIN:VCALENDAR
VERSION:2.0
PRODID:-//Kayenta Arts - ECPv6.15.20//NONSGML v1.0//EN
CALSCALE:GREGORIAN
METHOD:PUBLISH
X-WR-CALNAME:Kayenta Arts
X-ORIGINAL-URL:https://kayentaarts.org
X-WR-CALDESC:Events for Kayenta Arts
REFRESH-INTERVAL;VALUE=DURATION:PT1H
X-Robots-Tag:noindex
X-PUBLISHED-TTL:PT1H
BEGIN:VTIMEZONE
TZID:UTC
BEGIN:STANDARD
TZOFFSETFROM:+0000
TZOFFSETTO:+0000
TZNAME:UTC
DTSTART:20230101T000000
END:STANDARD
END:VTIMEZONE
BEGIN:VEVENT
DTSTART;TZID=UTC:20240705T180000
DTEND;TZID=UTC:20240705T210000
DTSTAMP:20260424T102959
CREATED:20240612T182329Z
LAST-MODIFIED:20240612T182329Z
UID:10005100-1720202400-1720213200@kayentaarts.org
SUMMARY:First Fridays at Kayenta
DESCRIPTION:Events & Happenings\nFirst Fridays at Kayenta\nevery First Friday / 6:00p-9:00p\nFREE to attend!\nKayenta Art Village\nWe’re thrilled to introduce First Fridays at Kayenta\, launching March 1 and happening on the first Friday of every month in 2024! Enjoy live music\, food\, and fun in the Kayenta Art Village.
URL:https://kayentaarts.org/event/first-fridays-at-kayenta-4/
LOCATION:Center for the Arts at Kayenta
CATEGORIES:First Fridays
ATTACH;FMTTYPE=image/png:https://kayentaarts.org/wp-content/uploads/2024/02/firstfriday_logoconcepts-02-e1708029095942.png
ORGANIZER;CN="Center for the Arts at Kayenta":MAILTO:boxoffice@kayentaarts.com
END:VEVENT
END:VCALENDAR