BEGIN:VCALENDAR
VERSION:2.0
PRODID:-//Kayenta Arts - ECPv6.15.20//NONSGML v1.0//EN
CALSCALE:GREGORIAN
METHOD:PUBLISH
X-ORIGINAL-URL:https://kayentaarts.org
X-WR-CALDESC:Events for Kayenta Arts
REFRESH-INTERVAL;VALUE=DURATION:PT1H
X-Robots-Tag:noindex
X-PUBLISHED-TTL:PT1H
BEGIN:VTIMEZONE
TZID:UTC
BEGIN:STANDARD
TZOFFSETFROM:+0000
TZOFFSETTO:+0000
TZNAME:UTC
DTSTART:20230101T000000
END:STANDARD
END:VTIMEZONE
BEGIN:VEVENT
DTSTART;TZID=UTC:20240802T173000
DTEND;TZID=UTC:20240802T210000
DTSTAMP:20260424T090721
CREATED:20240612T182715Z
LAST-MODIFIED:20240725T173850Z
UID:10005101-1722619800-1722632400@kayentaarts.org
SUMMARY:First Fridays at Kayenta
DESCRIPTION:Events & Happenings\nFirst Fridays at Kayenta\nevery First Friday / 5:30p-7:30p and later\nFREE to attend!\nKayenta Art Village\nWe’re thrilled to introduce First Fridays at Kayenta\, happening on the first Friday of every month in 2024! Enjoy live music\, food\, and fun in the Kayenta Art Village beginning at 5:30pm\, with film screenings in the theater\, and good vibes all around. \n  \nFriday August 2 Lineup:\n \n\n\n5:30p-7:30p VISUAL ART Reception\nJeremy Salazar / Three Feather Studios \nThe Center for the Arts at Kayenta Lobby \n \n5:30p-7:30p FMASU Presents:\nSummer Shorts!  \nShort films cycling throughout the evening indoors at the Center for the Arts at Kayenta \n  \n6:00p-8:30p Live Music in the Courtyard\nSoul What?! \nThe Center for the Arts at Kayenta Courtyard \n  \nGuest Vendors:\nLos Elementos \nEden Apotheca \nCrazed coyote \nWildFlowr Denim \nBlissful Bites by E&E Confections \nFrankie and Stars  \nLavish Links \nSilver Forge \n  \nFood Trucks:\nThe Hearty Beet\, LLC \nWild Goat Coffee Co. \nZeppes \n\n\n\n\n\n \n\n\n\n 
URL:https://kayentaarts.org/event/first-fridays-at-kayenta-5/
LOCATION:Center for the Arts at Kayenta
CATEGORIES:First Fridays
ATTACH;FMTTYPE=image/png:https://kayentaarts.org/wp-content/uploads/2024/05/Screenshot-2024-07-20-112934.png
ORGANIZER;CN="Center for the Arts at Kayenta":MAILTO:boxoffice@kayentaarts.com
END:VEVENT
END:VCALENDAR