BEGIN:VCALENDAR
VERSION:2.0
PRODID:-//Kayenta Arts - ECPv6.15.20//NONSGML v1.0//EN
CALSCALE:GREGORIAN
METHOD:PUBLISH
X-WR-CALNAME:Kayenta Arts
X-ORIGINAL-URL:https://kayentaarts.org
X-WR-CALDESC:Events for Kayenta Arts
REFRESH-INTERVAL;VALUE=DURATION:PT1H
X-Robots-Tag:noindex
X-PUBLISHED-TTL:PT1H
BEGIN:VTIMEZONE
TZID:UTC
BEGIN:STANDARD
TZOFFSETFROM:+0000
TZOFFSETTO:+0000
TZNAME:UTC
DTSTART:20230101T000000
END:STANDARD
END:VTIMEZONE
BEGIN:VEVENT
DTSTART;TZID=UTC:20240906T173000
DTEND;TZID=UTC:20240906T200000
DTSTAMP:20260424T064916
CREATED:20240810T174155Z
LAST-MODIFIED:20240810T174155Z
UID:10005131-1725643800-1725652800@kayentaarts.org
SUMMARY:First Fridays at Kayenta
DESCRIPTION:Events & Happenings\nFirst Fridays at Kayenta\nevery First Friday / 5:30p-7:30p and later\nFREE to attend!\nKayenta Art Village\nWe’re thrilled to introduce First Fridays at Kayenta\, happening on the first Friday of every month in 2024! Enjoy live music\, food\, and fun in the Kayenta Art Village beginning at 5:30pm\, with film screenings in the theater\, and good vibes all around. \n\n\n\n\n\nThis month’s First Friday at Kayenta is generously sponsored by \nA Bit of Extra Boutique! \n\n\n\nFriday September 6 Lineup:\nGuest Vendors:\nLos Elementos \nBeccaboo Designs \nEden Apotheca \nTipsy Cocktail Supply Co. \nDusty Desert Silver \nCrazed Coyote \nWildFlowr Denim \nBlissful Bites by E&E Confections \nLavish Links \nSilver Forge \nFrankie and Stars \nFood Trucks:\nYogi snow + treats \nWild Goat Coffee Co.
URL:https://kayentaarts.org/event/first-fridays-at-kayenta-6/
LOCATION:Center for the Arts at Kayenta
CATEGORIES:First Fridays
ATTACH;FMTTYPE=image/png:https://kayentaarts.org/wp-content/uploads/2024/05/Screenshot-2024-07-20-112934.png
ORGANIZER;CN="Center for the Arts at Kayenta":MAILTO:boxoffice@kayentaarts.com
END:VEVENT
END:VCALENDAR