BEGIN:VCALENDAR
VERSION:2.0
PRODID:-//Kayenta Arts - ECPv6.15.20//NONSGML v1.0//EN
CALSCALE:GREGORIAN
METHOD:PUBLISH
X-WR-CALNAME:Kayenta Arts
X-ORIGINAL-URL:https://kayentaarts.org
X-WR-CALDESC:Events for Kayenta Arts
REFRESH-INTERVAL;VALUE=DURATION:PT1H
X-Robots-Tag:noindex
X-PUBLISHED-TTL:PT1H
BEGIN:VTIMEZONE
TZID:UTC
BEGIN:STANDARD
TZOFFSETFROM:+0000
TZOFFSETTO:+0000
TZNAME:UTC
DTSTART:20230101T000000
END:STANDARD
END:VTIMEZONE
BEGIN:VEVENT
DTSTART;TZID=UTC:20241004T170000
DTEND;TZID=UTC:20241004T200000
DTSTAMP:20260424T051818
CREATED:20241003T184130Z
LAST-MODIFIED:20241003T184409Z
UID:10005163-1728061200-1728072000@kayentaarts.org
SUMMARY:First Fridays at Kayenta
DESCRIPTION:COMMUNITY\nFirst Fridays at Kayenta\nevery First Friday / 5:00pm-8:00pm\nFREE to attend!\nKayenta Art Village\nWe’re thrilled to introduce First Fridays at Kayenta\, happening on the first Friday of every month\, September through June! Enjoy live music\, food trucks\, and a pop-up boutique market in the Kayenta Art Village beginning at 5:00pm\, with film screenings in the theater presented by DOCUTAH\, and good vibes all around. \n Photo courtesy of Donna Conversano / www.conversanophoto.com\n\nFriday October 4 Lineup:\n\n\n\n\n\n5:30p-7:30p\nLive Music in the Courtyard\nKayenta Jazz Combo featuring Christian Bohnenstengel\nThe Center for the Arts at Kayenta / Courtyard\nFREE \n\n\n\n\n\n\n\n5:30p-7:30p\n\nÁlvaro Alejandro: De Natura Libris\nThe Center for the Arts at Kayenta / Lobby\nFREE \n\nLearn More\n\n\n\n\n\n\n\n\n5:30p-8:30p\nMakesSpace \nCome be a part of our growing art community for First Friday\, view art\, meet fantastic teachers\, and learn what MakeSpace has to offer for art classes. \n\nLEARN MORE\n\n\n\n\n\n\n\n\n7:30p-8:30p\nDOCUTAH Presents:\nBorn to Ride: Cody Wright and the Quest for a World Title \nThis multi-award winning documentary looks at the life and challenges of a professional saddle bronc rider. Cody Wright\, from Milford\, Utah\, spends hundreds of days and travels thousands of miles pursuing his dream of being a world champion. \nTICKETS: $10 \n\nTICKETS & INFO\n\n\n\n\nGuest Vendors:\n\n\nLos Elementos \nBeccaboo Designs \nEden Apotheca \nTipsy Cocktail Supply Co. \nCactus Cuts Custom Creations \nLavish Links \nWildFlowr Denim \nFrankie and Stars \nKgomaticphotography \n\n\n\nFood Trucks:\nYogi Snow + Treats\nPapas Got Jerk\nWild Goat Coffee
URL:https://kayentaarts.org/event/first-fridays-at-kayenta-7/
LOCATION:Center for the Arts at Kayenta
CATEGORIES:First Fridays
ATTACH;FMTTYPE=image/jpeg:https://kayentaarts.org/wp-content/uploads/2024/05/Untitled-design-3-scaled.jpg
ORGANIZER;CN="Center for the Arts at Kayenta":MAILTO:boxoffice@kayentaarts.com
END:VEVENT
END:VCALENDAR