BEGIN:VCALENDAR
VERSION:2.0
PRODID:-//Kayenta Arts - ECPv6.15.20//NONSGML v1.0//EN
CALSCALE:GREGORIAN
METHOD:PUBLISH
X-WR-CALNAME:Kayenta Arts
X-ORIGINAL-URL:https://kayentaarts.org
X-WR-CALDESC:Events for Kayenta Arts
REFRESH-INTERVAL;VALUE=DURATION:PT1H
X-Robots-Tag:noindex
X-PUBLISHED-TTL:PT1H
BEGIN:VTIMEZONE
TZID:UTC
BEGIN:STANDARD
TZOFFSETFROM:+0000
TZOFFSETTO:+0000
TZNAME:UTC
DTSTART:20240101T000000
END:STANDARD
END:VTIMEZONE
BEGIN:VEVENT
DTSTART;TZID=UTC:20250404T170000
DTEND;TZID=UTC:20250404T200000
DTSTAMP:20260423T194902
CREATED:20241126T191029Z
LAST-MODIFIED:20241206T181446Z
UID:10005207-1743786000-1743796800@kayentaarts.org
SUMMARY:FIRST FRIDAY
DESCRIPTION:COMMUNITY\nFirst Fridays at Kayenta\nevery First Friday / 5:00pm-8:00pm\nFREE to attend!\nKayenta Art Village\nWe’re thrilled to introduce First Fridays at Kayenta\, happening on the first Friday of every month\, September through June! Enjoy live music\, food trucks\, and a pop-up boutique market in the Kayenta Art Village beginning at 5:00pm\, with film screenings in the theater presented by DOCUTAH\, and good vibes all around. \n Photo courtesy of Donna Conversano / www.conversanophoto.com
URL:https://kayentaarts.org/event/first-friday/2025-04-04/
LOCATION:Center for the Arts at Kayenta
CATEGORIES:Community,First Fridays
ATTACH;FMTTYPE=image/jpeg:https://kayentaarts.org/wp-content/uploads/2024/05/Untitled-design-3-scaled.jpg
ORGANIZER;CN="Center for the Arts at Kayenta":MAILTO:boxoffice@kayentaarts.com
END:VEVENT
END:VCALENDAR