BEGIN:VCALENDAR
VERSION:2.0
PRODID:-//Kayenta Arts - ECPv6.15.20//NONSGML v1.0//EN
CALSCALE:GREGORIAN
METHOD:PUBLISH
X-ORIGINAL-URL:https://kayentaarts.org
X-WR-CALDESC:Events for Kayenta Arts
REFRESH-INTERVAL;VALUE=DURATION:PT1H
X-Robots-Tag:noindex
X-PUBLISHED-TTL:PT1H
BEGIN:VTIMEZONE
TZID:UTC
BEGIN:STANDARD
TZOFFSETFROM:+0000
TZOFFSETTO:+0000
TZNAME:UTC
DTSTART:20240101T000000
END:STANDARD
END:VTIMEZONE
BEGIN:VEVENT
DTSTART;TZID=UTC:20250704T170000
DTEND;TZID=UTC:20250704T213000
DTSTAMP:20260423T151635
CREATED:20250630T203955Z
LAST-MODIFIED:20250630T204143Z
UID:10005273-1751648400-1751664600@kayentaarts.org
SUMMARY:FIRST FRIDAY: July 4th!
DESCRIPTION:Enjoy live music\, food \, and a pop-up boutique market in the Kayenta Art Village beginning at 5:00pm\, with film screenings in the theater\, and good vibes all around. \nJuly’s FIRST FRIDAY features live music from Runaway Fire\, and an exceptionally fun screening of 1776 the musical! \nMORE INFO\n Photo courtesy of Donna Conversano / www.conversanophoto.com
URL:https://kayentaarts.org/event/first-friday-july-4th/
LOCATION:Center for the Arts at Kayenta
CATEGORIES:First Fridays
ATTACH;FMTTYPE=image/jpeg:https://kayentaarts.org/wp-content/uploads/2025/04/Spring-Summer-First-Friday-Date-Card-1.jpg
ORGANIZER;CN="Center for the Arts at Kayenta":MAILTO:boxoffice@kayentaarts.com
END:VEVENT
END:VCALENDAR