BEGIN:VCALENDAR
VERSION:2.0
PRODID:-//Kayenta Arts - ECPv6.15.20//NONSGML v1.0//EN
CALSCALE:GREGORIAN
METHOD:PUBLISH
X-ORIGINAL-URL:https://kayentaarts.org
X-WR-CALDESC:Events for Kayenta Arts
REFRESH-INTERVAL;VALUE=DURATION:PT1H
X-Robots-Tag:noindex
X-PUBLISHED-TTL:PT1H
BEGIN:VTIMEZONE
TZID:UTC
BEGIN:STANDARD
TZOFFSETFROM:+0000
TZOFFSETTO:+0000
TZNAME:UTC
DTSTART:20240101T000000
END:STANDARD
END:VTIMEZONE
BEGIN:VEVENT
DTSTART;TZID=UTC:20250905T170000
DTEND;TZID=UTC:20250905T210000
DTSTAMP:20260423T120444
CREATED:20250902T231847Z
LAST-MODIFIED:20250902T231847Z
UID:10005304-1757091600-1757106000@kayentaarts.org
SUMMARY:First Fridays at Kayenta
DESCRIPTION:COMMUNITY\nFirst Fridays at Kayenta\nevery First Friday / 5:00pm-8:00pm\nFREE to attend!\nKayenta Art Village\nWe’re thrilled to introduce First Fridays at Kayenta\, happening on the first Friday of every month\, all year long! Enjoy live music\, food trucks\, and a pop-up boutique market in the Kayenta Art Village beginning at 5:00pm\, with film screenings in the theater\, and good vibes all around. \nTo view the current lineup\, click HERE. \n Photo courtesy of Donna Conversano / www.conversanophoto.com
URL:https://kayentaarts.org/event/first-fridays-at-kayenta-8/
LOCATION:Center for the Arts at Kayenta
CATEGORIES:Community,First Fridays
ATTACH;FMTTYPE=image/png:https://kayentaarts.org/wp-content/uploads/2025/07/First-Fridays-datecard.png
ORGANIZER;CN="Center for the Arts at Kayenta":MAILTO:boxoffice@kayentaarts.com
END:VEVENT
END:VCALENDAR