BEGIN:VCALENDAR
VERSION:2.0
PRODID:-//Kayenta Arts - ECPv6.15.20//NONSGML v1.0//EN
CALSCALE:GREGORIAN
METHOD:PUBLISH
X-WR-CALNAME:Kayenta Arts
X-ORIGINAL-URL:https://kayentaarts.org
X-WR-CALDESC:Events for Kayenta Arts
REFRESH-INTERVAL;VALUE=DURATION:PT1H
X-Robots-Tag:noindex
X-PUBLISHED-TTL:PT1H
BEGIN:VTIMEZONE
TZID:UTC
BEGIN:STANDARD
TZOFFSETFROM:+0000
TZOFFSETTO:+0000
TZNAME:UTC
DTSTART:20250101T000000
END:STANDARD
END:VTIMEZONE
BEGIN:VEVENT
DTSTART;TZID=UTC:20260102T193000
DTEND;TZID=UTC:20260102T210000
DTSTAMP:20260423T053953
CREATED:20251101T183204Z
LAST-MODIFIED:20251118T231257Z
UID:10005332-1767382200-1767387600@kayentaarts.org
SUMMARY:DOCUTAH PRESENTS: Black Outside
DESCRIPTION:DOCUTAH PRESENTS\nBlack Outside\nFriday\, January 2\, 7:30pm\nThe Lorraine Boccardo Theater\n“That’s for White people.”\nA phrase that infuriated Gary Wilkerson\, Jr. as a young\, Black kid asking to do outdoorsy things\, like camping. He wasn’t old enough to understand that it was a warning\, passed down from generations of Black Americans who weren’t permitted to explore the outdoors for fear of being killed.\nTo confront this inherited fear\, Gary resolves to conquer the Pacific Crest Trail\, a grueling 2\,600 mile thru-hike from Mexico to Canada that takes six months to complete. With the guidance and support of his ride-or-die\, Mary\, Gary sets off on the adventure of a lifetime. But this treacherous journey is no easy feat – especially for a guy who’s never spent a night outside in his life. As he struggles to navigate the breathtaking wilderness and difficult terrain\, we follow his profound path to self-discovery\, forming unexpected bonds with fellow hikers and challenging the notion of what happens to Black people in the woods. \n\nPart of DOCUTAH’s Best of Fest at Center for the Arts at Kayenta \nRuntime: 79 Minutes \n$10 TICKETS\n 
URL:https://kayentaarts.org/event/docutah-presents-black-outside/
LOCATION:Center for the Arts at Kayenta
CATEGORIES:Film,First Fridays
ATTACH;FMTTYPE=image/jpeg:https://kayentaarts.org/wp-content/uploads/2025/11/Original-POSTER-Black-Outside-1.jpg
ORGANIZER;CN="Center for the Arts at Kayenta":MAILTO:boxoffice@kayentaarts.com
END:VEVENT
END:VCALENDAR