BEGIN:VCALENDAR
VERSION:2.0
PRODID:-//Kayenta Arts - ECPv6.15.20//NONSGML v1.0//EN
CALSCALE:GREGORIAN
METHOD:PUBLISH
X-ORIGINAL-URL:https://kayentaarts.org
X-WR-CALDESC:Events for Kayenta Arts
REFRESH-INTERVAL;VALUE=DURATION:PT1H
X-Robots-Tag:noindex
X-PUBLISHED-TTL:PT1H
BEGIN:VTIMEZONE
TZID:UTC
BEGIN:STANDARD
TZOFFSETFROM:+0000
TZOFFSETTO:+0000
TZNAME:UTC
DTSTART:20230101T000000
END:STANDARD
END:VTIMEZONE
BEGIN:VEVENT
DTSTART;TZID=UTC:20240130T193000
DTEND;TZID=UTC:20240130T213000
DTSTAMP:20260424T163238
CREATED:20231121T174226Z
LAST-MODIFIED:20231221T213805Z
UID:10005038-1706643000-1706650200@kayentaarts.org
SUMMARY:Voyager Lecture Series: Common and Not-So-Common Birds of Southwest Utah
DESCRIPTION:LECTURES & IDEAS\nVoyager Lecture Series\nCommon and Not-So-Common Birds of Southwest Utah\nPresentation by Paul Jauusi\nTuesday\, January 30\, 2024 // 7:30pm\nOptional Social Hour With Like-Minded Friends\, Light Snacks And Beverages @ 6:30pm\nThe Lorraine Boccardo Theater\nPaul Jaussi was introduced to birding in college when he first saw a Western Tanager through a pair of binoculars and was hooked. That event started a passion for birding that has followed him throughout his life. While a native of Utah\, he lived in Oregon for 22 years\, where he helped grow the Friends of the Refuge for the newly founded Tualatin River National Wildlife Refuge\, serving as both a Board member and Vice President for several years. \nPaul and his family recently moved to St. George\, Utah where he was surprised at the wildlife diversity of the area. When the small Red Cliffs Audubon chapter was on the verge of shutting down\, Paul agreed to take over so the birds and wildlife in this area didn’t lose their voice and served as president for 5 years. A manufacturing engineer by profession\, Paul loves being outdoors whether hiking\, backpacking\, canyoneering\, or leading birding field trips for the Audubon. He loves sharing the beauty and birds of Greater Zion with others. And he especially loves his wife and five children. \nThe Voyager Lecture Series is generously sponsored by Voyager Wealth Advisors\, Cache Valley Bank\, and Richardson Brothers Custom Homes. \n  \n  \nTickets $20
URL:https://kayentaarts.org/event/voyager-lecture-series-common-and-not-so-common-birds-of-southwest-utah/
LOCATION:Center for the Arts at Kayenta
CATEGORIES:Lectures & Ideas
ORGANIZER;CN="Center for the Arts at Kayenta":MAILTO:boxoffice@kayentaarts.com
END:VEVENT
END:VCALENDAR