BEGIN:VCALENDAR
VERSION:2.0
PRODID:-//Kayenta Arts - ECPv6.15.20//NONSGML v1.0//EN
CALSCALE:GREGORIAN
METHOD:PUBLISH
X-ORIGINAL-URL:https://kayentaarts.org
X-WR-CALDESC:Events for Kayenta Arts
REFRESH-INTERVAL;VALUE=DURATION:PT1H
X-Robots-Tag:noindex
X-PUBLISHED-TTL:PT1H
BEGIN:VTIMEZONE
TZID:UTC
BEGIN:STANDARD
TZOFFSETFROM:+0000
TZOFFSETTO:+0000
TZNAME:UTC
DTSTART:20230101T000000
END:STANDARD
END:VTIMEZONE
BEGIN:VEVENT
DTSTART;TZID=UTC:20241029T193000
DTEND;TZID=UTC:20241029T213000
DTSTAMP:20260424T020815
CREATED:20240827T231401Z
LAST-MODIFIED:20240827T231401Z
UID:10005141-1730230200-1730237400@kayentaarts.org
SUMMARY:The Ancient Life of Washington County
DESCRIPTION:VOYAGER LECTURE SERIES\nThe Ancient Life of Washington County\nWith Jerry Harris\nTuesday\, October 29\, 7:30pm\nSocial Hour begins at 6:30pm\nThe Lorraine Boccardo Theater\nJoin fan-favorite presenter\, Jerry Harris\, for an exploration of ancient life in Washington County. Jerry Harris is the Director of Paleontology Science Department at Utah Tech University\, and is an advisor to the St. George Dinosaur Discovery Site at Johnson Farm. \nSouthwestern Utah is a desert today\, but throughout prehistory\, it’s been many different environments: under the ocean\, a “sea” of sand dunes\, a forested river floodplain\, a freshwater lake\, and more. Evidence for each of these comes from the layers of rocks preserved in Washington County. Each of these environments hosted its own unique fauna and flora\, some of which are preserved as fossils. Their stories tell us about the ever-changing nature of our backyard. \nThis year’s Voyager Lecture Series follows “The History of This Land\,” from the deep time studied in geology\, through modern concerns related to our changing environment. \nTickets $25
URL:https://kayentaarts.org/event/the-ancient-life-of-washington-county/
LOCATION:Center for the Arts at Kayenta
CATEGORIES:Lectures & Ideas
ATTACH;FMTTYPE=image/jpeg:https://kayentaarts.org/wp-content/uploads/2024/08/DOUBLE-PHOTO-scaled.jpg
ORGANIZER;CN="Center for the Arts at Kayenta":MAILTO:boxoffice@kayentaarts.com
END:VEVENT
END:VCALENDAR