BEGIN:VCALENDAR
VERSION:2.0
PRODID:-//Kayenta Arts - ECPv6.15.20//NONSGML v1.0//EN
CALSCALE:GREGORIAN
METHOD:PUBLISH
X-ORIGINAL-URL:https://kayentaarts.org
X-WR-CALDESC:Events for Kayenta Arts
REFRESH-INTERVAL;VALUE=DURATION:PT1H
X-Robots-Tag:noindex
X-PUBLISHED-TTL:PT1H
BEGIN:VTIMEZONE
TZID:UTC
BEGIN:STANDARD
TZOFFSETFROM:+0000
TZOFFSETTO:+0000
TZNAME:UTC
DTSTART:20230101T000000
END:STANDARD
END:VTIMEZONE
BEGIN:VEVENT
DTSTART;TZID=UTC:20241203T193000
DTEND;TZID=UTC:20241203T210000
DTSTAMP:20260423T225901
CREATED:20241111T175347Z
LAST-MODIFIED:20241111T175347Z
UID:10005188-1733254200-1733259600@kayentaarts.org
SUMMARY:VOYAGER LECTURE SERIES: First Peoples and Ancestral Puebloan Culture
DESCRIPTION:VOYAGER LECTURE SERIES\n \nFirst Peoples and Ancestral Puebloan Culture\n \nWith Diana Hawks\n \nTuesday\, December 3\, 7:30pm\n \nSocial Hour begins at 6:30pm\n \nThe Lorraine Boccardo Theater\n \nFor more than 2\,000 years the Ancestral Puebloan people lived and thrived in the northern part of the Southwestern U.S. Learn about how they and their predecessors survived and adapted to changing environmental conditions. And how the Ancestral Puebloan succeeded as farmers and village dwellers in an arid desert until AD 1300. Find out where they went after AD 1250 and why they abandoned this area completely. \n \nThis year’s Voyager Lecture Series follows “The History of This Land\,” from the deep time studied in geology\, through modern concerns related to our changing environment. \n\n\nTICKETS\n\nThe Voyager Lecture Series is generously sponsored by: 
URL:https://kayentaarts.org/event/voyager-lecture-series-first-peoples-and-ancestral-puebloan-culture/
LOCATION:Center for the Arts at Kayenta
CATEGORIES:Lectures & Ideas
ATTACH;FMTTYPE=image/jpeg:https://kayentaarts.org/wp-content/uploads/2024/11/Voyager-date-card-12.jpg
ORGANIZER;CN="Center for the Arts at Kayenta":MAILTO:boxoffice@kayentaarts.com
END:VEVENT
END:VCALENDAR