BEGIN:VCALENDAR
VERSION:2.0
PRODID:-//Kayenta Arts - ECPv6.15.20//NONSGML v1.0//EN
CALSCALE:GREGORIAN
METHOD:PUBLISH
X-WR-CALNAME:Kayenta Arts
X-ORIGINAL-URL:https://kayentaarts.org
X-WR-CALDESC:Events for Kayenta Arts
REFRESH-INTERVAL;VALUE=DURATION:PT1H
X-Robots-Tag:noindex
X-PUBLISHED-TTL:PT1H
BEGIN:VTIMEZONE
TZID:UTC
BEGIN:STANDARD
TZOFFSETFROM:+0000
TZOFFSETTO:+0000
TZNAME:UTC
DTSTART:20240101T000000
END:STANDARD
END:VTIMEZONE
BEGIN:VEVENT
DTSTART;TZID=UTC:20250429T193000
DTEND;TZID=UTC:20250429T213000
DTSTAMP:20260423T164524
CREATED:20250318T212955Z
LAST-MODIFIED:20250318T213101Z
UID:10005240-1745955000-1745962200@kayentaarts.org
SUMMARY:VOYAGER LECTURE SERIES: Stories from the Atomic Age
DESCRIPTION:VOYAGER LECTURE SERIES\nStories from the Atomic Age\nWith Matthew Malinowski\, The Atomic Museum\nTuesday\, April 29\, 7:30pm\nSocial Hour begins at 6:30pm\nThe Lorraine Boccardo Theater\nThis year’s Voyager Lecture Series follows “The History of This Land\,” from the deep time studied in geology\, through modern concerns related to our changing environment. \nApril’s program is presented by the Atomic Museum\, a national science\, history and educational institution that tells the story of America’s nuclear weapons testing program at the Nevada Test Site. The Museum uses lessons of the past and present to better understand the extent and effect of nuclear testing on worldwide nuclear deterrence and geo-political history. \nThe Atomic Museum team will visit Kayenta to discuss the history\, challenges and consequences of atomic testing at the Nevada Test Site\, including the Downwinders living in Arizona\, Nevada\, and our area in Utah who were exposed to radiation from atmospheric nuclear testing. \nLearn more about the Atomic Museum at atomicmuseum.vegas \nTICKETS\n  \nVoyage Lecture Series is generously sponsored by Voyager Wealth Advisors and Cache Valley Bank. \n\n 
URL:https://kayentaarts.org/event/voyager-lecture-series-stories-from-the-atomic-age/
LOCATION:Center for the Arts at Kayenta
CATEGORIES:Lectures & Ideas
ATTACH;FMTTYPE=image/jpeg:https://kayentaarts.org/wp-content/uploads/2024/12/Voyager-date-card-17.jpg
ORGANIZER;CN="Center for the Arts at Kayenta":MAILTO:boxoffice@kayentaarts.com
END:VEVENT
END:VCALENDAR