BEGIN:VCALENDAR
VERSION:2.0
PRODID:-//Kayenta Arts - ECPv6.15.20//NONSGML v1.0//EN
CALSCALE:GREGORIAN
METHOD:PUBLISH
X-ORIGINAL-URL:https://kayentaarts.org
X-WR-CALDESC:Events for Kayenta Arts
REFRESH-INTERVAL;VALUE=DURATION:PT1H
X-Robots-Tag:noindex
X-PUBLISHED-TTL:PT1H
BEGIN:VTIMEZONE
TZID:UTC
BEGIN:STANDARD
TZOFFSETFROM:+0000
TZOFFSETTO:+0000
TZNAME:UTC
DTSTART:20240101T000000
END:STANDARD
END:VTIMEZONE
BEGIN:VEVENT
DTSTART;TZID=UTC:20250914T150000
DTEND;TZID=UTC:20250914T170000
DTSTAMP:20260423T084345
CREATED:20250910T212346Z
LAST-MODIFIED:20250910T212346Z
UID:10005305-1757862000-1757869200@kayentaarts.org
SUMMARY:Kayenta 100 Project: The Beginnings\, 1976-1986
DESCRIPTION:Kayenta 100 Project: First Five Decades\nPart I: The Beginnings\, 1976-1986\nSunday\, September 14\, 2025 | 3:00pm\nThe Lorraine Boccardo Theater\nA look back at Kayenta’s visionary start—when a dream of intentional desert living first took root. This event traces the original land acquisition\, early designs\, and the radical idea of building a sustainable\, artful community in the red rock canyons of southern Utah. \nThe Kayenta 100 Project: First Five Decades \nCelebrating a Vision. Honoring a Legacy. Inspiring the Future. \nThe Kayenta 100 Project is a living history initiative honoring the first five decades of the Kayenta community in southern Utah. From its bold beginnings in the 1970s to its emergence as a vibrant hub for culture\, design\, and desert living\, this five-part series invites residents and visitors alike to reflect on the people\, projects\, and ideas that shaped Kayenta’s unique story. Through storytelling\, archival media\, open discussions\, and interactive experiences\, each chapter highlights a transformative era in Kayenta’s evolution. \nTICKETS\n  \n5 Event Package\n  \n 
URL:https://kayentaarts.org/event/kayenta-100-project-the-beginnings-1976-1986/
LOCATION:Center for the Arts at Kayenta
CATEGORIES:Lectures & Ideas
ATTACH;FMTTYPE=image/jpeg:https://kayentaarts.org/wp-content/uploads/2025/08/Kayenta-100-Hero-Image.jpg
ORGANIZER;CN="Center for the Arts at Kayenta":MAILTO:boxoffice@kayentaarts.com
END:VEVENT
END:VCALENDAR