BEGIN:VCALENDAR
VERSION:2.0
PRODID:-//Kayenta Arts - ECPv6.15.20//NONSGML v1.0//EN
CALSCALE:GREGORIAN
METHOD:PUBLISH
X-ORIGINAL-URL:https://kayentaarts.org
X-WR-CALDESC:Events for Kayenta Arts
REFRESH-INTERVAL;VALUE=DURATION:PT1H
X-Robots-Tag:noindex
X-PUBLISHED-TTL:PT1H
BEGIN:VTIMEZONE
TZID:UTC
BEGIN:STANDARD
TZOFFSETFROM:+0000
TZOFFSETTO:+0000
TZNAME:UTC
DTSTART:20250101T000000
END:STANDARD
END:VTIMEZONE
BEGIN:VEVENT
DTSTART;TZID=UTC:20260308T150000
DTEND;TZID=UTC:20260308T170000
DTSTAMP:20260425T024649
CREATED:20260214T181343Z
LAST-MODIFIED:20260218T204343Z
UID:10005367-1772982000-1772989200@kayentaarts.org
SUMMARY:Kayenta 100 - Part IV: Expanding Views
DESCRIPTION:Kayenta 100 Project: First Five Decades\n\n\n\nPart IV: Expanding Views\, 2006-2016\n\n\n\nSunday\, March 8\, 2026 | 3:00PM\n\n\n\nThe Lorraine Boccardo Theater\n\n\n\nKayenta became a showcase for innovative desert architecture and sustainable design. This event highlights the bold experimentation and collaborative spirit behind the iconic “Concept Homes”—projects that drew national attention and redefined modern desert living. This chapter also covers the creation of Kayenta Arts Foundation and the 2008 Financial Crisis. \n\n\n\nThe Kayenta 100 Project: First Five Decades \n\n\n\nCelebrating a Vision. Honoring a Legacy. Inspiring the Future. \n\n\n\nThe Kayenta 100 Project is a living history initiative honoring the first five decades of the Kayenta community in southern Utah. From its bold beginnings in the 1970s to its emergence as a vibrant hub for culture\, design\, and desert living\, this five-part series invites residents and visitors alike to reflect on the people\, projects\, and ideas that shaped Kayenta’s unique story. Through storytelling\, archival media\, open discussions\, and interactive experiences\, each chapter highlights a transformative era in Kayenta’s evolution. \nTICKETS
URL:https://kayentaarts.org/event/kayenta-100-part-iv-expanding-views/
LOCATION:Center for the Arts at Kayenta
CATEGORIES:Lectures & Ideas
ATTACH;FMTTYPE=image/webp:https://kayentaarts.org/wp-content/uploads/2026/02/KAYENTA-100-DATE-CARD-1.webp
ORGANIZER;CN="Center for the Arts at Kayenta":MAILTO:boxoffice@kayentaarts.com
END:VEVENT
BEGIN:VEVENT
DTSTART;TZID=UTC:20260331T193000
DTEND;TZID=UTC:20260331T213000
DTSTAMP:20260425T024649
CREATED:20260221T000126Z
LAST-MODIFIED:20260221T000126Z
UID:10005369-1774985400-1774992600@kayentaarts.org
SUMMARY:VOYAGER LECTURE SERIES: Venturing Into the Unknown: The Great Wealth Transfer and the Future of American Assets - with Kevin D. Rorie\, CFP®\, CDFA®
DESCRIPTION:VOYAGER LECTURE SERIES\n \nVenturing Into the Unknown: The Great Wealth Transfer and the Future of American Assets\n \nwith Kevin D. Rorie\, CFP®\, CDFA®\n \nTuesday\, March 31\, 7:30pm | Social Hour Begins at 6:30pm\n \nThe Lorraine Boccardo Theater\n \n\n \nOur Voyager Lecture Series continues in 2026 with this season’s theme: Venturing Into the Unknown. \n \nAs the largest generational wealth shift in American history accelerates\, trillions of dollars are set to change hands—reshaping families\, communities\, and the financial landscape in profound ways. In this timely presentation\, Kevin Rorie will guide us as we explore The Great Wealth Transfer through practical insights to help you understand what’s coming and how to prepare. From shifting demographics to emerging opportunities and potential pitfalls\, this presentation will equip you to confidently navigate uncertainty and make thoughtful decisions in a rapidly evolving financial era. Join us as we venture into the unknown and uncover what this historic transition means for you and the future. \n \n— \n \n\n \n\n \nKevin Rorie began his financial services career in 2014 as a personal banker at Wells Fargo before joining Voyager Wealth Advisors in 2017. He is a CERTIFIED FINANCIAL PLANNER® (CFP®) professional\, committed to guiding clients through a structured financial planning process—the cornerstone of Voyager’s practice. \n \nComing from an Air Force family\, Kevin was born in Okinawa\, Japan\, spent his formative years in Suffolk\, England\, and later relocated to Northern Utah. His diverse upbringing instilled in him an appreciation for different cultures and perspectives. He earned his degree in Interdisciplinary Studies (Biology and Psychology) from Utah Tech University\, a background that enhances his ability to understand clients’ financial behaviors and long-term goals. \n \nKevin is deeply involved in his community\, serving on the Board of the Kayenta Arts Foundation (KAF) and as a member of the American Association of University Women (AAUW). He is a strong advocate for equality\, opportunity\, and education within underrepresented groups. He and his wife\, Marina\, live in Ivins\, Utah\, where they enjoy the outdoors with their miniature pinscher\, Joe. Outside of work\, Kevin can often be found on the golf course\, basketball court\, or exploring Utah’s scenic landscapes. \n \n\n \n\n\n \n\n \n\n\n \nThe Voyager Lecture Series is generously sponsored by Voyager Wealth Advisors\, Proven Law\, and Cache Valley Bank. 
URL:https://kayentaarts.org/event/voyager-lecture-series-venturing-into-the-unknown-the-great-wealth-transfer-and-the-future-of-american-assets-with-kevin-d-rorie-cfp-cdfa/
LOCATION:Center for the Arts at Kayenta
CATEGORIES:Lectures & Ideas
ATTACH;FMTTYPE=image/webp:https://kayentaarts.org/wp-content/uploads/2026/02/Voyager-date-card-27.webp
ORGANIZER;CN="Center for the Arts at Kayenta":MAILTO:boxoffice@kayentaarts.com
END:VEVENT
BEGIN:VEVENT
DTSTART;TZID=UTC:20260421T193000
DTEND;TZID=UTC:20260421T213000
DTSTAMP:20260425T024649
CREATED:20260321T171503Z
LAST-MODIFIED:20260323T201511Z
UID:10005378-1776799800-1776807000@kayentaarts.org
SUMMARY:VOYAGER LECTURE SERIES  Beyond Billionaires: Bringing Space Down to Earth with Theresa Hitchens
DESCRIPTION:VOYAGER LECTURE SERIES\n\n\n\nBeyond Billionaires: Bringing Space Down to Earth\n\n\n\nwith Theresa Hitchens\n\n\n\nTuesday\, April 21\, 7:30pm | Social Hour Begins at 6:30pm\n\n\n\nThe Lorraine Boccardo Theater\n\n\n\n\n\n\n\nHow many times a day do you think you touch outer space? Probably more than you think. GPS navigation\, weather forecasts\, and even the value of your stock portfolio all rely on satellites orbiting Earth. So do essential government functions\, from national security and environmental monitoring to managing the electric grid and dam operations. In reality\, we already are space people—and as more nations work to build infrastructure beyond Earth\, from space stations to the Moon and beyond\, humanity may not be far from becoming true inhabitants of the heavens. \nSo who are the players shaping the rules for managing\, developing\, and protecting the space environment? Is space and its future being thoughtfully and collaboratively utilized or is it more akin to the “Wild West”? How do the world’s militaries factor in? What challenges come with humanity’s growing presence in space\, and what is being done to address them? \nPlease join us for an evening with journalist and space expert Theresa Hitchens to gain a deeper understanding of these issues—and to consider what role\, if any\, we as citizens can play in what remains a space of geopolitical competition and billionaire ambition. \nTICKETS\n\n\n\n\n\n— \n\n\n\n\n\n\n\n \n\n\n\nTheresa Hitchens is a journalist and researcher based out of Washington\, DC\, with almost 40 years of expertise on US and international military defense programs and budgets\, space governance and regulatory issues\, and space-related technology. She is a former director of the United Nations Institute for Disarmament Research\, and the first American to hold that position. She currently writes about defense-related space activities for Breaking Defense. \n\n\n\n  \n  \n\n\n\n \n\n\n\n\n \n\n\n\n\n\n\n\n\nThe Voyager Lecture Series is generously sponsored by Voyager Wealth Advisors\, Proven Law\, and Cache Valley Bank. 
URL:https://kayentaarts.org/event/voyager-lecture-series-beyond-billionaires-bringing-space-down-to-earth-with-theresa-hitchens-with-theresa-hitchens/
LOCATION:Center for the Arts at Kayenta
CATEGORIES:Lectures & Ideas
ATTACH;FMTTYPE=image/webp:https://kayentaarts.org/wp-content/uploads/2026/03/Apr-Voyager-Hero.webp
ORGANIZER;CN="Center for the Arts at Kayenta":MAILTO:boxoffice@kayentaarts.com
END:VEVENT
BEGIN:VEVENT
DTSTART;TZID=UTC:20260510T150000
DTEND;TZID=UTC:20260510T170000
DTSTAMP:20260425T024649
CREATED:20260420T235553Z
LAST-MODIFIED:20260420T235553Z
UID:10005385-1778425200-1778432400@kayentaarts.org
SUMMARY:Kayenta 100 - Part V: Kayenta Lifestyle & Arts
DESCRIPTION:Kayenta 100 Project: First Five Decades\nPart V: Kayenta Lifestyle & Arts\, 2016–2026\nSunday\, May 10\, 2026 | 3:00pm\nThe Lorraine Boccardo Theater\nA celebration of the present moment and a vision for the future. From the expansion of the Kayenta Art Village to the rise of performing arts\, culinary experiences\, and wellness culture\, this chapter explores how Kayenta has come to embody a unique and evolving desert lifestyle. \nThe Kayenta 100 Project: First Five Decades \nCelebrating a Vision. Honoring a Legacy. Inspiring the Future. \nThe Kayenta 100 Project is a living history initiative honoring the first five decades of the Kayenta community in southern Utah. From its bold beginnings in the 1970s to its emergence as a vibrant hub for culture\, design\, and desert living\, this five-part series invites residents and visitors alike to reflect on the people\, projects\, and ideas that shaped Kayenta’s unique story. Through storytelling\, archival media\, open discussions\, and interactive experiences\, each chapter highlights a transformative era in Kayenta’s evolution. \nTICKETS \n\nWe invite you to help us tell the story of our Kayenta community. Do you have old photos\, home videos\, newspaper clippings\, or keepsakes connected to Kayenta? Or a personal story about your own experiences here? If you do\, get in touch with Wil! You can email him at Wil@KayentaArts.com.  \nAnother way you will be able to share your Kayenta Story is at each Kayenta 100 Event\, where we will have a Story Booth set up! Your memories and materials bring our history to life.  \n\n\nThe Kayenta 100 Project is generously sponsored by Kayenta Homes & Properties
URL:https://kayentaarts.org/event/kayenta-100-part-v-kayenta-lifestyle-arts/
LOCATION:Center for the Arts at Kayenta
CATEGORIES:Lectures & Ideas
ATTACH;FMTTYPE=image/webp:https://kayentaarts.org/wp-content/uploads/2026/04/KAYENTA-100-pt-V-DATE-CARD-1.webp
ORGANIZER;CN="Center for the Arts at Kayenta":MAILTO:boxoffice@kayentaarts.com
END:VEVENT
BEGIN:VEVENT
DTSTART;TZID=UTC:20260526T193000
DTEND;TZID=UTC:20260526T213000
DTSTAMP:20260425T024649
CREATED:20260424T222130Z
LAST-MODIFIED:20260424T222626Z
UID:10005386-1779823800-1779831000@kayentaarts.org
SUMMARY:VOYAGER LECTURE SERIES: Train the Mind\, Open the Heart - with the Mindfulness Center of Southern Utah
DESCRIPTION:VOYAGER LECTURE SERIES\nTrain the Mind\, Open the Heart\nwith the Mindfulness Center of Southern Utah\nTuesday\, May 26\, 7:30pm | Social Hour Begins at 6:30pm\nThe Lorraine Boccardo Theater\n\nJoin us for the final Voyager Lecture of this season\, Train the Mind\, Open the Heart. This lecture brings together three distinguished experts from the Mindfulness Center of Southern Utah—Dr. Ginamaria Foglia\, DO\, MPH\, FACP\, Dr. David Tate\, and Kirk Benson\, JD—for an engaging exploration of mindfulness and its real-world impact. \nThis presentation goes beyond theory\, revealing the clinical evidence behind mindfulness practices and how training the mind can unlock profound benefits for the heart—improving physical health\, emotional resilience\, mental clarity\, and social connection. Part of this event will invite you to experience mindfulness firsthand through guided\, interactive elements designed to help you immediately connect with these transformative techniques. \nWhether you’re curious about the science\, seeking stress relief\, or looking to deepen your well-being\, this evening offers practical tools you can carry into everyday life. \nTICKETS \n\n\n\n\n\nGinamarie Foglia\, DO\, MPH\, FACP has over 30 years of healthcare experience as an internationally known subject matter expert and speaker in infectious disease\, internal medicine\, public health\, clinical trial research & development\, medical education and wellness. She is an Adjunct Professor at Rocky Vista University College of Medicine and lecturer at Utah Tech University. Certified as a personal/group fitness trainer\, she has completed several endurance and strength-training activities to include marathons\, cycling tours and the Ironman70 triathlon. More recently\, she held the position of Adventure Guide and Wellness Consultant at Red Mountain Resort in Ivins\, UT. Dr. Foglia is a board member of the Southern Utah Mindfulness Center and volunteers for the Southwest Utah Medical Reserve Corps and the Southern Utah Veterans Home. She served in the U.S. Army Medical Corps for 8 years\, achieving the rank of Lieutenant Colonel.\n\n\n\n\n\n\n\n\nDr. David Tate\, PhD\, is a psychologist in St. George\, Utah\, where he has been in private practice for 27 years. He serves on the Board of Directors for the Mindfulness Center of Southern Utah.\nHe has taught Mindfulness-based Stress Reduction (MBSR) classes for over 30 years. He was one of the founders and teachers of Intermountain Healthcare’s Stress Reduction Clinic (1990-1995)\, where his doctoral dissertation was the first replication study of research conducted by his mentor and originator of MBSR\, Dr. Jon Kabat-Zinn\, at the University of Massachusetts Medical Center Stress Reduction Program. In 1995 Dr. Tate helped develop the first “mindfulness-based” health and wellness resort in the United States\, Miraval\, Life in Balance\, being the initial Lead Mindfulness Instructor and later the Program Director.\nHe has taught mindfulness seminars for many businesses and organizations including Nike\, Ernst and Young\, New Line Cinema\, Abbott Laboratories\, AT&T\, the National Make-A Wish Foundation\, Zion National Park\, and the NCAA.\n\n\n\n\n\n\n\nKirk A Benson\, JD\, is a retired businessman who has been practicing mindfulness for over ten years.  He has received mindfulness training from Brown University\, Mindful Schools\, Mindfulness Meditation Teacher Certification Program (associated with Jack Kornfield and Tara Brach)\, and the Mindful Eating Training Institute.  He is a co-founder\, along with his wife\, Gael\, of the Mindfulness Center of Southern Utah.\n\n\n\n\n\n\n\n\nThe Voyager Lecture Series is generously sponsored by Voyager Wealth Advisors\, Proven Law\, and Cache Valley Bank. 
URL:https://kayentaarts.org/event/4183/
LOCATION:Center for the Arts at Kayenta
CATEGORIES:Lectures & Ideas
ATTACH;FMTTYPE=image/webp:https://kayentaarts.org/wp-content/uploads/2026/04/May-Voyager-Hero.webp
ORGANIZER;CN="Center for the Arts at Kayenta":MAILTO:boxoffice@kayentaarts.com
END:VEVENT
END:VCALENDAR