BEGIN:VCALENDAR
VERSION:2.0
PRODID:-//Kayenta Arts - ECPv6.15.20//NONSGML v1.0//EN
CALSCALE:GREGORIAN
METHOD:PUBLISH
X-WR-CALNAME:Kayenta Arts
X-ORIGINAL-URL:https://kayentaarts.org
X-WR-CALDESC:Events for Kayenta Arts
REFRESH-INTERVAL;VALUE=DURATION:PT1H
X-Robots-Tag:noindex
X-PUBLISHED-TTL:PT1H
BEGIN:VTIMEZONE
TZID:UTC
BEGIN:STANDARD
TZOFFSETFROM:+0000
TZOFFSETTO:+0000
TZNAME:UTC
DTSTART:20220101T000000
END:STANDARD
END:VTIMEZONE
BEGIN:VEVENT
DTSTART;TZID=UTC:20230325T193000
DTEND;TZID=UTC:20230325T213000
DTSTAMP:20260422T190647
CREATED:20230306T024314Z
LAST-MODIFIED:20230306T031018Z
UID:10004931-1679772600-1679779800@kayentaarts.org
SUMMARY:Dee-Dee Darby-Duffin Jazz Band
DESCRIPTION:Born in the “Charm City” of Baltimore\, Dee-Dee has been delighting audiences with her mixture of jazz standards\, R&B\, soul and funk for a quarter of a century. While making sweet sounds Dee-Dee also discovered the acting bug and has performed in countless regional theater productions and discovered her love of jazz while performing to sold out shows in the lead role in Lady Day At Emerson’s Bar & Grill for Pygmalion Theater Company in Salt Lake City\, Utah. Folks have been lining up to see her ever since. \n  \nPurchase Tickets Here
URL:https://kayentaarts.org/event/dee-dee-darby-duffin-jazz-band/
LOCATION:Center for the Arts at Kayenta
CATEGORIES:Music
ORGANIZER;CN="Center for the Arts at Kayenta":MAILTO:boxoffice@kayentaarts.com
END:VEVENT
END:VCALENDAR