BEGIN:VCALENDAR
VERSION:2.0
PRODID:-//Kayenta Arts - ECPv6.15.20//NONSGML v1.0//EN
CALSCALE:GREGORIAN
METHOD:PUBLISH
X-WR-CALNAME:Kayenta Arts
X-ORIGINAL-URL:https://kayentaarts.org
X-WR-CALDESC:Events for Kayenta Arts
REFRESH-INTERVAL;VALUE=DURATION:PT1H
X-Robots-Tag:noindex
X-PUBLISHED-TTL:PT1H
BEGIN:VTIMEZONE
TZID:UTC
BEGIN:STANDARD
TZOFFSETFROM:+0000
TZOFFSETTO:+0000
TZNAME:UTC
DTSTART:20220101T000000
END:STANDARD
END:VTIMEZONE
BEGIN:VEVENT
DTSTART;TZID=UTC:20230602T193000
DTEND;TZID=UTC:20230602T213000
DTSTAMP:20260422T140334
CREATED:20230417T223040Z
LAST-MODIFIED:20230417T223214Z
UID:10004948-1685734200-1685741400@kayentaarts.org
SUMMARY:Warp Pops! Warp Trio and Daniel Emond perform a tribute to Elton John
DESCRIPTION:Described in Free Times as\, “A talented group that exemplifies the genre-obliterating direction of contemporary classical music\,” Warp Trio is NOT your typical piano trio. Lying at the intersection of a chamber music ensemble\, rock band\, and art project\, Mikael Darmanie (Piano)\, Ju Young Lee (Cello)\, and Josh Henderson (Violin) are pushing the boundaries of music consumption through inter-disciplinary collaborations and eclectic programming that includes electrifying original material\, dynamic interpretations of popular music\, improvisation\, and unique takes on classical repertoire. Whether performing in a nightclub\, gallery space or concert hall\, Warp Trio is transporting audiences to the next level of concert experience. \n  \nPurchase Tickets Here
URL:https://kayentaarts.org/event/warp-pops-warp-trio-and-daniel-emond-perform-a-tribute-to-elton-john/2023-06-02/
LOCATION:Center for the Arts at Kayenta
CATEGORIES:Music
ORGANIZER;CN="Center for the Arts at Kayenta":MAILTO:boxoffice@kayentaarts.com
END:VEVENT
BEGIN:VEVENT
DTSTART;TZID=UTC:20230603T193000
DTEND;TZID=UTC:20230603T213000
DTSTAMP:20260422T140334
CREATED:20230417T223040Z
LAST-MODIFIED:20230417T223214Z
UID:10004949-1685820600-1685827800@kayentaarts.org
SUMMARY:Warp Pops! Warp Trio and Daniel Emond perform a tribute to Elton John
DESCRIPTION:Described in Free Times as\, “A talented group that exemplifies the genre-obliterating direction of contemporary classical music\,” Warp Trio is NOT your typical piano trio. Lying at the intersection of a chamber music ensemble\, rock band\, and art project\, Mikael Darmanie (Piano)\, Ju Young Lee (Cello)\, and Josh Henderson (Violin) are pushing the boundaries of music consumption through inter-disciplinary collaborations and eclectic programming that includes electrifying original material\, dynamic interpretations of popular music\, improvisation\, and unique takes on classical repertoire. Whether performing in a nightclub\, gallery space or concert hall\, Warp Trio is transporting audiences to the next level of concert experience. \n  \nPurchase Tickets Here
URL:https://kayentaarts.org/event/warp-pops-warp-trio-and-daniel-emond-perform-a-tribute-to-elton-john/2023-06-03/
LOCATION:Center for the Arts at Kayenta
CATEGORIES:Music
ORGANIZER;CN="Center for the Arts at Kayenta":MAILTO:boxoffice@kayentaarts.com
END:VEVENT
BEGIN:VEVENT
DTSTART;TZID=UTC:20230625T193000
DTEND;TZID=UTC:20230625T213000
DTSTAMP:20260422T140334
CREATED:20230614T221242Z
LAST-MODIFIED:20230614T221651Z
UID:10004974-1687721400-1687728600@kayentaarts.org
SUMMARY:Sunday Night... All Right!
DESCRIPTION:TICKETS $15Outdoor Music & Dancing Featuring Stillhouse Road \nSunday Night… All Right!\n\nSunday\, June 25\, 2023\n\n\n\nKayenta Village Outdoor Theater\n\n\n\nDoors open at 7:00pm. Stillhouse Road will be performing from 7:30pm until 9:30pm. \n\n\n\nCelebrate the Equinox in Kayenta on June 25th at the Kayenta Village Outdoor Theater with a night of music\, dancing and fun. \n\n\n\nSunday Night… All Right! presents  Stillhouse Road\, featuring the talents of Joe and Paula Ferrario.  Joe and Paula have been active in the Southern Utah music scene for over 10 years performing a special blend of bluegrass\, mountain music\, and country classics designed for toe tapping\, dancing and revisiting the classic songs of the past.  Your own snacks and beverages are welcome.  Snacks and non-alcoholic beverages will be available for sale as well.  Join your friends as we celebrate the passing of the equinox with the songs you love. \n\n\n\nAbout Stillhouse Road\n\n\n\nJoe began his musical career in California\, his home-state. Paula is Utah born but spent her youth living abroad in Greece and England before settling down in Santa Barbara\, California.  It was their music that brought them together in a chance meeting and\, eventually\, their marriage.  In 2003 they moved to St. George.  It was here that they found their true calling in bluegrass music. \n\n\n\nPaula says\, “Since forming Stillhouse Road\, we have found our home in a music genre full of passion\, honesty\, and creativity. To us\, Bluegrass music is uniquely alive\, because of the community of  artists and fans that keep it fresh and interesting.” \n\n\n\nSunday Night… All Right! is organized by Gwen Harrington and Roger Head. \nTICKETS $15
URL:https://kayentaarts.org/event/sunday-night-all-right/
LOCATION:Center for the Arts at Kayenta
CATEGORIES:Music
ORGANIZER;CN="Center for the Arts at Kayenta":MAILTO:boxoffice@kayentaarts.com
END:VEVENT
END:VCALENDAR