BEGIN:VCALENDAR
VERSION:2.0
PRODID:-//Kayenta Arts - ECPv6.15.20//NONSGML v1.0//EN
CALSCALE:GREGORIAN
METHOD:PUBLISH
X-ORIGINAL-URL:https://kayentaarts.org
X-WR-CALDESC:Events for Kayenta Arts
REFRESH-INTERVAL;VALUE=DURATION:PT1H
X-Robots-Tag:noindex
X-PUBLISHED-TTL:PT1H
BEGIN:VTIMEZONE
TZID:UTC
BEGIN:STANDARD
TZOFFSETFROM:+0000
TZOFFSETTO:+0000
TZNAME:UTC
DTSTART:20230101T000000
END:STANDARD
END:VTIMEZONE
BEGIN:VEVENT
DTSTART;TZID=UTC:20240525T193000
DTEND;TZID=UTC:20240525T213000
DTSTAMP:20260421T194738
CREATED:20240309T213140Z
LAST-MODIFIED:20240309T213140Z
UID:10005074-1716665400-1716672600@kayentaarts.org
SUMMARY:Soirée Musicale with Jason Bonham Jazz\, Rock and Movie Music
DESCRIPTION:MUSIC\nSoirée Musicale with Jason Bonham\nJazz\, Rock and Movie Music\nSaturday\, May 25\, 2024 // 7:30pm\nThe Lorraine Boccardo Theater\nSoirée Musicale features top local musicians and guest professionals from across the Western region tackling some of the most advanced and inspiring instrumental music in the repertoire. Our Spring series is under the direction of Jason Bonham\, esteemed musician and principle violist with Las Vegas Philharmonic. \nFor May’s concert\, join us for a fun evening of instrumental music featuring pop\, jazz\, and movie music from the Beatles\, Queen\, Chick Corea\, Batman and more! \nFeaturing: DeAnn Letournau (violin)\, Urs Rutishauser (violin)\, Jason Bonham (viola)  and Andrew Smith (cello). \nTickets $35
URL:https://kayentaarts.org/event/soiree-musicale-with-jason-bonham-jazz-rock-and-movie-music/
LOCATION:Center for the Arts at Kayenta
CATEGORIES:Music
ATTACH;FMTTYPE=image/jpeg:https://kayentaarts.org/wp-content/uploads/2024/03/05.25-Soiree-Musicale.jpg
ORGANIZER;CN="Center for the Arts at Kayenta":MAILTO:boxoffice@kayentaarts.com
END:VEVENT
END:VCALENDAR