BEGIN:VCALENDAR
VERSION:2.0
PRODID:-//Kayenta Arts - ECPv6.15.20//NONSGML v1.0//EN
CALSCALE:GREGORIAN
METHOD:PUBLISH
X-WR-CALNAME:Kayenta Arts
X-ORIGINAL-URL:https://kayentaarts.org
X-WR-CALDESC:Events for Kayenta Arts
REFRESH-INTERVAL;VALUE=DURATION:PT1H
X-Robots-Tag:noindex
X-PUBLISHED-TTL:PT1H
BEGIN:VTIMEZONE
TZID:UTC
BEGIN:STANDARD
TZOFFSETFROM:+0000
TZOFFSETTO:+0000
TZNAME:UTC
DTSTART:20230101T000000
END:STANDARD
END:VTIMEZONE
BEGIN:VEVENT
DTSTART;TZID=UTC:20240914T193000
DTEND;TZID=UTC:20240914T213000
DTSTAMP:20260421T133528
CREATED:20240711T192610Z
LAST-MODIFIED:20240711T192610Z
UID:10005118-1726342200-1726349400@kayentaarts.org
SUMMARY:Alejandro Brittes Trio
DESCRIPTION:MUSIC\nAlejandro Brittes Trio\nSaturday\, September 14th 7:30pm\nThe Lorraine Boccardo Theater\nAlejandro Brittes: Bringing Chamamé to Southern Utah \nAcclaimed accordionist Alejandro Brittes brings UNESCO-recognized Chamamé to Southern Utah this Fall! Following his successful East Coast tour\, Brittes and his trio will go on to perform at prestigious venues like San José Jazz Festival and Stanford Live\, offering a unique blend of Indigenous Guaraní and Baroque influences. \nThis tour bridges the multicultural heritage of the Southwest with southern South America. Brittes will showcase Chamamé’s connection to rivers\, particularly poignant given recent flooding in his home state of Rio Grande do Sul\, Brazil. The tour supports flood relief efforts through collaborations with the Brazil California Chamber of Commerce and Santa Barbara-based Direct Relief. \nExperience the vibrant rhythms of Chamamé while supporting cultural exchange and humanitarian efforts. Don’t miss this celebration of music\, heritage\, and solidarity\, realized by the Brazilian Ministry of Culture and sponsored by Arroz Prato Fino. \nTickets $35
URL:https://kayentaarts.org/event/alejandro-brittes-trio/
LOCATION:Center for the Arts at Kayenta
CATEGORIES:Music
ATTACH;FMTTYPE=image/jpeg:https://kayentaarts.org/wp-content/uploads/2024/07/Alejandro-Brittes-Marketing-Image.jpg
ORGANIZER;CN="Center for the Arts at Kayenta":MAILTO:boxoffice@kayentaarts.com
END:VEVENT
END:VCALENDAR