BEGIN:VCALENDAR
VERSION:2.0
PRODID:-//Kayenta Arts - ECPv6.15.20//NONSGML v1.0//EN
CALSCALE:GREGORIAN
METHOD:PUBLISH
X-ORIGINAL-URL:https://kayentaarts.org
X-WR-CALDESC:Events for Kayenta Arts
REFRESH-INTERVAL;VALUE=DURATION:PT1H
X-Robots-Tag:noindex
X-PUBLISHED-TTL:PT1H
BEGIN:VTIMEZONE
TZID:UTC
BEGIN:STANDARD
TZOFFSETFROM:+0000
TZOFFSETTO:+0000
TZNAME:UTC
DTSTART:20230101T000000
END:STANDARD
END:VTIMEZONE
BEGIN:VEVENT
DTSTART;TZID=UTC:20241102T193000
DTEND;TZID=UTC:20241102T213000
DTSTAMP:20260421T103618
CREATED:20240811T021113Z
LAST-MODIFIED:20240811T021113Z
UID:10005132-1730575800-1730583000@kayentaarts.org
SUMMARY:Crossing Open Ground Collective: an Introduction
DESCRIPTION:MUSIC\nCrossing Open Ground Collective: an Introduction\nMusic by John Luther Adams\, Christopher Rountree\, Sidney Hopson\, Nathalie Joachim\, CJ Camerieri and Trever Hagen\nProduced by Liquid Music\nSaturday\, November 2nd\, 7:30pm\nThe Lorraine Boccardo Theater\nNext season\, conductor Christopher Rountree known for his “elegant clarity” (New York Times)\, prestigious French choreographer Dimitri Chamblas\, and powerhouse section leaders Sidney Hopson (percussion)\, Nathalie Joachim (winds)\, C.J. Camerieri and Trever Hagen (brass) will guide an acoustic ensemble of 36 local musicians in an ultimate rendering of Pulitzer Prize-winning environmentalist composer John Luther Adams’s Crossing Open Ground in the majestic setting of our stunning red cliffs. \nAhead of this singular experience\, producer Liquid Music will introduce the artistic team to the Kayenta community with works by the musicians\, hosted by Rountree. \nJoin us at the Center for the Arts for an incredible evening of exceptional music\, from award-winning artists who will be building lasting relationships in Southern Utah. \nTickets $35
URL:https://kayentaarts.org/event/crossing-open-ground-collective-an-introduction/
LOCATION:Center for the Arts at Kayenta
CATEGORIES:Music
ATTACH;FMTTYPE=image/png:https://kayentaarts.org/wp-content/uploads/2024/08/nov-2-IG_UPDATE.png
ORGANIZER;CN="Center for the Arts at Kayenta":MAILTO:boxoffice@kayentaarts.com
END:VEVENT
END:VCALENDAR