BEGIN:VCALENDAR
VERSION:2.0
PRODID:-//Kayenta Arts - ECPv6.15.20//NONSGML v1.0//EN
CALSCALE:GREGORIAN
METHOD:PUBLISH
X-WR-CALNAME:Kayenta Arts
X-ORIGINAL-URL:https://kayentaarts.org
X-WR-CALDESC:Events for Kayenta Arts
REFRESH-INTERVAL;VALUE=DURATION:PT1H
X-Robots-Tag:noindex
X-PUBLISHED-TTL:PT1H
BEGIN:VTIMEZONE
TZID:UTC
BEGIN:STANDARD
TZOFFSETFROM:+0000
TZOFFSETTO:+0000
TZNAME:UTC
DTSTART:20230101T000000
END:STANDARD
END:VTIMEZONE
BEGIN:VEVENT
DTSTART;TZID=UTC:20240418T193000
DTEND;TZID=UTC:20240418T213000
DTSTAMP:20260424T120726
CREATED:20240306T230958Z
LAST-MODIFIED:20240321T210940Z
UID:10005062-1713468600-1713475800@kayentaarts.org
SUMMARY:Heroes of the Fourth Turning
DESCRIPTION:THEATER\nHeroes of the Fourth Turning\nan Award-Winning Play by Will Arbery\ndirected by Rachel Park\nApril 18-27\, 2024\nWednesday-Saturday at 7:30pm / Sunday at 2:00pm\nThe Lorraine Boccardo Theater\n\n“The sneaky\, simple brilliance of Heroes of the Fourth Turning is that it’s not actually about its characters’ talking points at all. It’s about them. It’s not shouting; it’s listening.” \nVulture \nIt’s nearing midnight in Wyoming\, where four young conservatives have gathered at a backyard after-party. They’ve returned home to toast their mentor Gina\, newly inducted as president of a tiny Catholic college. But as their reunion spirals into spiritual chaos and clashing generational politics\, it becomes less a celebration than a vicious fight to be understood. On a chilly night in the middle of America\, Will Arbery’s haunting play offers grace and disarming clarity\, speaking to the heart of a country at war with itself. \nWill Arbery is a playwright and screenwriter. His play Heroes of the Fourth Turning premiered at Playwrights Horizons in 2019 and was a Pulitzer Prize finalist\, OBIE winner\, Lortel winner\, New York Drama Critics Circle Award winner and John Gassner Memorial Award winner. It was named one of the best plays of the year by The New York Times\, Vulture\, Time Out and more. Corsicana premiered at Playwrights Horizons in 2022 and was a New York Times Critics Pick. Evanston Salt Costs Climbing had its New York premiere at The New Group and was the subject of a feature in The New York Times Magazine. Other plays include: Plano (Clubbed Thumb)\, You Hateful Things (NYTW Dartmouth Residency) and Wheelchair (3 Hole Press). He was the recipient of a Whiting Award in 2020. TV: Succession and Irma Vep. His work has been featured in The Paris Review. He’s currently under commission from Manhattan Theatre Club\, Adventureland and The Met Opera. willarbery.com \n\n“A perfect production that left me with my heart in my mouth.” \nTime Out New York \nTICKETS\nHeroes of the Fourth Turning by Will Arbery asks its audience to engage with intense content and characters in spiritual crisis. This production is intended to create conversation\, one we hope you will find worthwhile\, entertaining\, and challenging. \nThis show delves into mature subject matter\, encompassing explicit language\, complex adult themes\, and thought-provoking explorations of religion\, sexuality\, abortion\, race\, politics\, and gender. \nThis production may contain: very loud and sudden noises\, including gunshots; the use of a non-firing prop gun\, and simulated vomiting.
URL:https://kayentaarts.org/event/heroes-of-the-fourth-turning/2024-04-18/
LOCATION:Center for the Arts at Kayenta
CATEGORIES:Theater
ORGANIZER;CN="Center for the Arts at Kayenta":MAILTO:boxoffice@kayentaarts.com
END:VEVENT
BEGIN:VEVENT
DTSTART;TZID=UTC:20240419T193000
DTEND;TZID=UTC:20240419T213000
DTSTAMP:20260424T120726
CREATED:20240306T230958Z
LAST-MODIFIED:20240321T210940Z
UID:10005063-1713555000-1713562200@kayentaarts.org
SUMMARY:Heroes of the Fourth Turning
DESCRIPTION:THEATER\nHeroes of the Fourth Turning\nan Award-Winning Play by Will Arbery\ndirected by Rachel Park\nApril 18-27\, 2024\nWednesday-Saturday at 7:30pm / Sunday at 2:00pm\nThe Lorraine Boccardo Theater\n\n“The sneaky\, simple brilliance of Heroes of the Fourth Turning is that it’s not actually about its characters’ talking points at all. It’s about them. It’s not shouting; it’s listening.” \nVulture \nIt’s nearing midnight in Wyoming\, where four young conservatives have gathered at a backyard after-party. They’ve returned home to toast their mentor Gina\, newly inducted as president of a tiny Catholic college. But as their reunion spirals into spiritual chaos and clashing generational politics\, it becomes less a celebration than a vicious fight to be understood. On a chilly night in the middle of America\, Will Arbery’s haunting play offers grace and disarming clarity\, speaking to the heart of a country at war with itself. \nWill Arbery is a playwright and screenwriter. His play Heroes of the Fourth Turning premiered at Playwrights Horizons in 2019 and was a Pulitzer Prize finalist\, OBIE winner\, Lortel winner\, New York Drama Critics Circle Award winner and John Gassner Memorial Award winner. It was named one of the best plays of the year by The New York Times\, Vulture\, Time Out and more. Corsicana premiered at Playwrights Horizons in 2022 and was a New York Times Critics Pick. Evanston Salt Costs Climbing had its New York premiere at The New Group and was the subject of a feature in The New York Times Magazine. Other plays include: Plano (Clubbed Thumb)\, You Hateful Things (NYTW Dartmouth Residency) and Wheelchair (3 Hole Press). He was the recipient of a Whiting Award in 2020. TV: Succession and Irma Vep. His work has been featured in The Paris Review. He’s currently under commission from Manhattan Theatre Club\, Adventureland and The Met Opera. willarbery.com \n\n“A perfect production that left me with my heart in my mouth.” \nTime Out New York \nTICKETS\nHeroes of the Fourth Turning by Will Arbery asks its audience to engage with intense content and characters in spiritual crisis. This production is intended to create conversation\, one we hope you will find worthwhile\, entertaining\, and challenging. \nThis show delves into mature subject matter\, encompassing explicit language\, complex adult themes\, and thought-provoking explorations of religion\, sexuality\, abortion\, race\, politics\, and gender. \nThis production may contain: very loud and sudden noises\, including gunshots; the use of a non-firing prop gun\, and simulated vomiting.
URL:https://kayentaarts.org/event/heroes-of-the-fourth-turning/2024-04-19/
LOCATION:Center for the Arts at Kayenta
CATEGORIES:Theater
ORGANIZER;CN="Center for the Arts at Kayenta":MAILTO:boxoffice@kayentaarts.com
END:VEVENT
BEGIN:VEVENT
DTSTART;TZID=UTC:20240420T193000
DTEND;TZID=UTC:20240420T213000
DTSTAMP:20260424T120726
CREATED:20240306T230958Z
LAST-MODIFIED:20240321T210940Z
UID:10005064-1713641400-1713648600@kayentaarts.org
SUMMARY:Heroes of the Fourth Turning
DESCRIPTION:THEATER\nHeroes of the Fourth Turning\nan Award-Winning Play by Will Arbery\ndirected by Rachel Park\nApril 18-27\, 2024\nWednesday-Saturday at 7:30pm / Sunday at 2:00pm\nThe Lorraine Boccardo Theater\n\n“The sneaky\, simple brilliance of Heroes of the Fourth Turning is that it’s not actually about its characters’ talking points at all. It’s about them. It’s not shouting; it’s listening.” \nVulture \nIt’s nearing midnight in Wyoming\, where four young conservatives have gathered at a backyard after-party. They’ve returned home to toast their mentor Gina\, newly inducted as president of a tiny Catholic college. But as their reunion spirals into spiritual chaos and clashing generational politics\, it becomes less a celebration than a vicious fight to be understood. On a chilly night in the middle of America\, Will Arbery’s haunting play offers grace and disarming clarity\, speaking to the heart of a country at war with itself. \nWill Arbery is a playwright and screenwriter. His play Heroes of the Fourth Turning premiered at Playwrights Horizons in 2019 and was a Pulitzer Prize finalist\, OBIE winner\, Lortel winner\, New York Drama Critics Circle Award winner and John Gassner Memorial Award winner. It was named one of the best plays of the year by The New York Times\, Vulture\, Time Out and more. Corsicana premiered at Playwrights Horizons in 2022 and was a New York Times Critics Pick. Evanston Salt Costs Climbing had its New York premiere at The New Group and was the subject of a feature in The New York Times Magazine. Other plays include: Plano (Clubbed Thumb)\, You Hateful Things (NYTW Dartmouth Residency) and Wheelchair (3 Hole Press). He was the recipient of a Whiting Award in 2020. TV: Succession and Irma Vep. His work has been featured in The Paris Review. He’s currently under commission from Manhattan Theatre Club\, Adventureland and The Met Opera. willarbery.com \n\n“A perfect production that left me with my heart in my mouth.” \nTime Out New York \nTICKETS\nHeroes of the Fourth Turning by Will Arbery asks its audience to engage with intense content and characters in spiritual crisis. This production is intended to create conversation\, one we hope you will find worthwhile\, entertaining\, and challenging. \nThis show delves into mature subject matter\, encompassing explicit language\, complex adult themes\, and thought-provoking explorations of religion\, sexuality\, abortion\, race\, politics\, and gender. \nThis production may contain: very loud and sudden noises\, including gunshots; the use of a non-firing prop gun\, and simulated vomiting.
URL:https://kayentaarts.org/event/heroes-of-the-fourth-turning/2024-04-20/
LOCATION:Center for the Arts at Kayenta
CATEGORIES:Theater
ORGANIZER;CN="Center for the Arts at Kayenta":MAILTO:boxoffice@kayentaarts.com
END:VEVENT
BEGIN:VEVENT
DTSTART;TZID=UTC:20240424T193000
DTEND;TZID=UTC:20240424T213000
DTSTAMP:20260424T120726
CREATED:20240306T230958Z
LAST-MODIFIED:20240321T210940Z
UID:10005065-1713987000-1713994200@kayentaarts.org
SUMMARY:Heroes of the Fourth Turning
DESCRIPTION:THEATER\nHeroes of the Fourth Turning\nan Award-Winning Play by Will Arbery\ndirected by Rachel Park\nApril 18-27\, 2024\nWednesday-Saturday at 7:30pm / Sunday at 2:00pm\nThe Lorraine Boccardo Theater\n\n“The sneaky\, simple brilliance of Heroes of the Fourth Turning is that it’s not actually about its characters’ talking points at all. It’s about them. It’s not shouting; it’s listening.” \nVulture \nIt’s nearing midnight in Wyoming\, where four young conservatives have gathered at a backyard after-party. They’ve returned home to toast their mentor Gina\, newly inducted as president of a tiny Catholic college. But as their reunion spirals into spiritual chaos and clashing generational politics\, it becomes less a celebration than a vicious fight to be understood. On a chilly night in the middle of America\, Will Arbery’s haunting play offers grace and disarming clarity\, speaking to the heart of a country at war with itself. \nWill Arbery is a playwright and screenwriter. His play Heroes of the Fourth Turning premiered at Playwrights Horizons in 2019 and was a Pulitzer Prize finalist\, OBIE winner\, Lortel winner\, New York Drama Critics Circle Award winner and John Gassner Memorial Award winner. It was named one of the best plays of the year by The New York Times\, Vulture\, Time Out and more. Corsicana premiered at Playwrights Horizons in 2022 and was a New York Times Critics Pick. Evanston Salt Costs Climbing had its New York premiere at The New Group and was the subject of a feature in The New York Times Magazine. Other plays include: Plano (Clubbed Thumb)\, You Hateful Things (NYTW Dartmouth Residency) and Wheelchair (3 Hole Press). He was the recipient of a Whiting Award in 2020. TV: Succession and Irma Vep. His work has been featured in The Paris Review. He’s currently under commission from Manhattan Theatre Club\, Adventureland and The Met Opera. willarbery.com \n\n“A perfect production that left me with my heart in my mouth.” \nTime Out New York \nTICKETS\nHeroes of the Fourth Turning by Will Arbery asks its audience to engage with intense content and characters in spiritual crisis. This production is intended to create conversation\, one we hope you will find worthwhile\, entertaining\, and challenging. \nThis show delves into mature subject matter\, encompassing explicit language\, complex adult themes\, and thought-provoking explorations of religion\, sexuality\, abortion\, race\, politics\, and gender. \nThis production may contain: very loud and sudden noises\, including gunshots; the use of a non-firing prop gun\, and simulated vomiting.
URL:https://kayentaarts.org/event/heroes-of-the-fourth-turning/2024-04-24/
LOCATION:Center for the Arts at Kayenta
CATEGORIES:Theater
ORGANIZER;CN="Center for the Arts at Kayenta":MAILTO:boxoffice@kayentaarts.com
END:VEVENT
BEGIN:VEVENT
DTSTART;TZID=UTC:20240425T193000
DTEND;TZID=UTC:20240425T213000
DTSTAMP:20260424T120726
CREATED:20240306T230958Z
LAST-MODIFIED:20240321T210940Z
UID:10005066-1714073400-1714080600@kayentaarts.org
SUMMARY:Heroes of the Fourth Turning
DESCRIPTION:THEATER\nHeroes of the Fourth Turning\nan Award-Winning Play by Will Arbery\ndirected by Rachel Park\nApril 18-27\, 2024\nWednesday-Saturday at 7:30pm / Sunday at 2:00pm\nThe Lorraine Boccardo Theater\n\n“The sneaky\, simple brilliance of Heroes of the Fourth Turning is that it’s not actually about its characters’ talking points at all. It’s about them. It’s not shouting; it’s listening.” \nVulture \nIt’s nearing midnight in Wyoming\, where four young conservatives have gathered at a backyard after-party. They’ve returned home to toast their mentor Gina\, newly inducted as president of a tiny Catholic college. But as their reunion spirals into spiritual chaos and clashing generational politics\, it becomes less a celebration than a vicious fight to be understood. On a chilly night in the middle of America\, Will Arbery’s haunting play offers grace and disarming clarity\, speaking to the heart of a country at war with itself. \nWill Arbery is a playwright and screenwriter. His play Heroes of the Fourth Turning premiered at Playwrights Horizons in 2019 and was a Pulitzer Prize finalist\, OBIE winner\, Lortel winner\, New York Drama Critics Circle Award winner and John Gassner Memorial Award winner. It was named one of the best plays of the year by The New York Times\, Vulture\, Time Out and more. Corsicana premiered at Playwrights Horizons in 2022 and was a New York Times Critics Pick. Evanston Salt Costs Climbing had its New York premiere at The New Group and was the subject of a feature in The New York Times Magazine. Other plays include: Plano (Clubbed Thumb)\, You Hateful Things (NYTW Dartmouth Residency) and Wheelchair (3 Hole Press). He was the recipient of a Whiting Award in 2020. TV: Succession and Irma Vep. His work has been featured in The Paris Review. He’s currently under commission from Manhattan Theatre Club\, Adventureland and The Met Opera. willarbery.com \n\n“A perfect production that left me with my heart in my mouth.” \nTime Out New York \nTICKETS\nHeroes of the Fourth Turning by Will Arbery asks its audience to engage with intense content and characters in spiritual crisis. This production is intended to create conversation\, one we hope you will find worthwhile\, entertaining\, and challenging. \nThis show delves into mature subject matter\, encompassing explicit language\, complex adult themes\, and thought-provoking explorations of religion\, sexuality\, abortion\, race\, politics\, and gender. \nThis production may contain: very loud and sudden noises\, including gunshots; the use of a non-firing prop gun\, and simulated vomiting.
URL:https://kayentaarts.org/event/heroes-of-the-fourth-turning/2024-04-25/
LOCATION:Center for the Arts at Kayenta
CATEGORIES:Theater
ORGANIZER;CN="Center for the Arts at Kayenta":MAILTO:boxoffice@kayentaarts.com
END:VEVENT
BEGIN:VEVENT
DTSTART;TZID=UTC:20240426T193000
DTEND;TZID=UTC:20240426T213000
DTSTAMP:20260424T120726
CREATED:20240306T230958Z
LAST-MODIFIED:20240321T210940Z
UID:10005067-1714159800-1714167000@kayentaarts.org
SUMMARY:Heroes of the Fourth Turning
DESCRIPTION:THEATER\nHeroes of the Fourth Turning\nan Award-Winning Play by Will Arbery\ndirected by Rachel Park\nApril 18-27\, 2024\nWednesday-Saturday at 7:30pm / Sunday at 2:00pm\nThe Lorraine Boccardo Theater\n\n“The sneaky\, simple brilliance of Heroes of the Fourth Turning is that it’s not actually about its characters’ talking points at all. It’s about them. It’s not shouting; it’s listening.” \nVulture \nIt’s nearing midnight in Wyoming\, where four young conservatives have gathered at a backyard after-party. They’ve returned home to toast their mentor Gina\, newly inducted as president of a tiny Catholic college. But as their reunion spirals into spiritual chaos and clashing generational politics\, it becomes less a celebration than a vicious fight to be understood. On a chilly night in the middle of America\, Will Arbery’s haunting play offers grace and disarming clarity\, speaking to the heart of a country at war with itself. \nWill Arbery is a playwright and screenwriter. His play Heroes of the Fourth Turning premiered at Playwrights Horizons in 2019 and was a Pulitzer Prize finalist\, OBIE winner\, Lortel winner\, New York Drama Critics Circle Award winner and John Gassner Memorial Award winner. It was named one of the best plays of the year by The New York Times\, Vulture\, Time Out and more. Corsicana premiered at Playwrights Horizons in 2022 and was a New York Times Critics Pick. Evanston Salt Costs Climbing had its New York premiere at The New Group and was the subject of a feature in The New York Times Magazine. Other plays include: Plano (Clubbed Thumb)\, You Hateful Things (NYTW Dartmouth Residency) and Wheelchair (3 Hole Press). He was the recipient of a Whiting Award in 2020. TV: Succession and Irma Vep. His work has been featured in The Paris Review. He’s currently under commission from Manhattan Theatre Club\, Adventureland and The Met Opera. willarbery.com \n\n“A perfect production that left me with my heart in my mouth.” \nTime Out New York \nTICKETS\nHeroes of the Fourth Turning by Will Arbery asks its audience to engage with intense content and characters in spiritual crisis. This production is intended to create conversation\, one we hope you will find worthwhile\, entertaining\, and challenging. \nThis show delves into mature subject matter\, encompassing explicit language\, complex adult themes\, and thought-provoking explorations of religion\, sexuality\, abortion\, race\, politics\, and gender. \nThis production may contain: very loud and sudden noises\, including gunshots; the use of a non-firing prop gun\, and simulated vomiting.
URL:https://kayentaarts.org/event/heroes-of-the-fourth-turning/2024-04-26/
LOCATION:Center for the Arts at Kayenta
CATEGORIES:Theater
ORGANIZER;CN="Center for the Arts at Kayenta":MAILTO:boxoffice@kayentaarts.com
END:VEVENT
BEGIN:VEVENT
DTSTART;TZID=UTC:20240427T193000
DTEND;TZID=UTC:20240427T213000
DTSTAMP:20260424T120726
CREATED:20240306T230958Z
LAST-MODIFIED:20240321T210940Z
UID:10005068-1714246200-1714253400@kayentaarts.org
SUMMARY:Heroes of the Fourth Turning
DESCRIPTION:THEATER\nHeroes of the Fourth Turning\nan Award-Winning Play by Will Arbery\ndirected by Rachel Park\nApril 18-27\, 2024\nWednesday-Saturday at 7:30pm / Sunday at 2:00pm\nThe Lorraine Boccardo Theater\n\n“The sneaky\, simple brilliance of Heroes of the Fourth Turning is that it’s not actually about its characters’ talking points at all. It’s about them. It’s not shouting; it’s listening.” \nVulture \nIt’s nearing midnight in Wyoming\, where four young conservatives have gathered at a backyard after-party. They’ve returned home to toast their mentor Gina\, newly inducted as president of a tiny Catholic college. But as their reunion spirals into spiritual chaos and clashing generational politics\, it becomes less a celebration than a vicious fight to be understood. On a chilly night in the middle of America\, Will Arbery’s haunting play offers grace and disarming clarity\, speaking to the heart of a country at war with itself. \nWill Arbery is a playwright and screenwriter. His play Heroes of the Fourth Turning premiered at Playwrights Horizons in 2019 and was a Pulitzer Prize finalist\, OBIE winner\, Lortel winner\, New York Drama Critics Circle Award winner and John Gassner Memorial Award winner. It was named one of the best plays of the year by The New York Times\, Vulture\, Time Out and more. Corsicana premiered at Playwrights Horizons in 2022 and was a New York Times Critics Pick. Evanston Salt Costs Climbing had its New York premiere at The New Group and was the subject of a feature in The New York Times Magazine. Other plays include: Plano (Clubbed Thumb)\, You Hateful Things (NYTW Dartmouth Residency) and Wheelchair (3 Hole Press). He was the recipient of a Whiting Award in 2020. TV: Succession and Irma Vep. His work has been featured in The Paris Review. He’s currently under commission from Manhattan Theatre Club\, Adventureland and The Met Opera. willarbery.com \n\n“A perfect production that left me with my heart in my mouth.” \nTime Out New York \nTICKETS\nHeroes of the Fourth Turning by Will Arbery asks its audience to engage with intense content and characters in spiritual crisis. This production is intended to create conversation\, one we hope you will find worthwhile\, entertaining\, and challenging. \nThis show delves into mature subject matter\, encompassing explicit language\, complex adult themes\, and thought-provoking explorations of religion\, sexuality\, abortion\, race\, politics\, and gender. \nThis production may contain: very loud and sudden noises\, including gunshots; the use of a non-firing prop gun\, and simulated vomiting.
URL:https://kayentaarts.org/event/heroes-of-the-fourth-turning/2024-04-27/
LOCATION:Center for the Arts at Kayenta
CATEGORIES:Theater
ORGANIZER;CN="Center for the Arts at Kayenta":MAILTO:boxoffice@kayentaarts.com
END:VEVENT
END:VCALENDAR