BEGIN:VCALENDAR
VERSION:2.0
PRODID:-//Kayenta Arts - ECPv6.15.20//NONSGML v1.0//EN
CALSCALE:GREGORIAN
METHOD:PUBLISH
X-WR-CALNAME:Kayenta Arts
X-ORIGINAL-URL:https://kayentaarts.org
X-WR-CALDESC:Events for Kayenta Arts
REFRESH-INTERVAL;VALUE=DURATION:PT1H
X-Robots-Tag:noindex
X-PUBLISHED-TTL:PT1H
BEGIN:VTIMEZONE
TZID:UTC
BEGIN:STANDARD
TZOFFSETFROM:+0000
TZOFFSETTO:+0000
TZNAME:UTC
DTSTART:20240101T000000
END:STANDARD
END:VTIMEZONE
BEGIN:VEVENT
DTSTART;TZID=UTC:20250215T193000
DTEND;TZID=UTC:20250215T210000
DTSTAMP:20260423T194902
CREATED:20241212T234422Z
LAST-MODIFIED:20241212T234422Z
UID:10005214-1739647800-1739653200@kayentaarts.org
SUMMARY:Miwa Matreyek: Animation & Performance
DESCRIPTION:ANIMATION / THEATER\nMiwa Matreyek\nThree Works: Animation & Performance\nMyth and Infrastructure (2010)\nThis World Made Itself (2013)\nInfinitely Yours\nSaturday\, February 15 / 7:30pm\nSunday\, February 16 / 3:00pm\nThe Lorraine Boccardo Theater\n\n“A fantastical interpretation of the Earth’s formation” –TED \n\nSpellbinding and vibrant animations are brought to life through live performance by award-winning artist Miwa Matreyek. Experience three remarkable pieces\, created between 2010 and today\, that will leave you breathless. \nIn Myth and Infrastructure\, Miwa’s shadow explores fantastical animation worlds\, as she traverses oceanscapes\, cityscapes\, and domestic spaces to conjure dreamlike scenes with light and shadow. \nThis World Made Itself is a visually and musically rich journey through the history of the earth\, from the universe’s epic beginnings to the complex world of humanity. The piece is at once semi-scientific (like flipping through a children’s encyclopedia)\, and emotional\, surreal\, and dream-like. \nAnd Infinitely Yours creates an emotional\, dream-like meditation on climate catastrophe and the Anthropocene – the proposed current era where human influence has effected almost all realms of earth’s natural systems.
URL:https://kayentaarts.org/event/miwa-matreyek-animation-performance/2025-02-15/
LOCATION:Center for the Arts at Kayenta
CATEGORIES:Theater
ATTACH;FMTTYPE=image/jpeg:https://kayentaarts.org/wp-content/uploads/2024/12/theater-date-card-11.jpg
ORGANIZER;CN="Center for the Arts at Kayenta":MAILTO:boxoffice@kayentaarts.com
END:VEVENT
BEGIN:VEVENT
DTSTART;TZID=UTC:20250216T150000
DTEND;TZID=UTC:20250216T163000
DTSTAMP:20260423T194902
CREATED:20241212T234422Z
LAST-MODIFIED:20241212T234422Z
UID:10005215-1739718000-1739723400@kayentaarts.org
SUMMARY:Miwa Matreyek: Animation & Performance
DESCRIPTION:ANIMATION / THEATER\nMiwa Matreyek\nThree Works: Animation & Performance\nMyth and Infrastructure (2010)\nThis World Made Itself (2013)\nInfinitely Yours\nSaturday\, February 15 / 7:30pm\nSunday\, February 16 / 3:00pm\nThe Lorraine Boccardo Theater\n\n“A fantastical interpretation of the Earth’s formation” –TED \n\nSpellbinding and vibrant animations are brought to life through live performance by award-winning artist Miwa Matreyek. Experience three remarkable pieces\, created between 2010 and today\, that will leave you breathless. \nIn Myth and Infrastructure\, Miwa’s shadow explores fantastical animation worlds\, as she traverses oceanscapes\, cityscapes\, and domestic spaces to conjure dreamlike scenes with light and shadow. \nThis World Made Itself is a visually and musically rich journey through the history of the earth\, from the universe’s epic beginnings to the complex world of humanity. The piece is at once semi-scientific (like flipping through a children’s encyclopedia)\, and emotional\, surreal\, and dream-like. \nAnd Infinitely Yours creates an emotional\, dream-like meditation on climate catastrophe and the Anthropocene – the proposed current era where human influence has effected almost all realms of earth’s natural systems.
URL:https://kayentaarts.org/event/miwa-matreyek-animation-performance/2025-02-16/
LOCATION:Center for the Arts at Kayenta
CATEGORIES:Theater
ATTACH;FMTTYPE=image/jpeg:https://kayentaarts.org/wp-content/uploads/2024/12/theater-date-card-11.jpg
ORGANIZER;CN="Center for the Arts at Kayenta":MAILTO:boxoffice@kayentaarts.com
END:VEVENT
END:VCALENDAR