BEGIN:VCALENDAR
VERSION:2.0
PRODID:-//Kayenta Arts - ECPv6.15.20//NONSGML v1.0//EN
CALSCALE:GREGORIAN
METHOD:PUBLISH
X-WR-CALNAME:Kayenta Arts
X-ORIGINAL-URL:https://kayentaarts.org
X-WR-CALDESC:Events for Kayenta Arts
REFRESH-INTERVAL;VALUE=DURATION:PT1H
X-Robots-Tag:noindex
X-PUBLISHED-TTL:PT1H
BEGIN:VTIMEZONE
TZID:UTC
BEGIN:STANDARD
TZOFFSETFROM:+0000
TZOFFSETTO:+0000
TZNAME:UTC
DTSTART:20240101T000000
END:STANDARD
END:VTIMEZONE
BEGIN:VEVENT
DTSTART;TZID=UTC:20250619T193000
DTEND;TZID=UTC:20250619T213000
DTSTAMP:20260423T133129
CREATED:20250429T232535Z
LAST-MODIFIED:20250429T232535Z
UID:10005252-1750361400-1750368600@kayentaarts.org
SUMMARY:LIGHTHOUSE: a new musical
DESCRIPTION:MUSICAL THEATER\nLIGHTHOUSE: a new musical\nmusic & story by Veronica Mansour\nbook & lyrics & story by abs wilson\nworkshop directed by Lisa Quoresimo\nJune 19-28\, 2025\nThe Lorraine Boccardo Theater\nWith graduation in the rearview mirror\, Buss is desperate to run away from her Minnesota hometown and everyone in it. The only problem? She can’t outrun herself. LIGHTHOUSE is a sweeping pop-country musical that celebrates the idea that maybe\, just maybe every version of yourself is worth being. \nThe Center for the Arts at Kayenta is proud to be part of the development journey for this new promising musical. \nTICKETS
URL:https://kayentaarts.org/event/lighthouse-a-new-musical/2025-06-19/
LOCATION:Center for the Arts at Kayenta
CATEGORIES:Theater
ATTACH;FMTTYPE=image/jpeg:https://kayentaarts.org/wp-content/uploads/2025/04/theater-date-card-18.jpg
ORGANIZER;CN="Center for the Arts at Kayenta":MAILTO:boxoffice@kayentaarts.com
END:VEVENT
BEGIN:VEVENT
DTSTART;TZID=UTC:20250620T193000
DTEND;TZID=UTC:20250620T213000
DTSTAMP:20260423T133129
CREATED:20250429T232535Z
LAST-MODIFIED:20250429T232535Z
UID:10005253-1750447800-1750455000@kayentaarts.org
SUMMARY:LIGHTHOUSE: a new musical
DESCRIPTION:MUSICAL THEATER\nLIGHTHOUSE: a new musical\nmusic & story by Veronica Mansour\nbook & lyrics & story by abs wilson\nworkshop directed by Lisa Quoresimo\nJune 19-28\, 2025\nThe Lorraine Boccardo Theater\nWith graduation in the rearview mirror\, Buss is desperate to run away from her Minnesota hometown and everyone in it. The only problem? She can’t outrun herself. LIGHTHOUSE is a sweeping pop-country musical that celebrates the idea that maybe\, just maybe every version of yourself is worth being. \nThe Center for the Arts at Kayenta is proud to be part of the development journey for this new promising musical. \nTICKETS
URL:https://kayentaarts.org/event/lighthouse-a-new-musical/2025-06-20/
LOCATION:Center for the Arts at Kayenta
CATEGORIES:Theater
ATTACH;FMTTYPE=image/jpeg:https://kayentaarts.org/wp-content/uploads/2025/04/theater-date-card-18.jpg
ORGANIZER;CN="Center for the Arts at Kayenta":MAILTO:boxoffice@kayentaarts.com
END:VEVENT
BEGIN:VEVENT
DTSTART;TZID=UTC:20250621T140000
DTEND;TZID=UTC:20250621T160000
DTSTAMP:20260423T133129
CREATED:20250429T232535Z
LAST-MODIFIED:20250429T232535Z
UID:10005254-1750514400-1750521600@kayentaarts.org
SUMMARY:LIGHTHOUSE: a new musical
DESCRIPTION:MUSICAL THEATER\nLIGHTHOUSE: a new musical\nmusic & story by Veronica Mansour\nbook & lyrics & story by abs wilson\nworkshop directed by Lisa Quoresimo\nJune 19-28\, 2025\nThe Lorraine Boccardo Theater\nWith graduation in the rearview mirror\, Buss is desperate to run away from her Minnesota hometown and everyone in it. The only problem? She can’t outrun herself. LIGHTHOUSE is a sweeping pop-country musical that celebrates the idea that maybe\, just maybe every version of yourself is worth being. \nThe Center for the Arts at Kayenta is proud to be part of the development journey for this new promising musical. \nTICKETS
URL:https://kayentaarts.org/event/lighthouse-a-new-musical/2025-06-21/1/
LOCATION:Center for the Arts at Kayenta
CATEGORIES:Theater
ATTACH;FMTTYPE=image/jpeg:https://kayentaarts.org/wp-content/uploads/2025/04/theater-date-card-18.jpg
ORGANIZER;CN="Center for the Arts at Kayenta":MAILTO:boxoffice@kayentaarts.com
END:VEVENT
BEGIN:VEVENT
DTSTART;TZID=UTC:20250621T193000
DTEND;TZID=UTC:20250621T213000
DTSTAMP:20260423T133129
CREATED:20250429T232535Z
LAST-MODIFIED:20250429T232535Z
UID:10005255-1750534200-1750541400@kayentaarts.org
SUMMARY:LIGHTHOUSE: a new musical
DESCRIPTION:MUSICAL THEATER\nLIGHTHOUSE: a new musical\nmusic & story by Veronica Mansour\nbook & lyrics & story by abs wilson\nworkshop directed by Lisa Quoresimo\nJune 19-28\, 2025\nThe Lorraine Boccardo Theater\nWith graduation in the rearview mirror\, Buss is desperate to run away from her Minnesota hometown and everyone in it. The only problem? She can’t outrun herself. LIGHTHOUSE is a sweeping pop-country musical that celebrates the idea that maybe\, just maybe every version of yourself is worth being. \nThe Center for the Arts at Kayenta is proud to be part of the development journey for this new promising musical. \nTICKETS
URL:https://kayentaarts.org/event/lighthouse-a-new-musical/2025-06-21/2/
LOCATION:Center for the Arts at Kayenta
CATEGORIES:Theater
ATTACH;FMTTYPE=image/jpeg:https://kayentaarts.org/wp-content/uploads/2025/04/theater-date-card-18.jpg
ORGANIZER;CN="Center for the Arts at Kayenta":MAILTO:boxoffice@kayentaarts.com
END:VEVENT
BEGIN:VEVENT
DTSTART;TZID=UTC:20250626T193000
DTEND;TZID=UTC:20250626T213000
DTSTAMP:20260423T133129
CREATED:20250429T232535Z
LAST-MODIFIED:20250429T232535Z
UID:10005256-1750966200-1750973400@kayentaarts.org
SUMMARY:LIGHTHOUSE: a new musical
DESCRIPTION:MUSICAL THEATER\nLIGHTHOUSE: a new musical\nmusic & story by Veronica Mansour\nbook & lyrics & story by abs wilson\nworkshop directed by Lisa Quoresimo\nJune 19-28\, 2025\nThe Lorraine Boccardo Theater\nWith graduation in the rearview mirror\, Buss is desperate to run away from her Minnesota hometown and everyone in it. The only problem? She can’t outrun herself. LIGHTHOUSE is a sweeping pop-country musical that celebrates the idea that maybe\, just maybe every version of yourself is worth being. \nThe Center for the Arts at Kayenta is proud to be part of the development journey for this new promising musical. \nTICKETS
URL:https://kayentaarts.org/event/lighthouse-a-new-musical/2025-06-26/
LOCATION:Center for the Arts at Kayenta
CATEGORIES:Theater
ATTACH;FMTTYPE=image/jpeg:https://kayentaarts.org/wp-content/uploads/2025/04/theater-date-card-18.jpg
ORGANIZER;CN="Center for the Arts at Kayenta":MAILTO:boxoffice@kayentaarts.com
END:VEVENT
BEGIN:VEVENT
DTSTART;TZID=UTC:20250627T193000
DTEND;TZID=UTC:20250627T213000
DTSTAMP:20260423T133129
CREATED:20250429T232535Z
LAST-MODIFIED:20250429T232535Z
UID:10005257-1751052600-1751059800@kayentaarts.org
SUMMARY:LIGHTHOUSE: a new musical
DESCRIPTION:MUSICAL THEATER\nLIGHTHOUSE: a new musical\nmusic & story by Veronica Mansour\nbook & lyrics & story by abs wilson\nworkshop directed by Lisa Quoresimo\nJune 19-28\, 2025\nThe Lorraine Boccardo Theater\nWith graduation in the rearview mirror\, Buss is desperate to run away from her Minnesota hometown and everyone in it. The only problem? She can’t outrun herself. LIGHTHOUSE is a sweeping pop-country musical that celebrates the idea that maybe\, just maybe every version of yourself is worth being. \nThe Center for the Arts at Kayenta is proud to be part of the development journey for this new promising musical. \nTICKETS
URL:https://kayentaarts.org/event/lighthouse-a-new-musical/2025-06-27/
LOCATION:Center for the Arts at Kayenta
CATEGORIES:Theater
ATTACH;FMTTYPE=image/jpeg:https://kayentaarts.org/wp-content/uploads/2025/04/theater-date-card-18.jpg
ORGANIZER;CN="Center for the Arts at Kayenta":MAILTO:boxoffice@kayentaarts.com
END:VEVENT
BEGIN:VEVENT
DTSTART;TZID=UTC:20250628T140000
DTEND;TZID=UTC:20250628T160000
DTSTAMP:20260423T133129
CREATED:20250429T232535Z
LAST-MODIFIED:20250429T232535Z
UID:10005258-1751119200-1751126400@kayentaarts.org
SUMMARY:LIGHTHOUSE: a new musical
DESCRIPTION:MUSICAL THEATER\nLIGHTHOUSE: a new musical\nmusic & story by Veronica Mansour\nbook & lyrics & story by abs wilson\nworkshop directed by Lisa Quoresimo\nJune 19-28\, 2025\nThe Lorraine Boccardo Theater\nWith graduation in the rearview mirror\, Buss is desperate to run away from her Minnesota hometown and everyone in it. The only problem? She can’t outrun herself. LIGHTHOUSE is a sweeping pop-country musical that celebrates the idea that maybe\, just maybe every version of yourself is worth being. \nThe Center for the Arts at Kayenta is proud to be part of the development journey for this new promising musical. \nTICKETS
URL:https://kayentaarts.org/event/lighthouse-a-new-musical/2025-06-28/1/
LOCATION:Center for the Arts at Kayenta
CATEGORIES:Theater
ATTACH;FMTTYPE=image/jpeg:https://kayentaarts.org/wp-content/uploads/2025/04/theater-date-card-18.jpg
ORGANIZER;CN="Center for the Arts at Kayenta":MAILTO:boxoffice@kayentaarts.com
END:VEVENT
BEGIN:VEVENT
DTSTART;TZID=UTC:20250628T193000
DTEND;TZID=UTC:20250628T213000
DTSTAMP:20260423T133129
CREATED:20250429T232535Z
LAST-MODIFIED:20250429T232535Z
UID:10005259-1751139000-1751146200@kayentaarts.org
SUMMARY:LIGHTHOUSE: a new musical
DESCRIPTION:MUSICAL THEATER\nLIGHTHOUSE: a new musical\nmusic & story by Veronica Mansour\nbook & lyrics & story by abs wilson\nworkshop directed by Lisa Quoresimo\nJune 19-28\, 2025\nThe Lorraine Boccardo Theater\nWith graduation in the rearview mirror\, Buss is desperate to run away from her Minnesota hometown and everyone in it. The only problem? She can’t outrun herself. LIGHTHOUSE is a sweeping pop-country musical that celebrates the idea that maybe\, just maybe every version of yourself is worth being. \nThe Center for the Arts at Kayenta is proud to be part of the development journey for this new promising musical. \nTICKETS
URL:https://kayentaarts.org/event/lighthouse-a-new-musical/2025-06-28/2/
LOCATION:Center for the Arts at Kayenta
CATEGORIES:Theater
ATTACH;FMTTYPE=image/jpeg:https://kayentaarts.org/wp-content/uploads/2025/04/theater-date-card-18.jpg
ORGANIZER;CN="Center for the Arts at Kayenta":MAILTO:boxoffice@kayentaarts.com
END:VEVENT
END:VCALENDAR