BEGIN:VCALENDAR
VERSION:2.0
PRODID:-//Kayenta Arts - ECPv6.15.20//NONSGML v1.0//EN
CALSCALE:GREGORIAN
METHOD:PUBLISH
X-ORIGINAL-URL:https://kayentaarts.org
X-WR-CALDESC:Events for Kayenta Arts
REFRESH-INTERVAL;VALUE=DURATION:PT1H
X-Robots-Tag:noindex
X-PUBLISHED-TTL:PT1H
BEGIN:VTIMEZONE
TZID:UTC
BEGIN:STANDARD
TZOFFSETFROM:+0000
TZOFFSETTO:+0000
TZNAME:UTC
DTSTART:20250101T000000
END:STANDARD
END:VTIMEZONE
BEGIN:VEVENT
DTSTART;TZID=UTC:20260501T160000
DTEND;TZID=UTC:20260501T200000
DTSTAMP:20260420T181959
CREATED:20260331T195352Z
LAST-MODIFIED:20260331T195353Z
UID:10005379-1777651200-1777665600@kayentaarts.org
SUMMARY:Kayenta Native Arts Market
DESCRIPTION:ART FESTIVAL\nKayenta Native Arts Market\nFriday\, May 1\, 2026\, 4pm – 8pm\nSaturday & Sunday\, May 2-3\, 2026\, 10am – 5pm\nFREE to attend!\nKayenta Art Village\nKayenta Arts Foundation is thrilled to host the 2026 Kayenta Native Arts Market\, formerly known as Festival of the Americas. This exciting event will feature a wide range of traditional and contemporary Native American art\, including jewelry\, pottery\, textiles\, paintings\, and sculptures from dozens of artists located throughout the Southwest. \nEnjoy spectacular art\, stunning desert vistas\, food trucks\, and an exciting lineup of indigenous performers throughout the weekend. This event is fun for the whole family\, and offers an incredible opportunity to learn more about native cultures. \nDuring the Native Arts Market\, Kayenta Arts Foundation hosts fundraising events for the Shivwits Band of the Paiute Tribe of Southern Utah. By shopping at our silent auction\, you are supporting their impactful scholarship fund. \nGet Involved:\n\nArt Vendor Application\n\n\n\nPlease contact Festivals@KayentaArts.com with any questions. Entertainment & Food Vendor applications for the Kayenta Native Arts Market 2026 will be available soon.
URL:https://kayentaarts.org/event/kayenta-native-arts-market-2/2026-05-01/
LOCATION:Center for the Arts at Kayenta
CATEGORIES:Festival
ATTACH;FMTTYPE=image/webp:https://kayentaarts.org/wp-content/uploads/2026/03/NAM-Hero-1.webp
ORGANIZER;CN="Center for the Arts at Kayenta":MAILTO:boxoffice@kayentaarts.com
END:VEVENT
BEGIN:VEVENT
DTSTART;TZID=UTC:20260501T193000
DTEND;TZID=UTC:20260501T210000
DTSTAMP:20260420T181959
CREATED:20251101T192107Z
LAST-MODIFIED:20251101T192107Z
UID:10005334-1777663800-1777669200@kayentaarts.org
SUMMARY:DOCUTAH PRESENTS: Bring Them Home
DESCRIPTION:DOCUTAH PRESENTS\nBring Them Home\nFriday\, May 1\, 7:30pm\nThe Lorraine Boccardo Theater\nBring Them Home tells the story of a small group of Blackfoot people and their mission to establish the first wild buffalo herd on their ancestral territory since the species’ near-extinction a century ago\, an act that would restore the land\, re-enliven traditional culture and bring much needed healing to their community. \n\nPart of DOCUTAH’s Best of Fest at Center for the Arts at Kayenta \nRuntime: 85 Minutes \n  \n$10 TICKETS
URL:https://kayentaarts.org/event/docutah-presents-bring-them-home/
LOCATION:Center for the Arts at Kayenta
CATEGORIES:Film,First Fridays
ATTACH;FMTTYPE=image/png:https://kayentaarts.org/wp-content/uploads/2025/11/DATECARD-Bring-Them-Home.png
ORGANIZER;CN="Center for the Arts at Kayenta":MAILTO:boxoffice@kayentaarts.com
END:VEVENT
BEGIN:VEVENT
DTSTART;TZID=UTC:20260502T100000
DTEND;TZID=UTC:20260502T170000
DTSTAMP:20260420T181959
CREATED:20260331T195352Z
LAST-MODIFIED:20260331T195353Z
UID:10005380-1777716000-1777741200@kayentaarts.org
SUMMARY:Kayenta Native Arts Market
DESCRIPTION:ART FESTIVAL\nKayenta Native Arts Market\nFriday\, May 1\, 2026\, 4pm – 8pm\nSaturday & Sunday\, May 2-3\, 2026\, 10am – 5pm\nFREE to attend!\nKayenta Art Village\nKayenta Arts Foundation is thrilled to host the 2026 Kayenta Native Arts Market\, formerly known as Festival of the Americas. This exciting event will feature a wide range of traditional and contemporary Native American art\, including jewelry\, pottery\, textiles\, paintings\, and sculptures from dozens of artists located throughout the Southwest. \nEnjoy spectacular art\, stunning desert vistas\, food trucks\, and an exciting lineup of indigenous performers throughout the weekend. This event is fun for the whole family\, and offers an incredible opportunity to learn more about native cultures. \nDuring the Native Arts Market\, Kayenta Arts Foundation hosts fundraising events for the Shivwits Band of the Paiute Tribe of Southern Utah. By shopping at our silent auction\, you are supporting their impactful scholarship fund. \nGet Involved:\n\nArt Vendor Application\n\n\n\nPlease contact Festivals@KayentaArts.com with any questions. Entertainment & Food Vendor applications for the Kayenta Native Arts Market 2026 will be available soon.
URL:https://kayentaarts.org/event/kayenta-native-arts-market-2/2026-05-02/
LOCATION:Center for the Arts at Kayenta
CATEGORIES:Festival
ATTACH;FMTTYPE=image/webp:https://kayentaarts.org/wp-content/uploads/2026/03/NAM-Hero-1.webp
ORGANIZER;CN="Center for the Arts at Kayenta":MAILTO:boxoffice@kayentaarts.com
END:VEVENT
BEGIN:VEVENT
DTSTART;TZID=UTC:20260503T100000
DTEND;TZID=UTC:20260503T170000
DTSTAMP:20260420T181959
CREATED:20260331T195352Z
LAST-MODIFIED:20260331T195353Z
UID:10005381-1777802400-1777827600@kayentaarts.org
SUMMARY:Kayenta Native Arts Market
DESCRIPTION:ART FESTIVAL\nKayenta Native Arts Market\nFriday\, May 1\, 2026\, 4pm – 8pm\nSaturday & Sunday\, May 2-3\, 2026\, 10am – 5pm\nFREE to attend!\nKayenta Art Village\nKayenta Arts Foundation is thrilled to host the 2026 Kayenta Native Arts Market\, formerly known as Festival of the Americas. This exciting event will feature a wide range of traditional and contemporary Native American art\, including jewelry\, pottery\, textiles\, paintings\, and sculptures from dozens of artists located throughout the Southwest. \nEnjoy spectacular art\, stunning desert vistas\, food trucks\, and an exciting lineup of indigenous performers throughout the weekend. This event is fun for the whole family\, and offers an incredible opportunity to learn more about native cultures. \nDuring the Native Arts Market\, Kayenta Arts Foundation hosts fundraising events for the Shivwits Band of the Paiute Tribe of Southern Utah. By shopping at our silent auction\, you are supporting their impactful scholarship fund. \nGet Involved:\n\nArt Vendor Application\n\n\n\nPlease contact Festivals@KayentaArts.com with any questions. Entertainment & Food Vendor applications for the Kayenta Native Arts Market 2026 will be available soon.
URL:https://kayentaarts.org/event/kayenta-native-arts-market-2/2026-05-03/
LOCATION:Center for the Arts at Kayenta
CATEGORIES:Festival
ATTACH;FMTTYPE=image/webp:https://kayentaarts.org/wp-content/uploads/2026/03/NAM-Hero-1.webp
ORGANIZER;CN="Center for the Arts at Kayenta":MAILTO:boxoffice@kayentaarts.com
END:VEVENT
BEGIN:VEVENT
DTSTART;TZID=UTC:20260605T160000
DTEND;TZID=UTC:20260605T200000
DTSTAMP:20260420T181959
CREATED:20260312T190049Z
LAST-MODIFIED:20260312T190057Z
UID:10005375-1780675200-1780689600@kayentaarts.org
SUMMARY:First Fridays at Kayenta
DESCRIPTION:COMMUNITY\nFirst Fridays at Kayenta\nevery First Friday / 4:00pm-8:00pm\nFREE to attend!\nKayenta Art Village\nCelebrate the creative spirit of Southern Utah every First Friday at Kayenta! This monthly event brings together art\, music\, community\, and now—a curated boutique market from Southern Utah Market\, featuring an exceptional selection of local art\, crafts\, and farmers market favorites. Shop handmade goods\, meet regional artisans\, and enjoy the vibrant energy that fills the Kayenta Arts Village. \nOur ongoing partnership with DOCUTAH adds another layer of inspiration\, presenting this year’s “Best of Fest” film series—a handpicked showcase of audience favorites and award-winning films from the Utah-based international film festival. It’s your chance to experience world-class storytelling right here in Kayenta. \nStroll the galleries\, explore open studios\, discover something new at the market\, and end the evening with thought-provoking cinema under the stars. \n  \nTo view the current lineup\, click HERE.
URL:https://kayentaarts.org/event/first-fridays-at-kayenta-10-2-6/2026-06-05/
LOCATION:Kayenta Art Village\, 881 Coyote Gulch Court\, Ivins\, UT\, 84738\, United States
CATEGORIES:Community
ATTACH;FMTTYPE=image/webp:https://kayentaarts.org/wp-content/uploads/2025/11/Generic-Hero-.webp
ORGANIZER;CN="Center for the Arts at Kayenta":MAILTO:boxoffice@kayentaarts.com
END:VEVENT
BEGIN:VEVENT
DTSTART;TZID=UTC:20260605T193000
DTEND;TZID=UTC:20260605T210000
DTSTAMP:20260420T181959
CREATED:20251101T193546Z
LAST-MODIFIED:20251101T193546Z
UID:10005335-1780687800-1780693200@kayentaarts.org
SUMMARY:DOCUTAH PRESENTS: Turtle Walker
DESCRIPTION:DOCUTAH PRESENTS\nTurtle Walker\nFriday\, June 5\, 7:30pm\nThe Lorraine Boccardo Theater\nIn the late 1970s\, Satish Bhaskar embarked on an epic journey along India’s coastlines and the spectacular Andaman and Nicobar islands\, where he uncovered the vital nesting beaches of sea turtles. During his death-defying quest\, he unravels mysteries surrounding these enigmatic ocean creatures – and sets out to save them from extinction. After a devastating tsunami strikes in 2004\, Bhaskar grapples with a pressing question: What happens to sea turtles when their nesting beaches disappear? \n\nPart of DOCUTAH’s Best of Fest at Center for the Arts at Kayenta \nRuntime: 75 Minutes \n  \n$10 TICKETS
URL:https://kayentaarts.org/event/docutah-presents-turtle-walker/
LOCATION:Center for the Arts at Kayenta
CATEGORIES:Film,First Fridays
ATTACH;FMTTYPE=image/png:https://kayentaarts.org/wp-content/uploads/2025/11/DATECARD-Turtle-Walker.png
ORGANIZER;CN="Center for the Arts at Kayenta":MAILTO:boxoffice@kayentaarts.com
END:VEVENT
END:VCALENDAR