BEGIN:VCALENDAR
VERSION:2.0
PRODID:-//Kayenta Arts - ECPv6.15.20//NONSGML v1.0//EN
CALSCALE:GREGORIAN
METHOD:PUBLISH
X-WR-CALNAME:Kayenta Arts
X-ORIGINAL-URL:https://kayentaarts.org
X-WR-CALDESC:Events for Kayenta Arts
REFRESH-INTERVAL;VALUE=DURATION:PT1H
X-Robots-Tag:noindex
X-PUBLISHED-TTL:PT1H
BEGIN:VTIMEZONE
TZID:UTC
BEGIN:STANDARD
TZOFFSETFROM:+0000
TZOFFSETTO:+0000
TZNAME:UTC
DTSTART:20230101T000000
END:STANDARD
END:VTIMEZONE
BEGIN:VEVENT
DTSTART;TZID=UTC:20240103T183000
DTEND;TZID=UTC:20240103T200000
DTSTAMP:20260421T183705
CREATED:20231007T194551Z
LAST-MODIFIED:20240103T184802Z
UID:10005023-1704306600-1704312000@kayentaarts.org
SUMMARY:Opening Reception: People\, Places\, & Ponies
DESCRIPTION:VISUAL ART\nOpening Reception: People\, Places\, & Ponies\nWednesday\, January 3\, 2024 // 6:30pm-8:00pm\nThe Center for the Arts Lobby\nThe Desert Spirit Art Committee organizes three juried visual art exhibitions each season at the Center for the Arts at Kayenta. The Committee invites established and emerging regional artists to submit their original artwork that responds to the exhibition’s theme. \nThe exhibitions are free and open to the public during the Center’s business hours as well as during performances and special events. \nPeople\, Places\, and Ponies is open to photography only. Maximum size including frame is 18 x 24 inches. \nABOUT THE THEME: \nSurely this year’s theme is one no photographer can resist. Whether it’s color\, black and white\, abstract\, or representational – we know you’ll be able to focus on a subject that speaks to you! \nSUBMISSION DATE: December 27\, 2023 \nTo learn more about submitting artwork\, click HERE. \nEXHIBITION RUNS: January 3-March 6\, 2024\nWE BELIEVE THAT ART\, IN ALL FORMS\, ENHANCES OUR LIVES AND DEMANDS DISPLAY.
URL:https://kayentaarts.org/event/opening-reception-people-places-ponies/
LOCATION:Center for the Arts at Kayenta
CATEGORIES:Art Exhibit Opening
ATTACH;FMTTYPE=image/jpeg:https://kayentaarts.org/wp-content/uploads/2023/10/Special-Event-4.jpg
ORGANIZER;CN="Center for the Arts at Kayenta":MAILTO:boxoffice@kayentaarts.com
END:VEVENT
BEGIN:VEVENT
DTSTART;TZID=UTC:20240112T193000
DTEND;TZID=UTC:20240112T213000
DTSTAMP:20260421T183705
CREATED:20231114T231527Z
LAST-MODIFIED:20231114T231629Z
UID:10005034-1705087800-1705095000@kayentaarts.org
SUMMARY:Eric Ramsey
DESCRIPTION:MUSIC\nEric Ramsey at Kayenta\nFriday\, January 12\, 2024 // 7:30pm\nThe Lorraine Boccardo Theater\nEric is the Winner of the International Blues Challenge as well as the Memphis Cigar Box Guitar Award for the outstanding guitarist in the Solo/Duo Category. He’s a three time Champion of the Phoenix Blues Society’s Blues Showdown\, a two time Finalist at the Telluride Blues Challenge. He’s a Winner of the Stefan George Memorial Songwriting Contest sponsored by the Tucson Folk Festival\, Winner of the Peoples’ Choice Award at the Wildflower Arts and Music Festival\, a Finalist in the Al Johnson Songwriting Competition\, and has been tapped for the prestigious Songwriter’s Showcase produced by Tempe Center for the Arts\, filmed for PBS distribution. He’s been a 4x featured performer at the Dripping Springs (TX) Songwriter’s Festival\, has garnered numerous accolades for his songwriting\, and performs at concerts and festivals nationwide. \nTICKETS
URL:https://kayentaarts.org/event/eric-ramsey/
LOCATION:Center for the Arts at Kayenta
CATEGORIES:Music
ORGANIZER;CN="Center for the Arts at Kayenta":MAILTO:boxoffice@kayentaarts.com
END:VEVENT
BEGIN:VEVENT
DTSTART;TZID=UTC:20240113T193000
DTEND;TZID=UTC:20240113T213000
DTSTAMP:20260421T183705
CREATED:20231119T005050Z
LAST-MODIFIED:20231119T005050Z
UID:10005035-1705174200-1705181400@kayentaarts.org
SUMMARY:Soiree Musicale: Quintets from Mendelssohn & Brahms
DESCRIPTION:CLASSICAL MUSIC\n\nSoirée Musicale with Jason Bonham\nQuintets from Mendelssohn & Brahms\nSaturday\, January 13\, 2024 / 7:30pm\nThe Lorraine Boccardo Theater\n\nSoirée Musicale features top local musicians and guest professionals from across the Western region tackling some of the most advanced and inspiring classical music in the repertoire. Our Spring series is under the direction of Jason Bonham\, esteemed musician and principle violist with Las Vegas Philharmonic. \n \nFeaturing: Jake Davis\, Tido Janssen\, DeAnn Letourneau\, and Urs Rutishauser. \n\n\nTickets $35
URL:https://kayentaarts.org/event/soiree-musicale-quintets-from-mendelssohn-brahms/
LOCATION:Center for the Arts at Kayenta
CATEGORIES:Classical Music
ATTACH;FMTTYPE=image/jpeg:https://kayentaarts.org/wp-content/uploads/2023/11/01.13-Soiree-Musicale.jpg
ORGANIZER;CN="Center for the Arts at Kayenta":MAILTO:boxoffice@kayentaarts.com
END:VEVENT
BEGIN:VEVENT
DTSTART;TZID=UTC:20240119T193000
DTEND;TZID=UTC:20240119T213000
DTSTAMP:20260421T183705
CREATED:20231119T041317Z
LAST-MODIFIED:20240120T230509Z
UID:10005036-1705692600-1705699800@kayentaarts.org
SUMMARY:Repertory Dance Theatre
DESCRIPTION:DANCE\nRepertory Dance Theatre\nTHE SHOW ON SATURDAY\, JANUARY 20TH HAS BEEN CANCELLED\nFriday & Saturday\, January 19-20\, 2024 // 7:30pm\nThe Lorraine Boccardo Theater\nRepertory Dance Theatre (RDT)\, founded in 1966 in Salt Lake City\, Utah\, is the nation’s \noldest and most successful repertory dance company. Unlike conventional modern \ndance organizations\, RDT presents a diverse range of modern dance styles and \nchoreographers paired together in dynamic and unexpected performances. RDT is \ndedicated to the creation\, performance\, perpetuation and appreciation of modern dance. \nFor 57 years\, RDT has pushed the boundaries of modern dance\, while preserving and \ncelebrating its legacy. \n  \nKnown worldwide for its collection of dance treasures\, RDT is both a museum and \ncontemporary gallery representing the scope and diversity of modern dance\, past and \npresent. From the early pioneers of the art form to today’s cutting edge \nchoreographers\, the company maintains one of the largest collections of modern dance \nclassics in the world. As a repository for this rich heritage\, RDT is a resource center \nand laboratory for contemporary dancers\, choreographers\, visual artists\, writers and \ncomposers. \n  \nRepertory Dance Theatre is generously sponsored by Inn Santa Clara. \n \n  \nTickets $35
URL:https://kayentaarts.org/event/repertory-dance-theatre/
LOCATION:Center for the Arts at Kayenta
CATEGORIES:Dance
ORGANIZER;CN="Center for the Arts at Kayenta":MAILTO:boxoffice@kayentaarts.com
END:VEVENT
BEGIN:VEVENT
DTSTART;TZID=UTC:20240120T193000
DTEND;TZID=UTC:20240120T213000
DTSTAMP:20260421T183705
CREATED:20231119T041840Z
LAST-MODIFIED:20240120T230355Z
UID:10005037-1705779000-1705786200@kayentaarts.org
SUMMARY:Repertory Dance Theatre
DESCRIPTION:DANCE\nRepertory Dance Theatre\nTHE SHOW ON SATURDAY\, JANUARY 20TH HAS BEEN CANCELLED\nFriday & Saturday\, January 19-20\, 2024 // 7:30pm\nThe Lorraine Boccardo Theater\nRepertory Dance Theatre (RDT)\, founded in 1966 in Salt Lake City\, Utah\, is the nation’s \noldest and most successful repertory dance company. Unlike conventional modern \ndance organizations\, RDT presents a diverse range of modern dance styles and \nchoreographers paired together in dynamic and unexpected performances. RDT is \ndedicated to the creation\, performance\, perpetuation and appreciation of modern dance. \nFor 57 years\, RDT has pushed the boundaries of modern dance\, while preserving and \ncelebrating its legacy. \n  \nKnown worldwide for its collection of dance treasures\, RDT is both a museum and \ncontemporary gallery representing the scope and diversity of modern dance\, past and \npresent. From the early pioneers of the art form to today’s cutting edge \nchoreographers\, the company maintains one of the largest collections of modern dance \nclassics in the world. As a repository for this rich heritage\, RDT is a resource center \nand laboratory for contemporary dancers\, choreographers\, visual artists\, writers and \ncomposers. \n  \nRepertory Dance Theatre is generously sponsored by Inn Santa Clara. \n \nTickets $35 \n 
URL:https://kayentaarts.org/event/repertory-dance-theatre-2/
LOCATION:Center for the Arts at Kayenta
CATEGORIES:Dance
ORGANIZER;CN="Center for the Arts at Kayenta":MAILTO:boxoffice@kayentaarts.com
END:VEVENT
BEGIN:VEVENT
DTSTART;TZID=UTC:20240130T193000
DTEND;TZID=UTC:20240130T213000
DTSTAMP:20260421T183705
CREATED:20231121T174226Z
LAST-MODIFIED:20231221T213805Z
UID:10005038-1706643000-1706650200@kayentaarts.org
SUMMARY:Voyager Lecture Series: Common and Not-So-Common Birds of Southwest Utah
DESCRIPTION:LECTURES & IDEAS\nVoyager Lecture Series\nCommon and Not-So-Common Birds of Southwest Utah\nPresentation by Paul Jauusi\nTuesday\, January 30\, 2024 // 7:30pm\nOptional Social Hour With Like-Minded Friends\, Light Snacks And Beverages @ 6:30pm\nThe Lorraine Boccardo Theater\nPaul Jaussi was introduced to birding in college when he first saw a Western Tanager through a pair of binoculars and was hooked. That event started a passion for birding that has followed him throughout his life. While a native of Utah\, he lived in Oregon for 22 years\, where he helped grow the Friends of the Refuge for the newly founded Tualatin River National Wildlife Refuge\, serving as both a Board member and Vice President for several years. \nPaul and his family recently moved to St. George\, Utah where he was surprised at the wildlife diversity of the area. When the small Red Cliffs Audubon chapter was on the verge of shutting down\, Paul agreed to take over so the birds and wildlife in this area didn’t lose their voice and served as president for 5 years. A manufacturing engineer by profession\, Paul loves being outdoors whether hiking\, backpacking\, canyoneering\, or leading birding field trips for the Audubon. He loves sharing the beauty and birds of Greater Zion with others. And he especially loves his wife and five children. \nThe Voyager Lecture Series is generously sponsored by Voyager Wealth Advisors\, Cache Valley Bank\, and Richardson Brothers Custom Homes. \n  \n  \nTickets $20
URL:https://kayentaarts.org/event/voyager-lecture-series-common-and-not-so-common-birds-of-southwest-utah/
LOCATION:Center for the Arts at Kayenta
CATEGORIES:Lectures & Ideas
ORGANIZER;CN="Center for the Arts at Kayenta":MAILTO:boxoffice@kayentaarts.com
END:VEVENT
END:VCALENDAR