BEGIN:VCALENDAR
VERSION:2.0
PRODID:-//Kayenta Arts - ECPv6.15.20//NONSGML v1.0//EN
CALSCALE:GREGORIAN
METHOD:PUBLISH
X-ORIGINAL-URL:https://kayentaarts.org
X-WR-CALDESC:Events for Kayenta Arts
REFRESH-INTERVAL;VALUE=DURATION:PT1H
X-Robots-Tag:noindex
X-PUBLISHED-TTL:PT1H
BEGIN:VTIMEZONE
TZID:UTC
BEGIN:STANDARD
TZOFFSETFROM:+0000
TZOFFSETTO:+0000
TZNAME:UTC
DTSTART:20230101T000000
END:STANDARD
END:VTIMEZONE
BEGIN:VEVENT
DTSTART;TZID=UTC:20240202T193000
DTEND;TZID=UTC:20240202T213000
DTSTAMP:20260421T170733
CREATED:20231121T175448Z
LAST-MODIFIED:20231121T175448Z
UID:10005039-1706902200-1706909400@kayentaarts.org
SUMMARY:DOCUTAH presents: Monsterman
DESCRIPTION:FILM\nDOCUTAH presents:\nMonsterman\n84 MINUTES\nFriday\, February 2\, 2024 // 7:30pm\nCelebrate the Launch of our DOCUTAH Series with Light Snacks And Beverages @ 6:30pm\nThe Lorraine Boccardo Theater\nThe Center for the Arts at Kayenta is thrilled to partner with DOCUTAH on a new monthly film series. DOCUTAH seeks to open hearts and minds to the world through beautifully crafted stories on film\, promoting education while creating an atmosphere of camaraderie and community. \nAfter shockingly winning the Eurovision Song Competition in 2006\, Mr. Lordi\, the monster of Lapland\, and his horror metal band lose almost everything. Will the man behind Mr. Lordi find a way to stay true to himself and make a comeback? \n\nTickets $10\n 
URL:https://kayentaarts.org/event/docutah-presents-monsterman/
LOCATION:Center for the Arts at Kayenta
CATEGORIES:Film
ORGANIZER;CN="Center for the Arts at Kayenta":MAILTO:boxoffice@kayentaarts.com
END:VEVENT
BEGIN:VEVENT
DTSTART;TZID=UTC:20240203T100000
DTEND;TZID=UTC:20240203T150000
DTSTAMP:20260421T170733
CREATED:20231204T190503Z
LAST-MODIFIED:20231204T190503Z
UID:10005045-1706954400-1706972400@kayentaarts.org
SUMMARY:Heritage Writers Guild - Winter Writers Conference
DESCRIPTION:Write On St. George presents \nThe Winter Conference \n10am-3pm \nMore information at: www.heritagewritersguild.com \n  \n  \n 
URL:https://kayentaarts.org/event/heritage-writers-guild-winter-writers-conference/
LOCATION:Center for the Arts at Kayenta
CATEGORIES:Community
ORGANIZER;CN="Center for the Arts at Kayenta":MAILTO:boxoffice@kayentaarts.com
END:VEVENT
BEGIN:VEVENT
DTSTART;TZID=UTC:20240209T193000
DTEND;TZID=UTC:20240209T213000
DTSTAMP:20260421T170733
CREATED:20231121T201423Z
LAST-MODIFIED:20231121T202133Z
UID:10005040-1707507000-1707514200@kayentaarts.org
SUMMARY:Coyote Tales: MAKING PEACE
DESCRIPTION:COMMUNITY & STORYTELLING\n\n\n\nCOYOTE TALES True Stories Told Live\nThe Night’s Theme: MAKING PEACE\nFriday\, February 09\, 2024 // 7:30pm\nPre-show party 6:30 pm (event ticket required for admission)\nThe Lorraine Boccardo Theater\nCoyote Tales are live\, open-mic style storytelling events with amateur and experienced storytellers. Each event has a theme on which stories are to be based. The theme for this event is: “MAKING PEACE.” Potential storytellers may address that theme in any way they choose. Prior to the event\, storytellers craft their true\, on-theme story\, practice the telling (5 minutes or less)\, and work on eliminating excess detail to nail the perfect ending. When the doors open\, potential storytellers put their name in the hat in hopes of being chosen to share their tale. If chosen\, the storyteller takes the stage to delight the audience. Coyote Tales is delighted that OUTSIDE MAGAZINE will be recording storyteller David Lindes’ take on the evening’s theme along with David’s original song\, Gold in the Ashes for future broadcast on their popular podcast\, OUTSIDE. \nFOR MORE INFORMATION OR TO GET ON STAGE TO SHARE YOUR TALE\, PLEASE CONTACT VICTORIA THROUGH THE COYOTE TALES WEBSITE: https://coyotetalesstories.com/ \nThis project is funded by Petite Feast\, Utah Humanities\, Utah Arts and Parks\, Kayenta Homes and Properties\, SBDance & Desert Dweller Realty \nTickets $20
URL:https://kayentaarts.org/event/coyote-tales-making-peace/
LOCATION:Center for the Arts at Kayenta
CATEGORIES:Storytelling
ORGANIZER;CN="Center for the Arts at Kayenta":MAILTO:boxoffice@kayentaarts.com
END:VEVENT
BEGIN:VEVENT
DTSTART;TZID=UTC:20240210T193000
DTEND;TZID=UTC:20240210T210000
DTSTAMP:20260421T170733
CREATED:20231028T210824Z
LAST-MODIFIED:20231028T210824Z
UID:10005028-1707593400-1707598800@kayentaarts.org
SUMMARY:ADAM TENDLER: INHERITANCES
DESCRIPTION:MUSIC\nADAM TENDLER: INHERITANCES\nSaturday\, February 10\, 2023 // 7:30pm\nThe Lorraine Boccardo Theater\nAfter his father’s unexpected death\, pianist Adam Tendler used his inheritance\, a wad of cash received in a parking lot\, to begin a commissioning project inviting a broad spectrum of sound artists and composers to create new piano works exploring the idea of ‘inheritance’ itself. Woven into one intimate program\, these pieces tell a universal story of lineage\, loss\, and place\, and become a meditation on confronting our past while moving forward into the future. \nNew works to be performed are from a wonderful range of commissioned composers: Devonté Hynes\, Nico Muhly\, Laurie Anderson\, inti figgis-vizueta\, Pamela Z\, Ted Hearne\, Angélica Negrón\, Christopher Cerrone\, Marcos Balter\, Missy Mazzoli\, Darian Donovan Thomas\, Sarah Kirkland Snider\, Scott Wollschleger\, Mary Prescott\, Timo Andres and John Glover. \nTICKETS
URL:https://kayentaarts.org/event/adam-tendler-inheritances/
LOCATION:Center for the Arts at Kayenta
CATEGORIES:Music
ORGANIZER;CN="Center for the Arts at Kayenta":MAILTO:boxoffice@kayentaarts.com
END:VEVENT
BEGIN:VEVENT
DTSTART;TZID=UTC:20240213T190000
DTEND;TZID=UTC:20240213T200000
DTSTAMP:20260421T170733
CREATED:20240111T004536Z
LAST-MODIFIED:20240118T183104Z
UID:10005053-1707850800-1707854400@kayentaarts.org
SUMMARY:Charitable Giving Simplified
DESCRIPTION:LECTURE\nCharitable Giving Simplified\nThis event has been postponed from January 22 to February 13\nTuesday February 13\, 2024 // Social Hour at 6:00pm\, Lecture at 7:00pm\nThe Lorraine Boccardo Theater\nTopics covered will include: \nAn overview of the charitable giving landscape in the country – who is giving\, how much is given\, and who is receiving it? \nWhy do people give? \nHow do people give? – an overview of the most common giving techniques \n\nDonor advised funds\nCharitable trusts (CRAT/CRUT\, CLAT/CLUT)\nQualified Charitable Distributions from IRAs\nCash gifts vs. appreciated assets\nPlanned giving via a will\, trust or beneficiary designation\n\nAnd\, questions to ask yourself if thinking of incorporating philanthropy into your financial plan. \nFree Entry
URL:https://kayentaarts.org/event/charitable-giving-simplified/
LOCATION:Center for the Arts at Kayenta
CATEGORIES:Lectures & Ideas
ORGANIZER;CN="Center for the Arts at Kayenta":MAILTO:boxoffice@kayentaarts.com
END:VEVENT
BEGIN:VEVENT
DTSTART;TZID=UTC:20240224T193000
DTEND;TZID=UTC:20240224T213000
DTSTAMP:20260421T170733
CREATED:20231214T223447Z
LAST-MODIFIED:20231214T223447Z
UID:10005046-1708803000-1708810200@kayentaarts.org
SUMMARY:Liz Toonkel: MAGIC FOR ANIMALS
DESCRIPTION:THEATER\nLiz Toonkel: MAGIC FOR ANIMALS\nSaturday\, February 24\, 2024 // 7:30pm\nThe Lorraine Boccardo Theater\nMagic for Animals is a one-woman magic show about agency\, consent\, and animal rights. Liz Toonkel uses sparkling\, incisive humor to offer a refreshing antidote to the gendered and speciesist tradition of magic. She examines how we treat animals\, and urges us to reconsider how we treat one another. By day\, Liz is a production designer who’s shaped the look of such films as Marcel the Shell with Shoes On and Emily the Criminal\, by night she’s a performance artist and magician. \nTickets $30
URL:https://kayentaarts.org/event/liz-toonkel-magic-for-animals/
LOCATION:Center for the Arts at Kayenta
CATEGORIES:Theater
ORGANIZER;CN="Center for the Arts at Kayenta":MAILTO:boxoffice@kayentaarts.com
END:VEVENT
BEGIN:VEVENT
DTSTART;TZID=UTC:20240227T193000
DTEND;TZID=UTC:20240227T213000
DTSTAMP:20260421T170733
CREATED:20231122T185746Z
LAST-MODIFIED:20231221T213455Z
UID:10005041-1709062200-1709069400@kayentaarts.org
SUMMARY:Voyager Lecture Series How to Build a Bird\, Evolution-Style
DESCRIPTION:LECTURES & IDEAS\nVoyager Lecture Series\nHow to Build a Bird\, Evolution-Style\nPresentation by Jerry Harris\nTuesday\, February 27\, 2024 // 7:30pm\nOptional Social Hour With Like-Minded Friends\, Light Snacks And Beverages @ 6:30pm\nThe Lorraine Boccardo Theater\nWhat makes a bird a bird? And when did all those characteristically birdy features first evolve? The evolutionary origins of birds\, and the way that birds were “built” over the course of almost 100 million years\, may surprise you! \nDr. Jerry Harris was born at a very early age in Chicago\, Illinois. Shortly thereafter\, he became enamored with dinosaurs\, and his continued fascination with them proves that he’s never quite grown up completely. With a few hiccups along the way\, and by continually moving across the country\, he has earned B.A.\, M.S.\, and Ph.D. degrees in the geosciences\, focusing on vertebrate paleontology. He has worked at the Denver Museum of Nature and Science and the New Mexico Museum of Natural History and Science; he is currently the Director of Paleontology and a Professor of Geology at Dixie State University and is the scientific advisor to the St. George Dinosaur Discovery Site at Johnson Farm in St. George. \n\n\nThe Voyager Lecture Series is generously sponsored by Voyager Wealth Advisors\, Cache Valley Bank\, and Richardson Brothers Custom Homes. \n  \n\n\n\nTickets $20
URL:https://kayentaarts.org/event/voyager-lecture-series-how-to-build-a-bird-evolution-style/
LOCATION:Center for the Arts at Kayenta
CATEGORIES:Lectures & Ideas
ORGANIZER;CN="Center for the Arts at Kayenta":MAILTO:boxoffice@kayentaarts.com
END:VEVENT
END:VCALENDAR