BEGIN:VCALENDAR
VERSION:2.0
PRODID:-//Kayenta Arts - ECPv6.15.20//NONSGML v1.0//EN
CALSCALE:GREGORIAN
METHOD:PUBLISH
X-ORIGINAL-URL:https://kayentaarts.org
X-WR-CALDESC:Events for Kayenta Arts
REFRESH-INTERVAL;VALUE=DURATION:PT1H
X-Robots-Tag:noindex
X-PUBLISHED-TTL:PT1H
BEGIN:VTIMEZONE
TZID:UTC
BEGIN:STANDARD
TZOFFSETFROM:+0000
TZOFFSETTO:+0000
TZNAME:UTC
DTSTART:20230101T000000
END:STANDARD
END:VTIMEZONE
BEGIN:VEVENT
DTSTART;TZID=UTC:20240301T173000
DTEND;TZID=UTC:20240301T213000
DTSTAMP:20260421T152508
CREATED:20240215T215831Z
LAST-MODIFIED:20240215T223435Z
UID:10005057-1709314200-1709328600@kayentaarts.org
SUMMARY:First Fridays at Kayenta
DESCRIPTION:Events & Happenings\nFirst Fridays at Kayenta\nevery First Friday / 5:30p-7:30p and later\nFREE to attend!\nKayenta Art Village\nWe’re thrilled to introduce First Fridays at Kayenta\, launching March 1 and happening on the first Friday of every month in 2024! Enjoy live music\, food\, and fun in the Kayenta Art Village beginning at 5:30pm\, and a special screening from DOCUTAH at 7:30pm. \n\nFriday March 1 Lineup:\n4:00p-5:00p Introduction to Pyrography Class at MakeSpace \nRegistration required: makespacekayenta.com \n5:30p-7:00p Studio Open House with MakeSpace Instructors \n5:30p-7:30p Jazz Music in the Courtyard: Christian Bohnenstengel\, Tom Herb\, & Shawn Owens \n7:30p DOCUTAH Presents: Art For Everybody at the Center for the Arts at Kayenta \n\n\n\n\n\nThomas Kinkade’s landscapes made him the most collected and despised painter ever. After his shocking death\, his family discovers a vault of unseen paintings that reveal a complex artist whose life and work embody our divided America. \n$10 Tickets: KayentaArts.org \n  \n\n\n\n\n\n\n\n\n\n\n\n\n\n\n\n\n\n Add to calendar
URL:https://kayentaarts.org/event/first-fridays-at-kayenta/
LOCATION:Center for the Arts at Kayenta
CATEGORIES:First Fridays
ATTACH;FMTTYPE=image/png:https://kayentaarts.org/wp-content/uploads/2024/02/firstfriday_logoconcepts-02-e1708029095942.png
ORGANIZER;CN="Center for the Arts at Kayenta":MAILTO:boxoffice@kayentaarts.com
END:VEVENT
BEGIN:VEVENT
DTSTART;TZID=UTC:20240301T193000
DTEND;TZID=UTC:20240301T213000
DTSTAMP:20260421T152508
CREATED:20231122T203505Z
LAST-MODIFIED:20231122T203730Z
UID:10005042-1709321400-1709328600@kayentaarts.org
SUMMARY:DOCUTAH presents: Art for Everybody
DESCRIPTION:FILM\n\n\n\nDOCUTAH presents:\nArt for Everybody\nRegional Premiere\nFriday\, March 1\, 2024 // 7:30pm\nArrive early for FIRST FRIDAYS!\nEnjoy live music\, food\, and fun in the Kayenta Art Village beginning at 5:30pm.\nThe Lorraine Boccardo Theater\nThe Center for the Arts at Kayenta is thrilled to partner with DOCUTAH on a new monthly film series. DOCUTAH seeks to open hearts and minds to the world through beautifully crafted stories on film\, promoting education while creating an atmosphere of camaraderie and community. \nAbout the Film:\nThomas Kinkade’s landscapes made him the most collected and despised painter ever. After his shocking death\, his family discovers a vault of unseen paintings that reveal a complex artist whose life and work embody our divided America. \n\nTickets $10
URL:https://kayentaarts.org/event/docutah-presents-art-for-everybody/
LOCATION:Center for the Arts at Kayenta
CATEGORIES:Film
ORGANIZER;CN="Center for the Arts at Kayenta":MAILTO:boxoffice@kayentaarts.com
END:VEVENT
BEGIN:VEVENT
DTSTART;TZID=UTC:20240302T193000
DTEND;TZID=UTC:20240302T213000
DTSTAMP:20260421T152508
CREATED:20231122T223741Z
LAST-MODIFIED:20231122T223741Z
UID:10005043-1709407800-1709415000@kayentaarts.org
SUMMARY:Soiree Musicale: The Art of Fugue
DESCRIPTION:CLASSICAL MUSIC\nSoirée Musicale with Jason Bonham\nBach: The Art of Fugue\nSaturday\, March 2\, 2024 / 7:30pm\nThe Lorraine Boccardo Theater\nSoirée Musicale features top local musicians and guest professionals from across the Western region tackling some of the most advanced and inspiring classical music in the repertoire. Our Spring series is under the direction of Jason Bonham\, esteemed musician and principle violist with Las Vegas Philharmonic. \nFeaturing: Jameson Cooper (violin)\, Urs Rutishauser (violin)\, Jason Bonham (viola)\, Evgeny Tonkha (cello)\, Robert Matheson (bass)\, Stephanie Hoernes (piano). \nRepertoire:\nVaughn Williams\,  Piano Quintet in C Minor \nBach\, The Art of Fugue \nZwilich\, Piano Quintet \nTickets $35
URL:https://kayentaarts.org/event/soiree-musicale-the-art-of-fugue/
LOCATION:Center for the Arts at Kayenta
CATEGORIES:Classical Music
ORGANIZER;CN="Center for the Arts at Kayenta":MAILTO:boxoffice@kayentaarts.com
END:VEVENT
BEGIN:VEVENT
DTSTART;TZID=UTC:20240308T193000
DTEND;TZID=UTC:20240308T213000
DTSTAMP:20260421T152508
CREATED:20231130T203119Z
LAST-MODIFIED:20231130T203453Z
UID:10005044-1709926200-1709933400@kayentaarts.org
SUMMARY:Martha Scanlan & Jon Neufeld
DESCRIPTION:MUSIC\nMartha Scanlan & Jon Neufeld\nFriday\, March 8\, 2024 // 7:30pm\nThe Lorraine Boccardo Theater\nAnyone familiar with Martha Scanlan and Jon Neufeld’s unique alchemy on stage will not be surprised by the sense of being taken into the moment – their shows are in and of themselves a journey of improvisation; the way Jon Neufeld’s brilliant innovative guitar playing weaves effortlessly around Martha’s timeless songwriting is simply magical. While currents of deep Appalachian mountain valleys and vast Montana landscapes wind through Martha’s songs\, it’s really the accessibility and intimacy that defines them\, and how they seem to find their way into soundtracks by TBone Burnett\, pages of celebrated American novelists like Rick Bass and Joyce Carol Oates\, shared mixes by Emmy Lou Harris\, covers by roots musicians from Sarah Jarosz to Andrew Marlin to Solas\, quiet song circles and camp fires. \n  \n \n  \n$35
URL:https://kayentaarts.org/event/martha-scanlan-jon-neufeld/
LOCATION:Center for the Arts at Kayenta
CATEGORIES:Music
ORGANIZER;CN="Center for the Arts at Kayenta":MAILTO:boxoffice@kayentaarts.com
END:VEVENT
BEGIN:VEVENT
DTSTART;TZID=UTC:20240316T180000
DTEND;TZID=UTC:20240316T220000
DTSTAMP:20260421T152508
CREATED:20240303T012251Z
LAST-MODIFIED:20240303T012251Z
UID:10005060-1710612000-1710626400@kayentaarts.org
SUMMARY:Diamonds Are Forever Gala
DESCRIPTION:Kayenta Arts Foundation presents\nDIAMONDS ARE FOREVER GALA\nCelebrating 007 YEARS OF ARTS AND INTRIGUE!\nWear your best JAMES BOND attire and enjoy an evening that is shaken\, not stirred\, as we dine\, drink and dance the night away. \nPrepare for a delicious dinner with accompanying Bubbly or Wine. \nWe’ll have LIVE piano music by Paul Taylor. \nSpecial guests: Heidi Anderson\, Christian Erickson\, and \nSoul What? with Alice Ericksen. \nAnd\, you will have the opportunity to support our programing through a fun \n“Paddle Philanthropic Experience!” \nSaturday\, March 16 \n6:00PM MST \nCenter for the Arts at Kayenta \n881 N Coyote Gulch Ct \nIvins\, UT 84738 \nSCHEDULE\nDoors open at 5:30pm \nWalk the Red Carpet \nWelcome – 6:15pm \nDinner Served – 6:30pm \n“Philanthropic Experience” – 7:00pm \nTheme Song Trivia – 7:30pm \nAuction: Gary Collins Painting – 8:20pm \nTheme Song Trivia – 8:30pm \nMusic and Dancing 8:50pm-10:00pm \nMORE INFORMATION\nThere will be a costume contest for the: \n\nBest James Bond Look alike\nBest Bond Character look alike\n\nPlus\, MANY more surprises that you’ll have to be there to see!! \nWe’re excited to enjoy this evening with you! \n\nPURCHASE YOUR TICKETS \n\n\nPurchase options: \n $175 (After March 1st) \n1 Table (Six Seats) – $1\,000 \nGALA TICKETS
URL:https://kayentaarts.org/event/diamonds-are-forever-gala/
LOCATION:Center for the Arts at Kayenta
ATTACH;FMTTYPE=image/png:https://kayentaarts.org/wp-content/uploads/2024/03/Screenshot-2024-02-20-161625.png
ORGANIZER;CN="Center for the Arts at Kayenta":MAILTO:boxoffice@kayentaarts.com
END:VEVENT
BEGIN:VEVENT
DTSTART;TZID=UTC:20240322T193000
DTEND;TZID=UTC:20240322T210000
DTSTAMP:20260421T152508
CREATED:20231229T224630Z
LAST-MODIFIED:20231229T225439Z
UID:10005050-1711135800-1711141200@kayentaarts.org
SUMMARY:DaEun Jung: BYOUL|NORRI
DESCRIPTION:DANCE\nDaEun Jung: BYOUL|NORRI\nFriday\, Saturday\, & Sunday March 22-24\, 2024 // 7:30pm on Friday-Saturday & 2:00pm on Sunday\nThe Lorraine Boccardo Theater\nBYOUL|NORRI by Los Angeles-based choreographer DaEun Jung features Pansori song (Korean folk opera)\, original electronic beats\, irregular folk rhythms\, Hangul (Korean alphabet system)\, and chance operation that deconstructs\, reinterprets and transforms classical Korean dance. The hour-long concert is performed in two parts\, Byoul (별): “star\,” a solo performance by the Choreographer herself\, and Norri (놀이): “play’\, a four part ensemble work. \nIn her dances\, DaEun Jung connects different times and spaces together across cultures and geographies. Her work has redefined the principle\, form\, structure\, and function of Korean classical and folk dance in multicultural settings. DaEun studied at UCLA where she received her MFA in choreography and the Westfield Emerging Artist Award. Previously\, she performed in Asia and Europe as a dancer of Gyeonggi Provincial Dance Company\, a dance organization renowned for its traditional and contemporary Korean dance repertoire\, and also performed as a main actress in Tokebi Storm\, a rhythmic physical theater group\, presenting Korean-style drumming and dance in more than 1\,000 shows to worldwide audiences. \n  \nTickets $35
URL:https://kayentaarts.org/event/daeun-jung-byoulnorri/
LOCATION:Center for the Arts at Kayenta
CATEGORIES:Dance
ORGANIZER;CN="Center for the Arts at Kayenta":MAILTO:boxoffice@kayentaarts.com
END:VEVENT
BEGIN:VEVENT
DTSTART;TZID=UTC:20240323T193000
DTEND;TZID=UTC:20240323T210000
DTSTAMP:20260421T152508
CREATED:20231229T231031Z
LAST-MODIFIED:20231229T231031Z
UID:10005051-1711222200-1711227600@kayentaarts.org
SUMMARY:DaEun Jung: BYOUL|NORRI
DESCRIPTION:DANCE\nDaEun Jung: BYOUL|NORRI\nFriday\, Saturday\, & Sunday March 22-24\, 2024 // 7:30pm on Friday-Saturday & 2:00pm on Sunday\nThe Lorraine Boccardo Theater\nBYOUL|NORRI by Los Angeles-based choreographer DaEun Jung features Pansori song (Korean folk opera)\, original electronic beats\, irregular folk rhythms\, Hangul (Korean alphabet system)\, and chance operation that deconstructs\, reinterprets and transforms classical Korean dance. The hour-long concert is performed in two parts\, Byoul (별): “star\,” a solo performance by the Choreographer herself\, and Norri (놀이): “play’\, a four part ensemble work. \nIn her dances\, DaEun Jung connects different times and spaces together across cultures and geographies. Her work has redefined the principle\, form\, structure\, and function of Korean classical and folk dance in multicultural settings. DaEun studied at UCLA where she received her MFA in choreography and the Westfield Emerging Artist Award. Previously\, she performed in Asia and Europe as a dancer of Gyeonggi Provincial Dance Company\, a dance organization renowned for its traditional and contemporary Korean dance repertoire\, and also performed as a main actress in Tokebi Storm\, a rhythmic physical theater group\, presenting Korean-style drumming and dance in more than 1\,000 shows to worldwide audiences. \n  \nTickets $35
URL:https://kayentaarts.org/event/daeun-jung-byoulnorri-2/
LOCATION:Center for the Arts at Kayenta
CATEGORIES:Dance
ORGANIZER;CN="Center for the Arts at Kayenta":MAILTO:boxoffice@kayentaarts.com
END:VEVENT
BEGIN:VEVENT
DTSTART;TZID=UTC:20240324T140000
DTEND;TZID=UTC:20240324T153000
DTSTAMP:20260421T152508
CREATED:20231229T231808Z
LAST-MODIFIED:20231229T231808Z
UID:10005052-1711288800-1711294200@kayentaarts.org
SUMMARY:DaEun Jung: BYOUL|NORRI
DESCRIPTION:DANCE\nDaEun Jung: BYOUL|NORRI\nFriday\, Saturday\, & Sunday March 22-24\, 2024 // 7:30pm on Friday-Saturday & 2:00pm on Sunday\nThe Lorraine Boccardo Theater\nBYOUL|NORRI by Los Angeles-based choreographer DaEun Jung features Pansori song (Korean folk opera)\, original electronic beats\, irregular folk rhythms\, Hangul (Korean alphabet system)\, and chance operation that deconstructs\, reinterprets and transforms classical Korean dance. The hour-long concert is performed in two parts\, Byoul (별): “star\,” a solo performance by the Choreographer herself\, and Norri (놀이): “play’\, a four part ensemble work. \nIn her dances\, DaEun Jung connects different times and spaces together across cultures and geographies. Her work has redefined the principle\, form\, structure\, and function of Korean classical and folk dance in multicultural settings. DaEun studied at UCLA where she received her MFA in choreography and the Westfield Emerging Artist Award. Previously\, she performed in Asia and Europe as a dancer of Gyeonggi Provincial Dance Company\, a dance organization renowned for its traditional and contemporary Korean dance repertoire\, and also performed as a main actress in Tokebi Storm\, a rhythmic physical theater group\, presenting Korean-style drumming and dance in more than 1\,000 shows to worldwide audiences. \n  \nTickets $35
URL:https://kayentaarts.org/event/daeun-jung-byoulnorri-3/
LOCATION:Center for the Arts at Kayenta
CATEGORIES:Dance
ORGANIZER;CN="Center for the Arts at Kayenta":MAILTO:boxoffice@kayentaarts.com
END:VEVENT
BEGIN:VEVENT
DTSTART;TZID=UTC:20240326T193000
DTEND;TZID=UTC:20240326T213000
DTSTAMP:20260421T152508
CREATED:20240228T025333Z
LAST-MODIFIED:20240304T194040Z
UID:10005058-1711481400-1711488600@kayentaarts.org
SUMMARY:Voyager Lecture Series: The Hidden World Beneath the Antarctic Ice Sheet with John Priscu
DESCRIPTION:LECTURES & IDEAS\nVoyager Lecture Series\nThe Hidden World Beneath the Antarctic Ice Sheet\nPresentation by John Priscu\nTuesday\, March 26\, 2024 // 7:30pm\nOptional Social Hour With Like-Minded Friends\, Light Snacks And Beverages @ 6:30pm\nThe Lorraine Boccardo Theater\nDiscover the secrets that lie beneath the largest block of ice on Earth that covers more than 5.4\nmillion square miles and contains over 68% of all the freshwater on our planet. \nJohn Priscu is a Regents Professor Emeritus of Ecology and senior scientist with Polar Oceans\nResearch Group. He has spent 40 field seasons in Antarctica conducting research on life under\nice-shelves\, the Southern Ocean\, sea ice\, permanently ice-covered lakes\, life beneath the two-\nmile-thick Antarctic ice sheet\, and climate change. His work also focuses on Himalayan glaciers\nand the study of life on icy worlds beyond Earth putting him in Tibet\, Alaska\, and Greenland as\nan investigator on various Chinese and NASA projects. He chaired the Scientific Committee on\nAntarctic Research international subglacial group of experts and led the first winter expeditions\nto study ecosystems in the Transantarctic Mountains during the polar night. \nProfessor Priscu is a Fellow of the American Society of Limnology and Oceanography\,\nAmerican Association for the Advancement of Science\, and the American Geophysical Union\, is\na German Humboldt Scholar\, and has received numerous awards for his research\, including the\nGoldwaithe Medal in Glaciology for his work on polar ice sheets\, the International Medal for\nScientific Excellence from the Scientific Committee on Antarctic Research\, and the E.O. Wilson\nBiodiversity Award for his work on polar microbial diversity. An Antarctic stream and valley\, and\ntwo cold-loving microorganisms have been named after him. Priscu has published more than\n300 scholarly articles on his research\, edited four books\, and is the featured scientist on the\nrecent award-winning documentary “The Lake at the Bottom of the World” available on Prime\,\nAppleTV and other media outlets. \nTickets $20\n 
URL:https://kayentaarts.org/event/voyager-lecture-series-the-hidden-world-beneath-the-antarctic-ice-sheet-with-john-priscu/
LOCATION:Center for the Arts at Kayenta
CATEGORIES:Lectures & Ideas
ORGANIZER;CN="Center for the Arts at Kayenta":MAILTO:boxoffice@kayentaarts.com
END:VEVENT
BEGIN:VEVENT
DTSTART;TZID=UTC:20240330T193000
DTEND;TZID=UTC:20240330T213000
DTSTAMP:20260421T152508
CREATED:20240228T025811Z
LAST-MODIFIED:20240301T193234Z
UID:10005059-1711827000-1711834200@kayentaarts.org
SUMMARY:St. George Jazz: Love & Fusion
DESCRIPTION:JAZZ MUSIC\nSt. George Jazz: Love & Fusion\nSaturday\, March 30\, 2024 // 7:30pm\nThe Lorraine Boccardo Theater\nThe St George All-Stars present a blend of love songs from the Great American Song Book\npaired with contemporary jazz offerings. Vocalist Joey Forte fronts the ensemble performing\narrangements and compositions by band leader Glenn Webb. \nTickets $30
URL:https://kayentaarts.org/event/st-george-jazz-love-fusion/
LOCATION:Center for the Arts at Kayenta
CATEGORIES:Music
ORGANIZER;CN="Center for the Arts at Kayenta":MAILTO:boxoffice@kayentaarts.com
END:VEVENT
END:VCALENDAR