BEGIN:VCALENDAR
VERSION:2.0
PRODID:-//Kayenta Arts - ECPv6.15.20//NONSGML v1.0//EN
CALSCALE:GREGORIAN
METHOD:PUBLISH
X-WR-CALNAME:Kayenta Arts
X-ORIGINAL-URL:https://kayentaarts.org
X-WR-CALDESC:Events for Kayenta Arts
REFRESH-INTERVAL;VALUE=DURATION:PT1H
X-Robots-Tag:noindex
X-PUBLISHED-TTL:PT1H
BEGIN:VTIMEZONE
TZID:UTC
BEGIN:STANDARD
TZOFFSETFROM:+0000
TZOFFSETTO:+0000
TZNAME:UTC
DTSTART:20230101T000000
END:STANDARD
END:VTIMEZONE
BEGIN:VEVENT
DTSTART;TZID=UTC:20240503T173000
DTEND;TZID=UTC:20240503T193000
DTSTAMP:20260421T120415
CREATED:20240501T190415Z
LAST-MODIFIED:20240501T190415Z
UID:10005079-1714757400-1714764600@kayentaarts.org
SUMMARY:First Fridays at Kayenta
DESCRIPTION:Events & Happenings\nFirst Fridays at Kayenta\nevery First Friday / 5:30p-7:30p and later\nFREE to attend!\nKayenta Art Village\nWe’re thrilled to introduce First Fridays at Kayenta\, launching March 1 and happening on the first Friday of every month in 2024! Enjoy live music\, food\, and fun in the Kayenta Art Village beginning at 5:30pm\, and a special screening from DOCUTAH at 7:30pm. \nFirst Friday
URL:https://kayentaarts.org/event/first-fridays-at-kayenta-3/
LOCATION:Center for the Arts at Kayenta
CATEGORIES:First Fridays
ATTACH;FMTTYPE=image/png:https://kayentaarts.org/wp-content/uploads/2024/02/firstfriday_logoconcepts-02-e1708029095942.png
ORGANIZER;CN="Center for the Arts at Kayenta":MAILTO:boxoffice@kayentaarts.com
END:VEVENT
BEGIN:VEVENT
DTSTART;TZID=UTC:20240503T193000
DTEND;TZID=UTC:20240503T213000
DTSTAMP:20260421T120415
CREATED:20231228T181732Z
LAST-MODIFIED:20231228T181732Z
UID:10005048-1714764600-1714771800@kayentaarts.org
SUMMARY:DOCUTAH presents: Tour of Honor
DESCRIPTION:FILM\n\n\n\nDOCUTAH presents:\nTour of Honor\nFriday\, May 3\, 2024 // 7:30pm\nArrive early for FIRST FRIDAYS!\nEnjoy live music\, food\, and fun in the Kayenta Art Village beginning at 5:30pm.\nThe Lorraine Boccardo Theater\nThe Center for the Arts at Kayenta is thrilled to partner with DOCUTAH on a new monthly film series. DOCUTAH seeks to open hearts and minds to the world through beautifully crafted stories on film\, promoting education while creating an atmosphere of camaraderie and community. \nAbout the Film:\nA group of 21 World War II\, Korea\, and Vietnam Veterans are flown back to Washington D.C to see their memorials in an immersive and emotional documentary. \nTickets $10
URL:https://kayentaarts.org/event/docutah-presents-tour-of-honor/
LOCATION:Center for the Arts at Kayenta
CATEGORIES:Film
ORGANIZER;CN="Center for the Arts at Kayenta":MAILTO:boxoffice@kayentaarts.com
END:VEVENT
BEGIN:VEVENT
DTSTART;TZID=UTC:20240510T193000
DTEND;TZID=UTC:20240510T213000
DTSTAMP:20260421T120415
CREATED:20240307T212518Z
LAST-MODIFIED:20240307T212518Z
UID:10005069-1715369400-1715376600@kayentaarts.org
SUMMARY:COYOTE TALES True Stories Told Live
DESCRIPTION:COMMUNITY & STORYTELLING\nCOYOTE TALES True Stories Told Live\nThe Night’s Theme: GIFT\nFriday\, May 10\, 2024 // 7:30pm\nPre-show party 6:30 pm (event ticket required for admission)\nThe Lorraine Boccardo Theater\nCoyote Tales are live\, open-mic style storytelling events with amateur and experienced storytellers. Each event has a theme on which stories are to be based. The theme for this event is: “GIFT” Potential storytellers may address that theme in any way they choose. Prior to the event\, storytellers craft their true\, on-theme story\, practice the telling (5 minutes or less)\, and work on eliminating excess detail to nail the perfect ending. When the doors open\, potential storytellers put their name in the hat in hopes of being chosen to share their tale. If chosen\, the storyteller takes the stage to delight the audience. \nFOR MORE INFORMATION OR TO GET ON STAGE TO SHARE YOUR TALE\, PLEASE CONTACT VICTORIA THROUGH THE COYOTE TALES WEBSITE: https://coyotetalesstories.com/ \nTickets $20
URL:https://kayentaarts.org/event/coyote-tales-true-stories-told-live/
LOCATION:Center for the Arts at Kayenta
CATEGORIES:Storytelling
ATTACH;FMTTYPE=image/png:https://kayentaarts.org/wp-content/uploads/2024/03/Screenshot-2024-03-02-223626.png
ORGANIZER;CN="Center for the Arts at Kayenta":MAILTO:boxoffice@kayentaarts.com
END:VEVENT
BEGIN:VEVENT
DTSTART;TZID=UTC:20240511T150000
DTEND;TZID=UTC:20240511T170000
DTSTAMP:20260421T120415
CREATED:20240308T175140Z
LAST-MODIFIED:20240308T175140Z
UID:10005070-1715439600-1715446800@kayentaarts.org
SUMMARY:DOWNWIND A free film screening\, followed by a panel discussion with Q&A.
DESCRIPTION:FILM\nDOWNWIND\nA free film screening\, followed by a panel discussion with Q&A.\nSaturday\, May 11\, 2024 // 3:00pm\nThe Lorraine Boccardo Theater\nHiroshima. Nagasaki. Mercury\, Nevada?  The latter was the site for the testing of 928 nuclear weapons on American soil from 1951 to 1992. The fallout is still lethally impacting Americans today. Martin Sheen narrates this harrowing exposé of the United States’ disregard for everyone living… DOWNWIND. \nOne of this year’s original Oscar-qualifiers\, DOWNWIND has won several awards on the festival circuit. \nIn the wake of Oppenheimer\, DOWNWIND exposes the United States Government’s 928 nuclear detonations from 1951-1992 at the Nevada Test Site and the ongoing impact of radioactive fallout on countless communities — and the environment. \nDOWNWIND features two-time Oscar-winner Michael Douglas\, political satirist Lewis Black and is narrated by iconic anti-nuclear activist Martin Sheen. Actor Matthew Modine is our executive producer. \nDOWNWIND also includes the inspirational\, real stories of prominent “downwinders” who live in the path of radioactive fallout including Claudia Peterson (from St. George)\, Mary Dickson and Ian Zabarte\, Principle Man of the Western Bands of the Shoshone Nation of Indians. Roughly the size of the state of Rhode Island\, the Nevada Test Site sits on Shoshone land\, by treaty\, yet it still remains occupied\, restricted — and operational. \nOf DOWNWIND\, critic Leonard Maltin wrote: “I urge you to check out Downwind. It’s a compelling and sobering documentary.” \nhttps://youtu.be/d-KWaE2La5g \n  \nTickets $0
URL:https://kayentaarts.org/event/downwind-a-free-film-screening-followed-by-a-panel-discussion-with-qa/
LOCATION:Center for the Arts at Kayenta
CATEGORIES:Film
ORGANIZER;CN="Center for the Arts at Kayenta":MAILTO:boxoffice@kayentaarts.com
END:VEVENT
BEGIN:VEVENT
DTSTART;TZID=UTC:20240517T100000
DTEND;TZID=UTC:20240517T170000
DTSTAMP:20260421T120415
CREATED:20240308T180627Z
LAST-MODIFIED:20240308T180800Z
UID:10005071-1715940000-1715965200@kayentaarts.org
SUMMARY:FESTIVAL OF THE AMERICAS
DESCRIPTION:Festival\nFESTIVAL OF THE AMERICAS\nA FREE Art Festival at Kayenta Art Village\nFriday-Sunday\, May 17-19\, 2024\n10am-5pm Daily\nJoin us for the return of Festival of the Americas\, an immersive three-day festival to celebrate indigenous and Native American art & culture. \nWander through a vibrant marketplace of native arts and crafts featuring regional vendors showcasing exquisite handcrafted and indigenous products and art. Let the beats of mesmerizing performances echo in the air as talented artists bring the spirit of the Americas to life. Indulge your taste buds in a culinary adventure with a diverse array of delectable offerings from authentic food vendors. \nThis festival is more than an event; it’s an experience that invites you to connect with the heart and soul of native traditions. Join us for a harmonious blend of art\, music\, flavors\, and traditions at the Festival of the Americas – where the spirit of the continent comes alive in every moment. \nFestival of the Americas
URL:https://kayentaarts.org/event/festival-of-the-americas/2024-05-17/
LOCATION:Center for the Arts at Kayenta
CATEGORIES:Festival
ATTACH;FMTTYPE=image/jpeg:https://kayentaarts.org/wp-content/uploads/2024/02/Web_0028_Kayenta_20230519_Americas__Z603707_0471.jpg
ORGANIZER;CN="Center for the Arts at Kayenta":MAILTO:boxoffice@kayentaarts.com
END:VEVENT
BEGIN:VEVENT
DTSTART;TZID=UTC:20240518T100000
DTEND;TZID=UTC:20240518T170000
DTSTAMP:20260421T120415
CREATED:20240308T180627Z
LAST-MODIFIED:20240308T180800Z
UID:10005072-1716026400-1716051600@kayentaarts.org
SUMMARY:FESTIVAL OF THE AMERICAS
DESCRIPTION:Festival\nFESTIVAL OF THE AMERICAS\nA FREE Art Festival at Kayenta Art Village\nFriday-Sunday\, May 17-19\, 2024\n10am-5pm Daily\nJoin us for the return of Festival of the Americas\, an immersive three-day festival to celebrate indigenous and Native American art & culture. \nWander through a vibrant marketplace of native arts and crafts featuring regional vendors showcasing exquisite handcrafted and indigenous products and art. Let the beats of mesmerizing performances echo in the air as talented artists bring the spirit of the Americas to life. Indulge your taste buds in a culinary adventure with a diverse array of delectable offerings from authentic food vendors. \nThis festival is more than an event; it’s an experience that invites you to connect with the heart and soul of native traditions. Join us for a harmonious blend of art\, music\, flavors\, and traditions at the Festival of the Americas – where the spirit of the continent comes alive in every moment. \nFestival of the Americas
URL:https://kayentaarts.org/event/festival-of-the-americas/2024-05-18/
LOCATION:Center for the Arts at Kayenta
CATEGORIES:Festival
ATTACH;FMTTYPE=image/jpeg:https://kayentaarts.org/wp-content/uploads/2024/02/Web_0028_Kayenta_20230519_Americas__Z603707_0471.jpg
ORGANIZER;CN="Center for the Arts at Kayenta":MAILTO:boxoffice@kayentaarts.com
END:VEVENT
BEGIN:VEVENT
DTSTART;TZID=UTC:20240518T180000
DTEND;TZID=UTC:20240518T193000
DTSTAMP:20260421T120415
CREATED:20240516T192428Z
LAST-MODIFIED:20240516T192428Z
UID:10005081-1716055200-1716060600@kayentaarts.org
SUMMARY:Southern Paiute Constellation Presentation
DESCRIPTION:LECTURES & IDEAS\nSouthern Paiute Constellation Presentation\npart of Festival of the Americas\nPresentation by Autumn Gillard\, (maternal descendant of the Paiute Indian Tribe of Utah)\nSaturday\, May 18\, 2024 // 6:00pm\nThe Lorraine Boccardo Theater\nAutumn Gillard is the Cultural Resource Manager for the Paiute Indian Tribe of Utah. A Southern Paiute astronomer\, she was a former Interpretive Ranger at Pipe Spring National Monument in Arizona\, which in 2021 through her research successfully petitioned to have it designated as an International Dark Sky Park. Autumn has a bachelor’s degree in Anthropology minor psychology and a masters degree in cultural resource management. \nPresentation to be followed by outdoor refreshments & stargazing! \nTICKETS
URL:https://kayentaarts.org/event/southern-paiute-constellation-presentation/
LOCATION:Center for the Arts at Kayenta
CATEGORIES:Festival,Lectures & Ideas
ATTACH;FMTTYPE=image/jpeg:https://kayentaarts.org/wp-content/uploads/2024/05/Festival-Date-Card-4.jpg
ORGANIZER;CN="Center for the Arts at Kayenta":MAILTO:boxoffice@kayentaarts.com
END:VEVENT
BEGIN:VEVENT
DTSTART;TZID=UTC:20240519T100000
DTEND;TZID=UTC:20240519T170000
DTSTAMP:20260421T120415
CREATED:20240308T180627Z
LAST-MODIFIED:20240308T180800Z
UID:10005073-1716112800-1716138000@kayentaarts.org
SUMMARY:FESTIVAL OF THE AMERICAS
DESCRIPTION:Festival\nFESTIVAL OF THE AMERICAS\nA FREE Art Festival at Kayenta Art Village\nFriday-Sunday\, May 17-19\, 2024\n10am-5pm Daily\nJoin us for the return of Festival of the Americas\, an immersive three-day festival to celebrate indigenous and Native American art & culture. \nWander through a vibrant marketplace of native arts and crafts featuring regional vendors showcasing exquisite handcrafted and indigenous products and art. Let the beats of mesmerizing performances echo in the air as talented artists bring the spirit of the Americas to life. Indulge your taste buds in a culinary adventure with a diverse array of delectable offerings from authentic food vendors. \nThis festival is more than an event; it’s an experience that invites you to connect with the heart and soul of native traditions. Join us for a harmonious blend of art\, music\, flavors\, and traditions at the Festival of the Americas – where the spirit of the continent comes alive in every moment. \nFestival of the Americas
URL:https://kayentaarts.org/event/festival-of-the-americas/2024-05-19/
LOCATION:Center for the Arts at Kayenta
CATEGORIES:Festival
ATTACH;FMTTYPE=image/jpeg:https://kayentaarts.org/wp-content/uploads/2024/02/Web_0028_Kayenta_20230519_Americas__Z603707_0471.jpg
ORGANIZER;CN="Center for the Arts at Kayenta":MAILTO:boxoffice@kayentaarts.com
END:VEVENT
BEGIN:VEVENT
DTSTART;TZID=UTC:20240525T193000
DTEND;TZID=UTC:20240525T213000
DTSTAMP:20260421T120415
CREATED:20240309T213140Z
LAST-MODIFIED:20240309T213140Z
UID:10005074-1716665400-1716672600@kayentaarts.org
SUMMARY:Soirée Musicale with Jason Bonham Jazz\, Rock and Movie Music
DESCRIPTION:MUSIC\nSoirée Musicale with Jason Bonham\nJazz\, Rock and Movie Music\nSaturday\, May 25\, 2024 // 7:30pm\nThe Lorraine Boccardo Theater\nSoirée Musicale features top local musicians and guest professionals from across the Western region tackling some of the most advanced and inspiring instrumental music in the repertoire. Our Spring series is under the direction of Jason Bonham\, esteemed musician and principle violist with Las Vegas Philharmonic. \nFor May’s concert\, join us for a fun evening of instrumental music featuring pop\, jazz\, and movie music from the Beatles\, Queen\, Chick Corea\, Batman and more! \nFeaturing: DeAnn Letournau (violin)\, Urs Rutishauser (violin)\, Jason Bonham (viola)  and Andrew Smith (cello). \nTickets $35
URL:https://kayentaarts.org/event/soiree-musicale-with-jason-bonham-jazz-rock-and-movie-music/
LOCATION:Center for the Arts at Kayenta
CATEGORIES:Music
ATTACH;FMTTYPE=image/jpeg:https://kayentaarts.org/wp-content/uploads/2024/03/05.25-Soiree-Musicale.jpg
ORGANIZER;CN="Center for the Arts at Kayenta":MAILTO:boxoffice@kayentaarts.com
END:VEVENT
BEGIN:VEVENT
DTSTART;TZID=UTC:20240526T193000
DTEND;TZID=UTC:20240526T213000
DTSTAMP:20260421T120415
CREATED:20240515T232437Z
LAST-MODIFIED:20240519T170845Z
UID:10005080-1716751800-1716759000@kayentaarts.org
SUMMARY:Sunday Night… All Right! with Mike & Elaine
DESCRIPTION:Sunday Night… All Right! with Mike & Elaine\nSunday\, May 26\, 2024\n7:30pm-9:30pm\nKayenta Art Village Outdoor Theater\nJoin us for the fun Kayenta tradition of Sunday Night…All Right! at the Kayenta Village Outdoor Theater. Our May 26th date will feature Mike & Elaine! \nYou are welcome to bring a snack and/or beverage. Light snacks and non-alcoholic beverages will be available for sale. Join your friends as we celebrate the warmer weather with music and dancing. \nUPCOMING SUNDAY NIGHTS:\nJune 23  6:30-8:30 pm: Julie Wright \nTickets $15
URL:https://kayentaarts.org/event/sunday-night-all-right-with-mike-elaine-2/
LOCATION:Center for the Arts at Kayenta
CATEGORIES:Community
ATTACH;FMTTYPE=image/jpeg:https://kayentaarts.org/wp-content/uploads/2023/08/MikeElaine.jpg
ORGANIZER;CN="Center for the Arts at Kayenta":MAILTO:boxoffice@kayentaarts.com
END:VEVENT
BEGIN:VEVENT
DTSTART;TZID=UTC:20240528T193000
DTEND;TZID=UTC:20240528T213000
DTSTAMP:20260421T120415
CREATED:20240309T230925Z
LAST-MODIFIED:20240309T230925Z
UID:10005075-1716924600-1716931800@kayentaarts.org
SUMMARY:Voyager Lecture Series: The natural function of nicotine and other botanical tales of intrigue from Kayenta’s neighborhood
DESCRIPTION:Voyager Lecture Series: The natural function of nicotine and other botanical tales of intrigue from Kayenta’s neighborhood\nLECTURES & IDEAS\nVoyager Lecture Series\nPresentation by Ian T. Baldwin\, Max Planck Institute for Chemical Ecology\, Jena Germany\, and the DI Ranch\, Motoqua\, UT\nTuesday\, May 28\, 2024 // 7:30pm\nOptional Social Hour With Like-Minded Friends\, Light Snacks And Beverages @ 6:30pm\nThe Lorraine Boccardo Theater\nHave you wondered why plants produce so many of the drugs that humans use and abuse (nicotine\, cocaine\, opium\, THC\, aspirin\, etc.)? \nThese “why” questions have been addressed in studies that lack scientific rigor\, being little more than modern versions of Rudyard Kipling’s “just-so-stories” (How leopards got their spots…).   Thanks to the long-term patient funding of the Max Planck Society in Germany\, Ian T. Baldwin and his students have developed a fire-chasing native tobacco plant\, Nicotiana attenuata\, which grows in Kayenta’s botanical ‘hood\, into a model for the rigorous scientific study of these “drug-related why questions”. For the past three decades\, we have been silencing the genes in this plant that are responsible for the plant’s amazingly diverse chemistry (it makes more than 20\,000 unique compounds) and conducting experiments at the Lytle and DI Ranches in the Beaver Dam wash to provide answers to these “drug-related why questions”. \nThis talk will provide many examples of the sophistication with which this plant uses its chemistry to solve ecological problems. The solutions that this plant has evolved matches the creativity of the human imagination. These science-grounded examples of the creativity of natural selection underscore why nature preserves\, such as those at the Lytle and DI Ranches\, are invaluable laboratories for the study of gene function. \nTickets $20
URL:https://kayentaarts.org/event/voyager-lecture-series-the-natural-function-of-nicotine-and-other-botanical-tales-of-intrigue-from-kayentas-neighborhood/
LOCATION:Center for the Arts at Kayenta
CATEGORIES:Lectures & Ideas
ORGANIZER;CN="Center for the Arts at Kayenta":MAILTO:boxoffice@kayentaarts.com
END:VEVENT
END:VCALENDAR