BEGIN:VCALENDAR
VERSION:2.0
PRODID:-//Kayenta Arts - ECPv6.15.20//NONSGML v1.0//EN
CALSCALE:GREGORIAN
METHOD:PUBLISH
X-ORIGINAL-URL:https://kayentaarts.org
X-WR-CALDESC:Events for Kayenta Arts
REFRESH-INTERVAL;VALUE=DURATION:PT1H
X-Robots-Tag:noindex
X-PUBLISHED-TTL:PT1H
BEGIN:VTIMEZONE
TZID:UTC
BEGIN:STANDARD
TZOFFSETFROM:+0000
TZOFFSETTO:+0000
TZNAME:UTC
DTSTART:20230101T000000
END:STANDARD
END:VTIMEZONE
BEGIN:VEVENT
DTSTART;TZID=UTC:20240607T193000
DTEND;TZID=UTC:20240607T213000
DTSTAMP:20260421T103347
CREATED:20231228T192254Z
LAST-MODIFIED:20231228T192254Z
UID:10005049-1717788600-1717795800@kayentaarts.org
SUMMARY:DOCUTAH presents: Song for Our People
DESCRIPTION:FILM\n\n\n\nDOCUTAH presents:\nSong for Our People\nFriday\, June 7\, 2024 // 7:30pm\nArrive early for FIRST FRIDAYS!\nEnjoy live music\, food\, and fun in the Kayenta Art Village beginning at 5:30pm.\nThe Lorraine Boccardo Theater\nThe Center for the Arts at Kayenta is thrilled to partner with DOCUTAH on a new monthly film series. DOCUTAH seeks to open hearts and minds to the world through beautifully crafted stories on film\, promoting education while creating an atmosphere of camaraderie and community. \nAbout the Film:\nGo behind the scenes of an unforgettable recording session where an extraordinary group of artist activists come together to create a powerful new anthem to honor Black lives and inspire the fight for racial justice in America. \nTickets $10
URL:https://kayentaarts.org/event/docutah-presents-song-for-our-people/
LOCATION:Center for the Arts at Kayenta
CATEGORIES:Film
ORGANIZER;CN="Center for the Arts at Kayenta":MAILTO:boxoffice@kayentaarts.com
END:VEVENT
BEGIN:VEVENT
DTSTART;TZID=UTC:20240614T183000
DTEND;TZID=UTC:20240614T203000
DTSTAMP:20260421T103347
CREATED:20240519T172100Z
LAST-MODIFIED:20240519T184855Z
UID:10005082-1718389800-1718397000@kayentaarts.org
SUMMARY:Rhapsody in Blue Suede Shoes 100 Years of American Music and Dance
DESCRIPTION:DANCE / COMMUNITY\nSt. George Dance Company Presents\nRhapsody in Blue Suede Shoes\n100 Years of American Music and Dance\nJune 14 & 15\, 2024 // 6:30pm\nThe Lorraine Boccardo Theater\n2024 is the 100 year anniversary of Gershwin’s iconic Rhapsody in Blue. Help us commemorate this important piece of artistic history by celebrating the last 100 years of American music\, and dance at our encore performance of Rhapsody in Blue Suede Shoes. \nFrom the infectious energy of the jazz age to the rebellious spirit of rock ‘n’ roll; from the soulful rhythms of Motown to the infectious beats of hip-hop\, this show celebrates the rich tapestry of American creativity and innovation. \nBut this isn’t just a journey through the past – it’s a celebration of the present and a glimpse into the future of dance and music. Our dancers bring a fresh perspective to each movement\, infusing traditional styles with contemporary flair and pushing the boundaries of artistic expression. \nGet $5 off tickets when you subscribe to St. George Dance Company’s email list \n  \nTickets $25\n 
URL:https://kayentaarts.org/event/rhapsody-in-blue-suede-shoes-100-years-of-american-music-and-dance/2024-06-14/
LOCATION:Center for the Arts at Kayenta
CATEGORIES:Community
ATTACH;FMTTYPE=image/jpeg:https://kayentaarts.org/wp-content/uploads/2024/05/Special-Event-13.jpg
ORGANIZER;CN="Center for the Arts at Kayenta":MAILTO:boxoffice@kayentaarts.com
END:VEVENT
BEGIN:VEVENT
DTSTART;TZID=UTC:20240615T183000
DTEND;TZID=UTC:20240615T203000
DTSTAMP:20260421T103347
CREATED:20240519T172100Z
LAST-MODIFIED:20240519T184855Z
UID:10005083-1718476200-1718483400@kayentaarts.org
SUMMARY:Rhapsody in Blue Suede Shoes 100 Years of American Music and Dance
DESCRIPTION:DANCE / COMMUNITY\nSt. George Dance Company Presents\nRhapsody in Blue Suede Shoes\n100 Years of American Music and Dance\nJune 14 & 15\, 2024 // 6:30pm\nThe Lorraine Boccardo Theater\n2024 is the 100 year anniversary of Gershwin’s iconic Rhapsody in Blue. Help us commemorate this important piece of artistic history by celebrating the last 100 years of American music\, and dance at our encore performance of Rhapsody in Blue Suede Shoes. \nFrom the infectious energy of the jazz age to the rebellious spirit of rock ‘n’ roll; from the soulful rhythms of Motown to the infectious beats of hip-hop\, this show celebrates the rich tapestry of American creativity and innovation. \nBut this isn’t just a journey through the past – it’s a celebration of the present and a glimpse into the future of dance and music. Our dancers bring a fresh perspective to each movement\, infusing traditional styles with contemporary flair and pushing the boundaries of artistic expression. \nGet $5 off tickets when you subscribe to St. George Dance Company’s email list \n  \nTickets $25\n 
URL:https://kayentaarts.org/event/rhapsody-in-blue-suede-shoes-100-years-of-american-music-and-dance/2024-06-15/
LOCATION:Center for the Arts at Kayenta
CATEGORIES:Community
ATTACH;FMTTYPE=image/jpeg:https://kayentaarts.org/wp-content/uploads/2024/05/Special-Event-13.jpg
ORGANIZER;CN="Center for the Arts at Kayenta":MAILTO:boxoffice@kayentaarts.com
END:VEVENT
BEGIN:VEVENT
DTSTART;TZID=UTC:20240623T193000
DTEND;TZID=UTC:20240623T213000
DTSTAMP:20260421T103347
CREATED:20240611T163303Z
LAST-MODIFIED:20240611T163303Z
UID:10005099-1719171000-1719178200@kayentaarts.org
SUMMARY:Sunday Night… All Right! with Julie Wright
DESCRIPTION:Sunday Night… All Right! with Julie Wright\nSunday\, June 23\, 2024\n7:30pm-9:30pm\nKayenta Art Village Outdoor Theater\nJoin us for the fun Kayenta tradition of Sunday Night…All Right! at the Kayenta Village Outdoor Theater. Our June 23rd date will feature Jammin’ with Jules! \nJulie’s talents range from 50’s 60’s 70’s 80’s Rock\, and Country. She currently sings in a 2-person group called The Dilly Dilly Duo  as well as single\, “Jammin’ with Jules”. She entertains  regularly at The Elks Lodge\, Tuacahn\, Kayenta\, St. George Senior Citizens Center\, Legacy\, Sterling Court\, and other venues. \nYou are welcome to bring a snack and/or beverage. Light snacks and non-alcoholic beverages will be available for sale. Join your friends as we celebrate the warmer weather with music and dancing. \nDoors open at 7pm \nTickets $15
URL:https://kayentaarts.org/event/sunday-night-all-right-with-julie-wright/
LOCATION:Center for the Arts at Kayenta
CATEGORIES:Community
ATTACH;FMTTYPE=image/png:https://kayentaarts.org/wp-content/uploads/2024/06/Copy-of-Website-Image-Date-Cards-9.png
ORGANIZER;CN="Center for the Arts at Kayenta":MAILTO:boxoffice@kayentaarts.com
END:VEVENT
BEGIN:VEVENT
DTSTART;TZID=UTC:20240628T193000
DTEND;TZID=UTC:20240628T213000
DTSTAMP:20260421T103347
CREATED:20240603T233800Z
LAST-MODIFIED:20240627T215203Z
UID:10005096-1719603000-1719610200@kayentaarts.org
SUMMARY:Tumbleweed Theatre presents Blamed: An Established Fiction
DESCRIPTION:THEATER / COMMUNITY\nTumbleweed Theatre presents\nBlamed: An Established Fiction\nby Callie Prendiville Johnson\nDirected by Aubrey Sanders and Brandon Bruce\nFriday 6/28 7:30pm\nSaturday 6/29 2:00pm and 7:30pm\nThe Lorraine Boccardo Theater\n“Blamed: An Established Fiction”\, by playwright Callie Prendiville Johnson\, is a captivating and thought-provoking play that explores the narratives of girls and women who have been unfairly blamed across history\, literature\, and mythology. Through the integration of text\, live music\, and dance\, these narratives are vividly brought to life\, offering audiences a powerful lens to examine societal attitudes and injustices. Don’t miss out on this enlightening and dynamic theatrical experience! \nThe Cast:\nAubrey Sanders\nBrookelyne Peterson\nCourtnee Ramos\nMercedes Murguia\nJaycie Montaño\nRylan Benson\nAddy Enslen \nThe Center for the Arts at Kayenta is proud to host local artists for this presentation. \nTickets $25
URL:https://kayentaarts.org/event/tumbleweed-theater-presents-blamed-an-established-fiction/
LOCATION:Center for the Arts at Kayenta
CATEGORIES:Community
ATTACH;FMTTYPE=image/png:https://kayentaarts.org/wp-content/uploads/2024/05/Copy-of-Website-Image-Date-Cards-27.png
ORGANIZER;CN="Center for the Arts at Kayenta":MAILTO:boxoffice@kayentaarts.com
END:VEVENT
BEGIN:VEVENT
DTSTART;TZID=UTC:20240629T140000
DTEND;TZID=UTC:20240629T160000
DTSTAMP:20260421T103347
CREATED:20240603T234018Z
LAST-MODIFIED:20240627T215255Z
UID:10005097-1719669600-1719676800@kayentaarts.org
SUMMARY:Tumbleweed Theatre presents Blamed: An Established Fiction
DESCRIPTION:THEATER / COMMUNITY\nTumbleweed Theatre presents\nBlamed: An Established Fiction\nby Callie Prendiville Johnson\nDirected by Aubrey Sanders and Brandon Bruce\nFriday 6/28 7:30pm\nSaturday 6/29 2:00pm and 7:30pm\nThe Lorraine Boccardo Theater\n“Blamed: An Established Fiction”\, by playwright Callie Prendiville Johnson\, is a captivating and thought-provoking play that explores the narratives of girls and women who have been unfairly blamed across history\, literature\, and mythology. Through the integration of text\, live music\, and dance\, these narratives are vividly brought to life\, offering audiences a powerful lens to examine societal attitudes and injustices. Don’t miss out on this enlightening and dynamic theatrical experience! \nThe Cast:\nAubrey Sanders\nBrookelyne Peterson\nCourtnee Ramos\nMercedes Murguia\nJaycie Montaño\nRylan Benson\nAddy Enslen \nThe Center for the Arts at Kayenta is proud to host local artists for this presentation. \nTickets $25
URL:https://kayentaarts.org/event/tumbleweed-theater-presents-blamed-an-established-fiction-2/
LOCATION:Center for the Arts at Kayenta
CATEGORIES:Community
ATTACH;FMTTYPE=image/png:https://kayentaarts.org/wp-content/uploads/2024/05/Copy-of-Website-Image-Date-Cards-27.png
ORGANIZER;CN="Center for the Arts at Kayenta":MAILTO:boxoffice@kayentaarts.com
END:VEVENT
BEGIN:VEVENT
DTSTART;TZID=UTC:20240629T193000
DTEND;TZID=UTC:20240629T213000
DTSTAMP:20260421T103347
CREATED:20240603T234459Z
LAST-MODIFIED:20240627T215351Z
UID:10005098-1719689400-1719696600@kayentaarts.org
SUMMARY:Tumbleweed Theatre presents Blamed: An Established Fiction
DESCRIPTION:THEATER / COMMUNITY\nTumbleweed Theatre presents\nBlamed: An Established Fiction\nby Callie Prendiville Johnson\nDirected by Aubrey Sanders and Brandon Bruce\nFriday 6/28 7:30pm\nSaturday 6/29 2:00pm and 7:30pm\nThe Lorraine Boccardo Theater\n“Blamed: An Established Fiction”\, by playwright Callie Prendiville Johnson\, is a captivating and thought-provoking play that explores the narratives of girls and women who have been unfairly blamed across history\, literature\, and mythology. Through the integration of text\, live music\, and dance\, these narratives are vividly brought to life\, offering audiences a powerful lens to examine societal attitudes and injustices. Don’t miss out on this enlightening and dynamic theatrical experience! \nThe Cast:\nAubrey Sanders\nBrookelyne Peterson\nCourtnee Ramos\nMercedes Murguia\nJaycie Montaño\nRylan Benson\nAddy Enslen \nThe Center for the Arts at Kayenta is proud to host local artists for this presentation. \nTickets $25
URL:https://kayentaarts.org/event/tumbleweed-theater-presents-blamed-an-established-fiction-3/
LOCATION:Center for the Arts at Kayenta
CATEGORIES:Community
ATTACH;FMTTYPE=image/png:https://kayentaarts.org/wp-content/uploads/2024/05/Copy-of-Website-Image-Date-Cards-27.png
ORGANIZER;CN="Center for the Arts at Kayenta":MAILTO:boxoffice@kayentaarts.com
END:VEVENT
END:VCALENDAR